BEGIN:VCALENDAR
VERSION:2.0
PRODID:-//Haltern-Online.de - ECPv6.15.20//NONSGML v1.0//EN
CALSCALE:GREGORIAN
METHOD:PUBLISH
X-WR-CALNAME:Haltern-Online.de
X-ORIGINAL-URL:https://haltern-online.de
X-WR-CALDESC:Veranstaltungen für Haltern-Online.de
REFRESH-INTERVAL;VALUE=DURATION:PT1H
X-Robots-Tag:noindex
X-PUBLISHED-TTL:PT1H
BEGIN:VTIMEZONE
TZID:Europe/Berlin
BEGIN:DAYLIGHT
TZOFFSETFROM:+0100
TZOFFSETTO:+0200
TZNAME:CEST
DTSTART:20230326T010000
END:DAYLIGHT
BEGIN:STANDARD
TZOFFSETFROM:+0200
TZOFFSETTO:+0100
TZNAME:CET
DTSTART:20231029T010000
END:STANDARD
BEGIN:DAYLIGHT
TZOFFSETFROM:+0100
TZOFFSETTO:+0200
TZNAME:CEST
DTSTART:20240331T010000
END:DAYLIGHT
BEGIN:STANDARD
TZOFFSETFROM:+0200
TZOFFSETTO:+0100
TZNAME:CET
DTSTART:20241027T010000
END:STANDARD
BEGIN:DAYLIGHT
TZOFFSETFROM:+0100
TZOFFSETTO:+0200
TZNAME:CEST
DTSTART:20250330T010000
END:DAYLIGHT
BEGIN:STANDARD
TZOFFSETFROM:+0200
TZOFFSETTO:+0100
TZNAME:CET
DTSTART:20251026T010000
END:STANDARD
BEGIN:DAYLIGHT
TZOFFSETFROM:+0100
TZOFFSETTO:+0200
TZNAME:CEST
DTSTART:20260329T010000
END:DAYLIGHT
BEGIN:STANDARD
TZOFFSETFROM:+0200
TZOFFSETTO:+0100
TZNAME:CET
DTSTART:20261025T010000
END:STANDARD
END:VTIMEZONE
BEGIN:VEVENT
DTSTART;TZID=Europe/Berlin:20250409T160000
DTEND;TZID=Europe/Berlin:20250409T160000
DTSTAMP:20260420T122150
CREATED:20250313T111552Z
LAST-MODIFIED:20250313T111612Z
UID:10000228-1744214400-1744214400@haltern-online.de
SUMMARY:Bilderbuchkino mit Andrea
DESCRIPTION:Datum & Uhrzeit: Mittwoch\, 9. April 2025\, 16:00 UhrOrt: Stadtbücherei Haltern am SeeKosten: KostenlosAnmeldung: Online erforderlich\, möglich ab dem 1. April \nBeim Bilderbuchkino erleben Kinder ab 4 Jahren spannende Geschichten auf großer Leinwand. Diesmal steht „Mascha\, das Betrügerhuhn“ auf dem Programm. Nach dem Vorlesen gibt es eine kreative Bastelaktion. Eine unterhaltsame Veranstaltung für kleine Bücherfreunde! \nMehr Infos & Anmeldung \nFotoquelle: Canva
URL:https://haltern-online.de/event/bilderbuchkino-mit-andrea/
LOCATION:Stadtbücherei Haltern am See\, Lavesumer Str. 1g\, Haltern am See\, Nordrhein-Westfalen\, 45721\, Germany
CATEGORIES:Kinderfreundlich
ATTACH;FMTTYPE=image/jpeg:https://haltern-online.de/wp-content/uploads/2024/10/Buecherei.jpg
ORGANIZER;CN="Stadtb%C3%BCcherei Haltern am See":MAILTO:stadtbuecherei@haltern.de
END:VEVENT
BEGIN:VEVENT
DTSTART;TZID=Europe/Berlin:20250301T110000
DTEND;TZID=Europe/Berlin:20250301T120000
DTSTAMP:20260420T122150
CREATED:20250216T105926Z
LAST-MODIFIED:20250216T105926Z
UID:10000215-1740826800-1740830400@haltern-online.de
SUMMARY:Mein Papa liest vor…in der Stadtbücherei Haltern
DESCRIPTION:Andreas Stegemann liest „Karneval im Hühnerstall“…\n..am Samstag den 01.03.2025 von 11:00 Uhr – 12:00 Uhr in der Stadtbücherei Haltern am See. \nFür Kinder ab 4 Jahren\, die Spaß am Vorlesen und Basteln haben. \nDie Veranstaltungen sind kostenfrei. Eine Anmeldung ist online erforderlich.
URL:https://haltern-online.de/event/mein-papa-liest-vorin-der-stadtbuecherei-haltern/
LOCATION:Stadtbücherei Haltern am See\, Lavesumer Str. 1g\, Haltern am See\, Nordrhein-Westfalen\, 45721\, Germany
CATEGORIES:Kinderfreundlich,Lesung / Vortrag
ATTACH;FMTTYPE=image/jpeg:https://haltern-online.de/wp-content/uploads/2024/10/Buchhandlung.jpg
ORGANIZER;CN="Stadtb%C3%BCcherei Haltern am See":MAILTO:stadtbuecherei@haltern.de
END:VEVENT
BEGIN:VEVENT
DTSTART;TZID=Europe/Berlin:20241217T160000
DTEND;TZID=Europe/Berlin:20241217T170000
DTSTAMP:20260420T122150
CREATED:20241124T132931Z
LAST-MODIFIED:20241124T132931Z
UID:10000133-1734451200-1734454800@haltern-online.de
SUMMARY:Kamishibai mit Marina "Das Wichtigste an Weihnachten"
DESCRIPTION:Kamishibai mit Marina am 17.12.2024 von 16:00 Uhr bis 17:00 Uhr in der Stadtbücherei Haltern am See. Heutiges Thema: „Das Wichtigste an Weihnachten“. \nFür Kinder ab 4 Jahren\, die Spaß am Vorlesen und Basteln haben. Die Veranstaltung ist kostenfrei. Eine Anmeldung online ist erforderlich.
URL:https://haltern-online.de/event/kamishibai-mit-marina-das-wichtigste-an-weihnachten/
LOCATION:Stadtbücherei Haltern am See\, Lavesumer Str. 1g\, Haltern am See\, Nordrhein-Westfalen\, 45721\, Germany
CATEGORIES:Kinderfreundlich
ATTACH;FMTTYPE=image/jpeg:https://haltern-online.de/wp-content/uploads/2024/10/Buecherei.jpg
ORGANIZER;CN="Stadtb%C3%BCcherei Haltern am See":MAILTO:stadtbuecherei@haltern.de
END:VEVENT
BEGIN:VEVENT
DTSTART;TZID=Europe/Berlin:20241214T110000
DTEND;TZID=Europe/Berlin:20241214T120000
DTSTAMP:20260420T122150
CREATED:20241124T133512Z
LAST-MODIFIED:20241124T133512Z
UID:10000134-1734174000-1734177600@haltern-online.de
SUMMARY:Mein Papa liest vor..in der Stadtbücherei "Wer hat Weihnachten geklaut?“
DESCRIPTION:Mein Papa liest vor…in der Stadtbücherei am Samstag den 14.12.2024 von 11:00 Uhr bis 12:00 Uhr. Es liest Martin Rennemeier „Wer hat Weihnachten geklaut?“ \nFür Kinder ab 4 Jahren\, die Spaß am Vorlesen und Basteln haben. Die Veranstaltung ist kostenfrei. Eine Anmeldung online ist erforderlich.
URL:https://haltern-online.de/event/mein-papa-liest-vor-in-der-stadtbuecherei-wer-hat-weihnachten-geklaut/
LOCATION:Stadtbücherei Haltern am See\, Lavesumer Str. 1g\, Haltern am See\, Nordrhein-Westfalen\, 45721\, Germany
CATEGORIES:Kinderfreundlich
ATTACH;FMTTYPE=image/jpeg:https://haltern-online.de/wp-content/uploads/2024/10/Buecherei.jpg
ORGANIZER;CN="Stadtb%C3%BCcherei Haltern am See":MAILTO:stadtbuecherei@haltern.de
END:VEVENT
BEGIN:VEVENT
DTSTART;TZID=Europe/Berlin:20241126T193000
DTEND;TZID=Europe/Berlin:20241126T193000
DTSTAMP:20260420T122150
CREATED:20241009T144905Z
LAST-MODIFIED:20241009T144916Z
UID:10000026-1732649400-1732649400@haltern-online.de
SUMMARY:Vortrag: ''Und plötzlich war ich im Stasiknast''
DESCRIPTION:Am 26. November 2024 lädt die Stadtbücherei Haltern am See zu einem fesselnden Vortrag von Lutz Pörner ein. \nUnter dem Titel „Und plötzlich war ich im Stasiknast“ berichtet Pörner von seinen persönlichen Erfahrungen in der DDR und der Stasi. Der Autor und Zeitzeuge gewährt einen eindrucksvollen Einblick in die Repression und den Alltag in der ehemaligen DDR. \nTickets findet ihr hier: https://pretix.eu/stadtbuecherei/poerner24/
URL:https://haltern-online.de/event/vortrag-und-ploetzlich-war-ich-im-stasiknast/
LOCATION:Stadtbücherei Haltern am See\, Lavesumer Str. 1g\, Haltern am See\, Nordrhein-Westfalen\, 45721\, Germany
CATEGORIES:Kultur
ATTACH;FMTTYPE=image/jpeg:https://haltern-online.de/wp-content/uploads/2024/10/Buecherei.jpg
END:VEVENT
BEGIN:VEVENT
DTSTART;TZID=Europe/Berlin:20241116T110000
DTEND;TZID=Europe/Berlin:20241116T120000
DTSTAMP:20260420T122150
CREATED:20241107T185815Z
LAST-MODIFIED:20241107T190802Z
UID:10000079-1731754800-1731758400@haltern-online.de
SUMMARY:Mein Papa liest vor…in der Stadtbücherei "Das Nashorn"
DESCRIPTION:Mein Papa liest vor…in der Stadtbücherei – Andreas Höwedes liest „Das Nashorn“. \nFür Kinder ab 4 Jahren\, die Spaß am Vorlesen und Basteln haben. \nDie Veranstaltung ist kostenfrei – eine Anmeldung ist online erforderlich.
URL:https://haltern-online.de/event/mein-papa-liest-vorin-der-stadtbuecherei-das-nashorn/
LOCATION:Stadtbücherei Haltern am See\, Lavesumer Str. 1g\, Haltern am See\, Nordrhein-Westfalen\, 45721\, Germany
CATEGORIES:Kinderfreundlich,Lesung / Vortrag
ATTACH;FMTTYPE=image/jpeg:https://haltern-online.de/wp-content/uploads/2024/10/Buecherei.jpg
ORGANIZER;CN="Stadtb%C3%BCcherei Haltern am See":MAILTO:stadtbuecherei@haltern.de
END:VEVENT
BEGIN:VEVENT
DTSTART;TZID=Europe/Berlin:20241112T160000
DTEND;TZID=Europe/Berlin:20241112T170000
DTSTAMP:20260420T122150
CREATED:20241107T185759Z
LAST-MODIFIED:20241107T190838Z
UID:10000072-1731427200-1731430800@haltern-online.de
SUMMARY:Kamishaibai in der Stadtbücherei Haltern am See
DESCRIPTION:Kamishaibai mit Marina „Die kleine Schusselhexe“ am 12. November 2024 von 16:00 Uhr bis 17:00 Uhr in der Stadtbücherei Haltern am See. \nFür Kinder ab 4 Jahren\, die Spaß am Vorlesen und Basteln haben. \nDie Veranstaltung ist kostenfrei\, eine Anmeldung ist online erforderlich.
URL:https://haltern-online.de/event/kamishaibai-in-der-stadtbuecherei-haltern-am-see/
LOCATION:Stadtbücherei Haltern am See\, Lavesumer Str. 1g\, Haltern am See\, Nordrhein-Westfalen\, 45721\, Germany
CATEGORIES:Hobby,Kinderfreundlich
ATTACH;FMTTYPE=image/jpeg:https://haltern-online.de/wp-content/uploads/2024/10/Buecherei.jpg
ORGANIZER;CN="Stadtb%C3%BCcherei Haltern am See":MAILTO:stadtbuecherei@haltern.de
END:VEVENT
BEGIN:VEVENT
DTSTART;TZID=Europe/Berlin:20241109T110000
DTEND;TZID=Europe/Berlin:20241109T120000
DTSTAMP:20260420T122150
CREATED:20241107T185757Z
LAST-MODIFIED:20241107T190922Z
UID:10000071-1731150000-1731153600@haltern-online.de
SUMMARY:Mein Papa liest vor... in der Stadtbücherei Haltern am See
DESCRIPTION:Mein Papa liest vor… \nBernd Bröcker liest am 09. November 2024 von 11:00 Uhr bis 12:00 Uhr „Dr. Brumm steckt fest“ für Kinder ab 4 Jahren\, die Spaß am Vorlesen und Basteln haben. \nDie Veranstaltung ist kostenfrei\, eine Anmeldung ist online erforderlich.
URL:https://haltern-online.de/event/mein-papa-liest-vor-in-der-stadtbuecherei-haltern-am-see/
LOCATION:Stadtbücherei Haltern am See\, Lavesumer Str. 1g\, Haltern am See\, Nordrhein-Westfalen\, 45721\, Germany
CATEGORIES:Hobby,Kinderfreundlich
ATTACH;FMTTYPE=image/jpeg:https://haltern-online.de/wp-content/uploads/2024/10/Buecherei.jpg
ORGANIZER;CN="Stadtb%C3%BCcherei Haltern am See":MAILTO:stadtbuecherei@haltern.de
END:VEVENT
BEGIN:VEVENT
DTSTART;TZID=Europe/Berlin:20241107T193000
DTEND;TZID=Europe/Berlin:20241107T193000
DTSTAMP:20260420T122150
CREATED:20241008T122416Z
LAST-MODIFIED:20241008T144959Z
UID:10000014-1731007800-1731007800@haltern-online.de
SUMMARY:Lesung: Ich hatte gehofft\, wir können fliegen
DESCRIPTION:
URL:https://haltern-online.de/event/lesung-ich-hatte-gehofft-wir-koennen-fliegen/
LOCATION:Stadtbücherei Haltern am See\, Lavesumer Str. 1g\, Haltern am See\, Nordrhein-Westfalen\, 45721\, Germany
CATEGORIES:Kultur
ATTACH;FMTTYPE=image/jpeg:https://haltern-online.de/wp-content/uploads/2024/10/Buecherei.jpg
END:VEVENT
BEGIN:VEVENT
DTSTART;TZID=Europe/Berlin:20241106T160000
DTEND;TZID=Europe/Berlin:20241106T160000
DTSTAMP:20260420T122150
CREATED:20241107T185755Z
LAST-MODIFIED:20241107T190937Z
UID:10000132-1730908800-1730908800@haltern-online.de
SUMMARY:Stadtbücherei Bilderbuchkino „Fototag im Dinokindergarten“
DESCRIPTION:Das Bilderbuchkino mit Andrea „Fototag im Dinokindergarten“ am 06. November 2024 um 16:00 Uhr in der Stadtbücherei Haltern am See. \nFür Kinder ab 4 Jahren\, die Spaß am Vorlesen und Basteln haben. \nDie Veranstaltung ist kostenfrei\, eine Anmeldung ist online erforderlich.
URL:https://haltern-online.de/event/stadtbuecherei-bilderbuchkino-fototag-im-dinokindergarten/
LOCATION:Stadtbücherei Haltern am See\, Lavesumer Str. 1g\, Haltern am See\, Nordrhein-Westfalen\, 45721\, Germany
CATEGORIES:Hobby,Kinderfreundlich
ATTACH;FMTTYPE=image/jpeg:https://haltern-online.de/wp-content/uploads/2024/10/Buecherei.jpg
ORGANIZER;CN="Stadtb%C3%BCcherei Haltern am See":MAILTO:stadtbuecherei@haltern.de
END:VEVENT
END:VCALENDAR