BEGIN:VCALENDAR
VERSION:2.0
PRODID:-//Haltern-Online.de - ECPv6.15.20//NONSGML v1.0//EN
CALSCALE:GREGORIAN
METHOD:PUBLISH
X-ORIGINAL-URL:https://haltern-online.de
X-WR-CALDESC:Veranstaltungen für Haltern-Online.de
REFRESH-INTERVAL;VALUE=DURATION:PT1H
X-Robots-Tag:noindex
X-PUBLISHED-TTL:PT1H
BEGIN:VTIMEZONE
TZID:Europe/Berlin
BEGIN:DAYLIGHT
TZOFFSETFROM:+0100
TZOFFSETTO:+0200
TZNAME:CEST
DTSTART:20230326T010000
END:DAYLIGHT
BEGIN:STANDARD
TZOFFSETFROM:+0200
TZOFFSETTO:+0100
TZNAME:CET
DTSTART:20231029T010000
END:STANDARD
BEGIN:DAYLIGHT
TZOFFSETFROM:+0100
TZOFFSETTO:+0200
TZNAME:CEST
DTSTART:20240331T010000
END:DAYLIGHT
BEGIN:STANDARD
TZOFFSETFROM:+0200
TZOFFSETTO:+0100
TZNAME:CET
DTSTART:20241027T010000
END:STANDARD
BEGIN:DAYLIGHT
TZOFFSETFROM:+0100
TZOFFSETTO:+0200
TZNAME:CEST
DTSTART:20250330T010000
END:DAYLIGHT
BEGIN:STANDARD
TZOFFSETFROM:+0200
TZOFFSETTO:+0100
TZNAME:CET
DTSTART:20251026T010000
END:STANDARD
END:VTIMEZONE
BEGIN:VEVENT
DTSTART;TZID=Europe/Berlin:20241123T190000
DTEND;TZID=Europe/Berlin:20241123T190000
DTSTAMP:20260420T195317
CREATED:20241009T140215Z
LAST-MODIFIED:20241009T140934Z
UID:10000025-1732388400-1732388400@haltern-online.de
SUMMARY:Winterkonzert 2024
DESCRIPTION:Das Winterkonzert 2024 in Haltern am See verspricht ein festliches musikalisches Erlebnis für alle Besucher. Am 23. November 2024 werden talentierte Musiker und Ensembles in der malerischen Kulisse der St. Antonius-Kirche auftreten. Das Programm umfasst eine abwechslungsreiche Mischung aus klassischen und modernen Wintermelodien\, die die besinnliche Atmosphäre der Jahreszeit widerspiegeln. \nBesucher können sich auf stimmungsvolle Darbietungen freuen\, die von der lokalen Musikszene und eingeladenen Gästen präsentiert werden. Neben der Musik gibt es auch Gelegenheit\, die winterliche Gemütlichkeit bei warmen Getränken und Snacks zu genießen. \nTickets bekommt ihr in der Buchhandlung Kortenkamp.
URL:https://haltern-online.de/event/winterkonzert-2024/
LOCATION:St.-Antonius-Kirche\, Gildenstraße 22\, Haltern am See\, Nordrhein-Westfalen\, 45721\, Germany
CATEGORIES:Konzert,Kultur
ATTACH;FMTTYPE=image/jpeg:https://haltern-online.de/wp-content/uploads/2024/10/Winterkonzert.jpg
END:VEVENT
END:VCALENDAR