BEGIN:VCALENDAR
VERSION:2.0
PRODID:-//Haltern-Online.de - ECPv6.15.20//NONSGML v1.0//EN
CALSCALE:GREGORIAN
METHOD:PUBLISH
X-ORIGINAL-URL:https://haltern-online.de
X-WR-CALDESC:Veranstaltungen für Haltern-Online.de
REFRESH-INTERVAL;VALUE=DURATION:PT1H
X-Robots-Tag:noindex
X-PUBLISHED-TTL:PT1H
BEGIN:VTIMEZONE
TZID:Europe/Berlin
BEGIN:DAYLIGHT
TZOFFSETFROM:+0100
TZOFFSETTO:+0200
TZNAME:CEST
DTSTART:20240331T010000
END:DAYLIGHT
BEGIN:STANDARD
TZOFFSETFROM:+0200
TZOFFSETTO:+0100
TZNAME:CET
DTSTART:20241027T010000
END:STANDARD
BEGIN:DAYLIGHT
TZOFFSETFROM:+0100
TZOFFSETTO:+0200
TZNAME:CEST
DTSTART:20250330T010000
END:DAYLIGHT
BEGIN:STANDARD
TZOFFSETFROM:+0200
TZOFFSETTO:+0100
TZNAME:CET
DTSTART:20251026T010000
END:STANDARD
BEGIN:DAYLIGHT
TZOFFSETFROM:+0100
TZOFFSETTO:+0200
TZNAME:CEST
DTSTART:20260329T010000
END:DAYLIGHT
BEGIN:STANDARD
TZOFFSETFROM:+0200
TZOFFSETTO:+0100
TZNAME:CET
DTSTART:20261025T010000
END:STANDARD
END:VTIMEZONE
BEGIN:VEVENT
DTSTART;TZID=Europe/Berlin:20250620T000000
DTEND;TZID=Europe/Berlin:20250623T000000
DTSTAMP:20260420T104734
CREATED:20241217T094631Z
LAST-MODIFIED:20250620T081958Z
UID:10000181-1750377600-1750636800@haltern-online.de
SUMMARY:Schützenfest der Schützengilde Haltern
DESCRIPTION:Zum ersten Mal findet das Schützenfest der Schützengilde Haltern im zentral gelegenen Kardinal-Graf-von-Galen-Park statt. Besucher erwartet ein abwechslungsreiches Programm mit Live-Musik\, Vogelschießen\, Festumzügen und einem Konzert von Mickie Krause. \nFreitag\, 20. Juni 2025🕠 17:30 Uhr – Einlass🕖 19:00 Uhr – Beginn Festball mit 6th Avenue🎤 19:45 Uhr – Live-Auftritt Mickie Krause🎶 21:00 Uhr – Partyband 6th Avenue \nSamstag\, 21. Juni 2025🥁 14:00 Uhr – Sternmarsch der Musikzüge vom Alten Markt✝️ 15:00 Uhr – Gottesdienst in der St. Sixtus Kirche🕯️ 16:10 Uhr – Totengedenkfeier am Ehrenmal👑 20:00 Uhr – Königsball im Festzelt mit 6th Avenue \nSonntag\, 22. Juni 2025🚶‍♂️ 12:00 Uhr – Parade auf dem Alten Markt🥳 14:30 Uhr – Festumzug durch die Innenstadt🎯 16:00 Uhr – Vogelschießen & Proklamation des neuen Königs🎉 20:00 Uhr – Krönungsball im Festzelt mit 6th Avenue \nMontag\, 23. Juni 2025🎺 11:30 Uhr – Platzkonzert vor dem Neuen Rathaus🚩 14:15 Uhr – Abmarsch zum Alten Markt⚔️ anschließend – Festumzug mit „Sturm auf die Schanzen“🎧 19:00 Uhr – Festball mit Kult-DJ Hansi aus Haltern \n👥 Mitwirkende Gruppen:– 1. Landsknecht-Fanfarenkorps Haltern– Freiwillige Feuerwehr Flaesheim– Schützenkapelle Rhade– Hullener Blasorchester– „In Treue fest“ Haltern– „Blau-Weiß-Sythen“ Haltern– 6th Avenue \n \nMehr von der Schützengilde Haltern:\nSchützengilde Haltern: Premiere im Park – Haltern-Online.de \nTradition trifft Wettbewerb: Haltern sucht seinen neuen Kaiser – Haltern-Online.de
URL:https://haltern-online.de/event/schuetzenfest-haltern/
LOCATION:Schützengilde Festzelt\,  Dr.-Conrads-Straße 1\, Haltern am See\, Nordrhein-Westfalen\, 45721\, Germany
CATEGORIES:Schützenfest
ATTACH;FMTTYPE=image/jpeg:https://haltern-online.de/wp-content/uploads/2024/12/Titelbild-Kalender-Schuetzenfest-Haltern-2025.jpg
ORGANIZER;CN="Sch%C3%BCtzengilde Haltern":MAILTO:praesident@schuetzengilde-haltern.de
END:VEVENT
END:VCALENDAR