BEGIN:VCALENDAR
VERSION:2.0
PRODID:-//Haltern-Online.de - ECPv6.15.20//NONSGML v1.0//EN
CALSCALE:GREGORIAN
METHOD:PUBLISH
X-WR-CALNAME:Haltern-Online.de
X-ORIGINAL-URL:https://haltern-online.de
X-WR-CALDESC:Veranstaltungen für Haltern-Online.de
REFRESH-INTERVAL;VALUE=DURATION:PT1H
X-Robots-Tag:noindex
X-PUBLISHED-TTL:PT1H
BEGIN:VTIMEZONE
TZID:Europe/Berlin
BEGIN:DAYLIGHT
TZOFFSETFROM:+0100
TZOFFSETTO:+0200
TZNAME:CEST
DTSTART:20230326T010000
END:DAYLIGHT
BEGIN:STANDARD
TZOFFSETFROM:+0200
TZOFFSETTO:+0100
TZNAME:CET
DTSTART:20231029T010000
END:STANDARD
BEGIN:DAYLIGHT
TZOFFSETFROM:+0100
TZOFFSETTO:+0200
TZNAME:CEST
DTSTART:20240331T010000
END:DAYLIGHT
BEGIN:STANDARD
TZOFFSETFROM:+0200
TZOFFSETTO:+0100
TZNAME:CET
DTSTART:20241027T010000
END:STANDARD
BEGIN:DAYLIGHT
TZOFFSETFROM:+0100
TZOFFSETTO:+0200
TZNAME:CEST
DTSTART:20250330T010000
END:DAYLIGHT
BEGIN:STANDARD
TZOFFSETFROM:+0200
TZOFFSETTO:+0100
TZNAME:CET
DTSTART:20251026T010000
END:STANDARD
BEGIN:DAYLIGHT
TZOFFSETFROM:+0100
TZOFFSETTO:+0200
TZNAME:CEST
DTSTART:20260329T010000
END:DAYLIGHT
BEGIN:STANDARD
TZOFFSETFROM:+0200
TZOFFSETTO:+0100
TZNAME:CET
DTSTART:20261025T010000
END:STANDARD
END:VTIMEZONE
BEGIN:VEVENT
DTSTART;TZID=Europe/Berlin:20251129T200000
DTEND;TZID=Europe/Berlin:20251129T230000
DTSTAMP:20260420T104416
CREATED:20251028T152753Z
LAST-MODIFIED:20251028T152753Z
UID:10000380-1764446400-1764457200@haltern-online.de
SUMMARY:Sustained Fire & Wildheart – Rockkonzert in der Schänke Haltern
DESCRIPTION:Zwei Bands\, ein Abend: Gitarrenpower und gute Stimmung bei freiem Eintritt \nAm Samstag\, 29. November 2025\, heißt es wieder Rock pur in der Schänke Haltern: Ab 20:00 Uhr stehen Sustained Fire und Wildheart auf der Bühne und bringen das Haus zum Beben – mit kraftvollem Sound\, druckvollen Riffs und viel Leidenschaft für handgemachte Musik. \nDer Eintritt ist frei – wer Rock liebt\, sollte diesen Abend nicht verpassen. \nFoto: Frank Schürmann
URL:https://haltern-online.de/event/sustained-fire-wildheart-rockkonzert-in-der-schaenke-haltern/
LOCATION:Schänke\, Lippstraße 36\, Haltern am See\, Nordrhein-Westfalen\, 45721\, Germany
CATEGORIES:Konzert
ATTACH;FMTTYPE=image/jpeg:https://haltern-online.de/wp-content/uploads/2025/10/Schaenke-Haltern-Kopfbild.jpg
ORGANIZER;CN="Sch%C3%A4nke":MAILTO:schaenkehaltern@outlook.de
END:VEVENT
BEGIN:VEVENT
DTSTART;TZID=Europe/Berlin:20251122T200000
DTEND;TZID=Europe/Berlin:20251122T230000
DTSTAMP:20260420T104416
CREATED:20251028T152233Z
LAST-MODIFIED:20251028T152233Z
UID:10000379-1763841600-1763852400@haltern-online.de
SUMMARY:Captain Twang feat. Franz & Nils – Rockkonzert in der Schänke
DESCRIPTION:Surf-Rock\, Twang-Gitarre und gute Laune bei freiem Eintritt \nAm Samstag\, 22. November 2025\, um 20:00 Uhr wird es wieder laut und lässig in der Schänke Haltern: Captain Twang steht mit Franz & Nils auf der Bühne – und bringt jede Menge Rock’n’Roll\, Surf-Elemente und instrumentalen Twang-Sound mit. \nDas Trio liefert handgemachte Musik mit Ecken\, Kanten und einer ordentlichen Portion Humor. Fans von ehrlicher Gitarrenmusik dürfen sich auf ein energiegeladenes Live-Set freuen – stilecht und ohne Schnörkel. Das Beste: Der Eintritt ist frei! \nFoto: Frank Schürmann
URL:https://haltern-online.de/event/captain-twang-feat-franz-nils-rockkonzert-in-der-schaenke/
LOCATION:Schänke\, Lippstraße 36\, Haltern am See\, Nordrhein-Westfalen\, 45721\, Germany
CATEGORIES:Konzert
ATTACH;FMTTYPE=image/jpeg:https://haltern-online.de/wp-content/uploads/2025/10/Schaenke-Haltern-Kopfbild.jpg
ORGANIZER;CN="Sch%C3%A4nke":MAILTO:schaenkehaltern@outlook.de
END:VEVENT
BEGIN:VEVENT
DTSTART;TZID=Europe/Berlin:20251031T213000
DTEND;TZID=Europe/Berlin:20251031T213000
DTSTAMP:20260420T104416
CREATED:20251006T150028Z
LAST-MODIFIED:20251006T150637Z
UID:10000349-1761946200-1761946200@haltern-online.de
SUMMARY:Halloweenparty 2025 – Live mit Straight On!
DESCRIPTION:Gruselig gut feiern: Am Freitag\, den 31. Oktober 2025\, verwandelt sich die Schänke Haltern zur Bühne für eine schaurig-schöne Partynacht – und das bei freiem Eintritt! \nAb 21:30 Uhr heizt die Band Straight On! mit energiegeladener Livemusik ein. Egal ob im Kostüm oder ohne – hier wird getanzt\, gerockt und gefeiert bis tief in die Nacht. \nWer Lust auf ausgelassene Stimmung\, kühle Drinks und gute Musik hat\, ist bei der Halloweenparty 2025 genau richtig!
URL:https://haltern-online.de/event/halloweenparty-2025-live-mit-straight-on/
LOCATION:Schänke\, Lippstraße 36\, Haltern am See\, Nordrhein-Westfalen\, 45721\, Germany
CATEGORIES:Konzert
ATTACH;FMTTYPE=image/jpeg:https://haltern-online.de/wp-content/uploads/2024/10/Halloween-Party.jpg
ORGANIZER;CN="Sch%C3%A4nke":MAILTO:schaenkehaltern@outlook.de
END:VEVENT
BEGIN:VEVENT
DTSTART;TZID=Europe/Berlin:20251023T200000
DTEND;TZID=Europe/Berlin:20251023T200000
DTSTAMP:20260420T104416
CREATED:20251006T145647Z
LAST-MODIFIED:20251006T145709Z
UID:10000348-1761249600-1761249600@haltern-online.de
SUMMARY:Akustiknacht mit Frink
DESCRIPTION:Im Rahmen der beliebten Akustiknacht in der Schänke Haltern sorgt die Band Frink am Donnerstag\, 23. Oktober\, für einen stimmungsvollen Abend mit handgemachter Musik. \nMit einem akustischen Set präsentiert Frink eigene Songs und besondere Interpretationen – mal ruhig\, mal kraftvoll\, aber immer mit Gefühl und Nähe zum Publikum. \nDie Veranstaltung wird in Kooperation von Rockbüro Haltern und der Schänke Haltern durchgeführt. Der Eintritt ist wie immer frei!
URL:https://haltern-online.de/event/akustiknacht-mit-frink/
LOCATION:Schänke\, Lippstraße 36\, Haltern am See\, Nordrhein-Westfalen\, 45721\, Germany
CATEGORIES:Konzert
ATTACH;FMTTYPE=image/jpeg:https://haltern-online.de/wp-content/uploads/2025/10/rathaus-haltern-1.jpg
ORGANIZER;CN="Sch%C3%A4nke":MAILTO:schaenkehaltern@outlook.de
END:VEVENT
BEGIN:VEVENT
DTSTART;TZID=Europe/Berlin:20251018T200000
DTEND;TZID=Europe/Berlin:20251018T200000
DTSTAMP:20260420T104416
CREATED:20251006T144952Z
LAST-MODIFIED:20251006T145032Z
UID:10000347-1760817600-1760817600@haltern-online.de
SUMMARY:Shaky Brothers & Boon Companion live
DESCRIPTION:Zwei Bands – ein Abend voller handgemachter Rockmusik: Am Samstag\, 18. Oktober 2025\, verwandelt sich die Schänke Haltern wieder in eine echte Rockbühne. \nAb 20 Uhr sorgen die Shaky Brothers und Boon Companion für beste Stimmung. Beide Bands stehen für ehrlichen Coverrock mit Energie\, Spielfreude und jeder Menge Leidenschaft. \nOb Klassiker oder überraschende Interpretationen – hier kommen Rockfans auf ihre Kosten. Der Eintritt ist wie immer frei\, also früh kommen und einen Platz sichern! \nFoto: Canva
URL:https://haltern-online.de/event/shaky-brothers-boon-companion-live/
LOCATION:Schänke\, Lippstraße 36\, Haltern am See\, Nordrhein-Westfalen\, 45721\, Germany
CATEGORIES:Konzert
ATTACH;FMTTYPE=image/jpeg:https://haltern-online.de/wp-content/uploads/2025/10/rathaus-haltern-1.jpg
ORGANIZER;CN="Sch%C3%A4nke":MAILTO:schaenkehaltern@outlook.de
END:VEVENT
BEGIN:VEVENT
DTSTART;TZID=Europe/Berlin:20251011T200000
DTEND;TZID=Europe/Berlin:20251011T200000
DTSTAMP:20260420T104416
CREATED:20251006T144027Z
LAST-MODIFIED:20251006T144539Z
UID:10000346-1760212800-1760212800@haltern-online.de
SUMMARY:Stefan Keil live in der Schänke Haltern
DESCRIPTION:Live-Musik in Wohnzimmeratmosphäre: Stefan Keil bringt am Samstag\, 11. Oktober 2025\, ab 20 Uhr seine Gitarre und jede Menge Gefühl auf die Bühne der Schänke Haltern. \nEr präsentiert ein vielseitiges Rockprogramm mit handgemachter Musik\, klarer Stimme und starker Bühnenpräsenz. Dabei entsteht ein direkter Draht zum Publikum – nahbar\, ehrlich\, musikalisch überzeugend. \nDer Eintritt ist frei\, die Plätze sind begrenzt – also am besten früh da sein und den Abend mit guter Musik genießen!
URL:https://haltern-online.de/event/stefan-keil-live-in-der-schaenke-haltern/
LOCATION:Schänke\, Lippstraße 36\, Haltern am See\, Nordrhein-Westfalen\, 45721\, Germany
CATEGORIES:Konzert
ATTACH;FMTTYPE=image/jpeg:https://haltern-online.de/wp-content/uploads/2025/10/rathaus-haltern-1.jpg
ORGANIZER;CN="Sch%C3%A4nke":MAILTO:schaenkehaltern@outlook.de
END:VEVENT
BEGIN:VEVENT
DTSTART;TZID=Europe/Berlin:20250927T210000
DTEND;TZID=Europe/Berlin:20250927T210000
DTSTAMP:20260420T104416
CREATED:20250919T150850Z
LAST-MODIFIED:20250919T150917Z
UID:10000332-1759006800-1759006800@haltern-online.de
SUMMARY:Crossfire-Party mit Heiko Taschke in der Schänke Haltern
DESCRIPTION:Rock\, Stimmung und jede Menge Energie – live in Haltern! \nAm Samstagabend\, 27. September\, steigt ab 21 Uhr die Crossfire-Party in der Schänke Haltern. \nMit dabei: Heiko Taschke\, bekannt für seine energiegeladene Performance und stimmungsvolle Musikmischung zwischen Rock\, Classic und Party-Sound. \nDie Veranstaltung wird vom Rockbüro Haltern organisiert und lädt Musikfans aller Altersgruppen zu einem ausgelassenen Abend mit guter Musik und lockerer Atmosphäre ein. Der Eintritt ist frei – über eine Spende freut sich das Team vor Ort. \nOb mit Freunden\, Partner oder solo: Wer Lust auf einen rockigen Abend hat\, ist hier genau richtig.
URL:https://haltern-online.de/event/crossfire-party-mit-heiko-taschke-in-der-schaenke-haltern/
LOCATION:Schänke\, Lippstraße 36\, Haltern am See\, Nordrhein-Westfalen\, 45721\, Germany
CATEGORIES:Party
ATTACH;FMTTYPE=image/jpeg:https://haltern-online.de/wp-content/uploads/2025/09/crossfire-party-haltern.jpg
ORGANIZER;CN="Sch%C3%A4nke":MAILTO:schaenkehaltern@outlook.de
END:VEVENT
BEGIN:VEVENT
DTSTART;TZID=Europe/Berlin:20250508T200000
DTEND;TZID=Europe/Berlin:20250508T200000
DTSTAMP:20260420T104416
CREATED:20250409T134003Z
LAST-MODIFIED:20250409T134117Z
UID:10000243-1746734400-1746734400@haltern-online.de
SUMMARY:Akustiknacht in der Schänke Haltern mit Red at Night & Marc-Alan Prince
DESCRIPTION:Akustische Gitarren\, rauer Punkrock und internationale Gäste: Am Donnerstag\, den 8. Mai 2025\, wird es in der Schänke Haltern laut und zugleich unplugged. \nBei der beliebten Akustiknacht treten ab 20:00 Uhr gleich zwei besondere Acts auf: Red at Night aus Deutschland und Marc-Alan Prince aus den USA. \nDie beiden Musiker sind im Rahmen ihrer Europa-Tour unterwegs\, die sie durch acht Länder führt. Im Gepäck haben sie ihr neues\, gemeinsames Live-Album Deep In The Heart of Texas\, das exklusiv auf Vinyl erhältlich ist. Fans dürfen sich auf einen energiegeladenen Abend mit ehrlichem Akustik-Punkrock freuen. \nDer Eintritt ist frei\, eine Spende für die Künstler ist jedoch ausdrücklich erwünscht. Vinyl-Fans aufgepasst: Die neue Platte gibt’s direkt vor Ort! \nFoto: Red At Night
URL:https://haltern-online.de/event/akustiknacht-in-der-schaenke-haltern-mit-red-at-night-marc-alan-prince/
LOCATION:Schänke\, Lippstraße 36\, Haltern am See\, Nordrhein-Westfalen\, 45721\, Germany
CATEGORIES:Konzert
ATTACH;FMTTYPE=image/jpeg:https://haltern-online.de/wp-content/uploads/2025/04/red-at-night.jpg
ORGANIZER;CN="Sch%C3%A4nke":MAILTO:schaenkehaltern@outlook.de
END:VEVENT
BEGIN:VEVENT
DTSTART;TZID=Europe/Berlin:20241031T213000
DTEND;TZID=Europe/Berlin:20241031T213000
DTSTAMP:20260420T104416
CREATED:20241008T100932Z
LAST-MODIFIED:20241008T145123Z
UID:10000016-1730410200-1730410200@haltern-online.de
SUMMARY:Halloween Party: Let's get spooky...
DESCRIPTION:
URL:https://haltern-online.de/event/halloween-party-lets-get-spooky/
LOCATION:Schänke\, Lippstraße 36\, Haltern am See\, Nordrhein-Westfalen\, 45721\, Germany
CATEGORIES:Party
ATTACH;FMTTYPE=image/jpeg:https://haltern-online.de/wp-content/uploads/2024/10/Halloween-Party.jpg
END:VEVENT
END:VCALENDAR