BEGIN:VCALENDAR
VERSION:2.0
PRODID:-//Haltern-Online.de - ECPv6.15.20//NONSGML v1.0//EN
CALSCALE:GREGORIAN
METHOD:PUBLISH
X-WR-CALNAME:Haltern-Online.de
X-ORIGINAL-URL:https://haltern-online.de
X-WR-CALDESC:Veranstaltungen für Haltern-Online.de
REFRESH-INTERVAL;VALUE=DURATION:PT1H
X-Robots-Tag:noindex
X-PUBLISHED-TTL:PT1H
BEGIN:VTIMEZONE
TZID:Europe/Berlin
BEGIN:DAYLIGHT
TZOFFSETFROM:+0100
TZOFFSETTO:+0200
TZNAME:CEST
DTSTART:20230326T010000
END:DAYLIGHT
BEGIN:STANDARD
TZOFFSETFROM:+0200
TZOFFSETTO:+0100
TZNAME:CET
DTSTART:20231029T010000
END:STANDARD
BEGIN:DAYLIGHT
TZOFFSETFROM:+0100
TZOFFSETTO:+0200
TZNAME:CEST
DTSTART:20240331T010000
END:DAYLIGHT
BEGIN:STANDARD
TZOFFSETFROM:+0200
TZOFFSETTO:+0100
TZNAME:CET
DTSTART:20241027T010000
END:STANDARD
BEGIN:DAYLIGHT
TZOFFSETFROM:+0100
TZOFFSETTO:+0200
TZNAME:CEST
DTSTART:20250330T010000
END:DAYLIGHT
BEGIN:STANDARD
TZOFFSETFROM:+0200
TZOFFSETTO:+0100
TZNAME:CET
DTSTART:20251026T010000
END:STANDARD
END:VTIMEZONE
BEGIN:VEVENT
DTSTART;TZID=Europe/Berlin:20241205T180000
DTEND;TZID=Europe/Berlin:20241205T220000
DTSTAMP:20260422T121049
CREATED:20241107T185920Z
LAST-MODIFIED:20241112T105822Z
UID:10000107-1733421600-1733436000@haltern-online.de
SUMMARY:Quizabend im Monroes Potpourri
DESCRIPTION:Wer ist der Schlaubi des Abends? Gemeinsam in Zweier Teams kämpft ihr am 05. Dezember 2024 von 18:00 Uhr bis 22:00 Uhr um den „Schlaubi“ des Abends. Fragen aus verschiedenen Themenbereichen – Unnützes Wissen garantiert! Tolle Sachpreise warten auf Euch! Abgerundet wird der Abend mit leckerem Essen. \nKosten: 15\,00 Euro Startgeld pro Team. Exklusive Speisen und Getränken. \nTickets sind online erhältlich. \nWir freuen uns auf Euch!
URL:https://haltern-online.de/event/quizabend-im-monroes-potpourri/
LOCATION:Monroes Potpourri\, Gantepoth 9\, Haltern am See\, 45721\, Germany
CATEGORIES:Essen&Trinken,Party
ATTACH;FMTTYPE=image/jpeg:https://haltern-online.de/wp-content/uploads/2024/11/quizabend.jpg
ORGANIZER;CN="Monroes Potpourri":MAILTO:kontakt@monroesfinest.de
END:VEVENT
BEGIN:VEVENT
DTSTART;TZID=Europe/Berlin:20241128T180000
DTEND;TZID=Europe/Berlin:20241128T220000
DTSTAMP:20260422T121049
CREATED:20241107T185848Z
LAST-MODIFIED:20241112T104044Z
UID:10000105-1732816800-1732831200@haltern-online.de
SUMMARY:Fadenheftung – Buchbinden bei Monroes Potpourri
DESCRIPTION:Kreatives Austoben und leckeres Essen am 28. November 2024 von 18:00 Uhr bis 22:00 Uhr im Monroes Potpurri. Heute werden ihr euer ganz persönliches\nNotizbuch\, Tagebuch oder Rezeptbuch binden. Dafür schauen wir uns verschiedene Möglichkeiten der Japanischen Bindung an und werden gemeinsam mit\nNadel und Faden kreativ! Abgerundet wird der Abend mit leckerem Essen\, passend zum Thema. Wir freuen uns auf Euch! \nKosten: 29\,00 Euro pro Person – inklusive einem Notizbuch und exklusive Speisen und Getränke. Weitere Notizbücher werden vor Ort einzelnd abgerechnet. \nTickets sind online erhältlich.
URL:https://haltern-online.de/event/fadenheftung-buchbinden-bei-monroes-potpourri/
LOCATION:Monroes Potpourri\, Gantepoth 9\, Haltern am See\, 45721\, Germany
CATEGORIES:Essen&Trinken,Hobby,Kurs & Seminare
ATTACH;FMTTYPE=image/jpeg:https://haltern-online.de/wp-content/uploads/2024/11/Buchbinden.jpg
ORGANIZER;CN="Monroes Potpourri":MAILTO:kontakt@monroesfinest.de
END:VEVENT
BEGIN:VEVENT
DTSTART;TZID=Europe/Berlin:20241114T180000
DTEND;TZID=Europe/Berlin:20241114T220000
DTSTAMP:20260422T121049
CREATED:20241107T185813Z
LAST-MODIFIED:20241112T101237Z
UID:10000065-1731607200-1731621600@haltern-online.de
SUMMARY:Monroes Potpourri – Weihnachtskugeln bemalen
DESCRIPTION:Am 14. November 2024 von 18:00 Uhr bis 22:00 Uhr\, bemalt ihr eure ganz persönliche Weihnachtskugel aus Glas. Gemeinsam werden wir kreativ. Ob Muster\, Kalligrafie oder eine kleine Illustration\, lasst eurer Fantasie freien Lauf! \nAbgerundet wird der Abend mit leckerem Essen\, passend zum Thema. \nWir freuen uns auf euch! \nTickets für 25\,00 Euro sind online erhältlich. Ticketpreis exklusive Speisen & Getränke.
URL:https://haltern-online.de/event/monroes-potpourri-weihnachtskugeln-bemalen/
LOCATION:Monroes Potpourri\, Gantepoth 9\, Haltern am See\, 45721\, Germany
CATEGORIES:Hobby
ATTACH;FMTTYPE=image/jpeg:https://haltern-online.de/wp-content/uploads/2024/11/Weihnachtskugeln.jpg
ORGANIZER;CN="Monroes Potpourri":MAILTO:kontakt@monroesfinest.de
END:VEVENT
END:VCALENDAR