BEGIN:VCALENDAR
VERSION:2.0
PRODID:-//Haltern-Online.de - ECPv6.15.20//NONSGML v1.0//EN
CALSCALE:GREGORIAN
METHOD:PUBLISH
X-ORIGINAL-URL:https://haltern-online.de
X-WR-CALDESC:Veranstaltungen für Haltern-Online.de
REFRESH-INTERVAL;VALUE=DURATION:PT1H
X-Robots-Tag:noindex
X-PUBLISHED-TTL:PT1H
BEGIN:VTIMEZONE
TZID:Europe/Berlin
BEGIN:DAYLIGHT
TZOFFSETFROM:+0100
TZOFFSETTO:+0200
TZNAME:CEST
DTSTART:20230326T010000
END:DAYLIGHT
BEGIN:STANDARD
TZOFFSETFROM:+0200
TZOFFSETTO:+0100
TZNAME:CET
DTSTART:20231029T010000
END:STANDARD
BEGIN:DAYLIGHT
TZOFFSETFROM:+0100
TZOFFSETTO:+0200
TZNAME:CEST
DTSTART:20240331T010000
END:DAYLIGHT
BEGIN:STANDARD
TZOFFSETFROM:+0200
TZOFFSETTO:+0100
TZNAME:CET
DTSTART:20241027T010000
END:STANDARD
BEGIN:DAYLIGHT
TZOFFSETFROM:+0100
TZOFFSETTO:+0200
TZNAME:CEST
DTSTART:20250330T010000
END:DAYLIGHT
BEGIN:STANDARD
TZOFFSETFROM:+0200
TZOFFSETTO:+0100
TZNAME:CET
DTSTART:20251026T010000
END:STANDARD
BEGIN:DAYLIGHT
TZOFFSETFROM:+0100
TZOFFSETTO:+0200
TZNAME:CEST
DTSTART:20260329T010000
END:DAYLIGHT
BEGIN:STANDARD
TZOFFSETFROM:+0200
TZOFFSETTO:+0100
TZNAME:CET
DTSTART:20261025T010000
END:STANDARD
END:VTIMEZONE
BEGIN:VEVENT
DTSTART;TZID=Europe/Berlin:20250120T193000
DTEND;TZID=Europe/Berlin:20250120T213000
DTSTAMP:20260420T104540
CREATED:20241125T110117Z
LAST-MODIFIED:20241125T110215Z
UID:10000169-1737401400-1737408600@haltern-online.de
SUMMARY:Linoldruck im Monroes Finest
DESCRIPTION:Linoldruck mit Katharina am 20.01.2025 von 19:30 Uhr bis 21:30 Uhr im Monroes Finest. \nGemeinsam wird geschnitzt & gedruckt. Jeder bekommt eine Druckplatte und darf sich kreativ austoben. Im Anschluss wird gedruckt. Wir freuen uns auf euch! \nKosten: 29\,00 Euro pro Person (inkl. 1 Druckplatte | exkl. Speisen & Getränke). Weitere Druckplatten werden vor Ort einzeln abgerechnet. \nTickets sind online erhältlich. \nAuskunft unter 0176 – 23386046 oder kontakt@monroesfinest.de
URL:https://haltern-online.de/event/linoldruck-im-monroes-finest/
LOCATION:Monroes Finest\, Gantepoth 9\, Haltern am See\, 45721\, Germany
CATEGORIES:Essen&Trinken,Hobby,Kurs & Seminare
ATTACH;FMTTYPE=image/jpeg:https://haltern-online.de/wp-content/uploads/2024/10/Kreativ-Werkstatt.jpg
ORGANIZER;CN="Monroes Finest":MAILTO:kontakt@monroesfinest.de
END:VEVENT
BEGIN:VEVENT
DTSTART;TZID=Europe/Berlin:20250112T100000
DTEND;TZID=Europe/Berlin:20250112T130000
DTSTAMP:20260420T104540
CREATED:20241125T110948Z
LAST-MODIFIED:20241125T110948Z
UID:10000168-1736676000-1736686800@haltern-online.de
SUMMARY:Monroes Finest Kreativ-Brunch mit Maleri
DESCRIPTION:Beim gemütlichen Brunch am Sonntag den 12.01.2025 von 10:00 Uhr bis 13:00 Uhr\,  gestaltet ihr eure persönliche Keramik. \nDa steht sie\, die weiße Rohkeramik\, will von dir bemalt werden. Kann ich nicht\, gibt es nicht. Lass die eigene Fantasie fließen\, wir haben passenden Techniktipps: vorzeichnen\, drauf los malen oder unsere Hilfsmittel nutzen. Und dann\, in die Farben abtauchen\, es einfach geschehen lassen. Glasiert und gebrannt kannst du deine neue Lieblingskeramik nach 10 Tagen abholen. Wir freuen uns auf euch! \nKosten: 49\,00 Euro / Person (inkl. 1 Keramik\, Brunch\, Filterkaffee\, Säfte & Mineralwasser). \nTickets sind online erhältlich.
URL:https://haltern-online.de/event/monroes-finest-kreativ-brunch-mit-maleri/
LOCATION:Monroes Finest\, Gantepoth 9\, Haltern am See\, 45721\, Germany
CATEGORIES:Essen&Trinken,Hobby,Kurs & Seminare
ATTACH;FMTTYPE=image/jpeg:https://haltern-online.de/wp-content/uploads/2024/11/Fruehstueck.jpg
ORGANIZER;CN="Monroes Finest":MAILTO:kontakt@monroesfinest.de
END:VEVENT
BEGIN:VEVENT
DTSTART;TZID=Europe/Berlin:20250110T180000
DTEND;TZID=Europe/Berlin:20250110T220000
DTSTAMP:20260420T104540
CREATED:20241125T111005Z
LAST-MODIFIED:20241125T111206Z
UID:10000167-1736532000-1736546400@haltern-online.de
SUMMARY:Monroes Finest Pub-Quiz
DESCRIPTION:Der Pub-Quiz im Monroes Finest am 10.01.2025 von 18:00 Uhr bis 22:00 Uhr mit dem Thema „Pop/Rock & Film/TV“. \nIn zweier Teams tretet ihr gegen einander an und kämpft um den „Schlaubi“ des Abends. Es gibt tolle Preise zu gewinnen. Wir freuen uns auf euch! \nKosten: 15\,00 Euro Startgeld pro Team (exkl. Speisen & Getränke). Tagesgericht: Best of Currywurst mit Farm Fries\, Kräutermajo & Beilagensalat (Vorbestellung 10\,00 Euro / Portion). \nTickets sind online erhältlich. \nAuskunft unter 0176 – 23386046 oder kontakt@monroesfinest.de
URL:https://haltern-online.de/event/monroes-finest-pub-quiz/
LOCATION:Monroes Finest\, Gantepoth 9\, Haltern am See\, 45721\, Germany
CATEGORIES:Essen&Trinken,Party
ATTACH;FMTTYPE=image/jpeg:https://haltern-online.de/wp-content/uploads/2024/11/quizabend.jpg
ORGANIZER;CN="Monroes Finest":MAILTO:kontakt@monroesfinest.de
END:VEVENT
BEGIN:VEVENT
DTSTART;TZID=Europe/Berlin:20241222T100000
DTEND;TZID=Europe/Berlin:20241222T130000
DTSTAMP:20260420T104540
CREATED:20241125T111236Z
LAST-MODIFIED:20241125T111250Z
UID:10000166-1734861600-1734872400@haltern-online.de
SUMMARY:Adventsbrunch im Monroes Finest
DESCRIPTION:Am Sonntag den 22.12.2024 von 10:00 Uhr bis 13:00 Uhr\, ist wieder Adventsbrunch im Monroes Finest. Wir freuen uns auf Euch! \nKosten: 29\,00 Euro / Person ( inklusive Brunch\, Säfte und Mineralwasser).\nTickets sind online erhältlich. \nAuskunft unter 0176 – 23386046 oder kontakt@monroesfinest.de
URL:https://haltern-online.de/event/adventsbrunch-im-monroes-finest/
LOCATION:Monroes Finest\, Gantepoth 9\, Haltern am See\, 45721\, Germany
CATEGORIES:Essen&Trinken
ATTACH;FMTTYPE=image/jpeg:https://haltern-online.de/wp-content/uploads/2024/11/Fruehstueck.jpg
ORGANIZER;CN="Monroes Finest":MAILTO:kontakt@monroesfinest.de
END:VEVENT
BEGIN:VEVENT
DTSTART;TZID=Europe/Berlin:20241215T100000
DTEND;TZID=Europe/Berlin:20241215T130000
DTSTAMP:20260420T104540
CREATED:20241125T111331Z
LAST-MODIFIED:20241125T111431Z
UID:10000165-1734256800-1734267600@haltern-online.de
SUMMARY:Adventsbrunch im Monroes Finest
DESCRIPTION:Am Sonntag den 15.12.2024 von 10:00 Uhr bis 13:00 Uhr\, ist wieder Adventsbrunch im Monroes Finest. Wir freuen uns auf Euch! \nKosten: 29\,00 Euro / Person ( inklusive Brunch\, Säfte und Mineralwasser). \nTickets sind online erhältlich. \nAuskunft unter 0176 – 23386046 oder kontakt@monroesfinest.de
URL:https://haltern-online.de/event/adventsbrunch-im-monroes-finest-2/
LOCATION:Monroes Finest\, Gantepoth 9\, Haltern am See\, 45721\, Germany
CATEGORIES:Essen&Trinken
ATTACH;FMTTYPE=image/jpeg:https://haltern-online.de/wp-content/uploads/2024/11/Fruehstueck.jpg
ORGANIZER;CN="Monroes Finest":MAILTO:kontakt@monroesfinest.de
END:VEVENT
BEGIN:VEVENT
DTSTART;TZID=Europe/Berlin:20241212T153000
DTEND;TZID=Europe/Berlin:20241212T190000
DTSTAMP:20260420T104540
CREATED:20241125T111450Z
LAST-MODIFIED:20241125T111500Z
UID:10000164-1734017400-1734030000@haltern-online.de
SUMMARY:Wichteln für Kinder im Monroes Finest
DESCRIPTION:Jeder bringt am 12.12.2024 von 15:30 Uhr bis 19:00 Uhr ein Geschenk im Wert von ca. 10\,00 Euro mit ins Monroes Finest und los geht der Spaß „Wichteln für Kinder“. Wir freuen uns auf Euch! \nKosten: 5\,00 Euro / Peron (Unkostenbeitrag / exklusive Speisen und Getränke). \nTickets sind online erhältlich. \nAuskunft unter 0176 – 23386046 oder kontakt@monroesfinest.de.
URL:https://haltern-online.de/event/wichteln-fuer-kinder-im-monroes-finest/
LOCATION:Monroes Finest\, Gantepoth 9\, Haltern am See\, 45721\, Germany
CATEGORIES:Essen&Trinken,Kinderfreundlich
ATTACH;FMTTYPE=image/jpeg:https://haltern-online.de/wp-content/uploads/2024/11/Weihnachtskugeln.jpg
ORGANIZER;CN="Monroes Finest":MAILTO:kontakt@monroesfinest.de
END:VEVENT
BEGIN:VEVENT
DTSTART;TZID=Europe/Berlin:20241208T100000
DTEND;TZID=Europe/Berlin:20241208T130000
DTSTAMP:20260420T104540
CREATED:20241125T111521Z
LAST-MODIFIED:20241125T111544Z
UID:10000163-1733652000-1733662800@haltern-online.de
SUMMARY:Monroes Finest Kreativ-Brunch mit Maleri
DESCRIPTION:Beim gemütlichen Brunch am Sonntag den 08.12.2024 von 10:00 Uhr bis 13:00 Uhr\,  gestaltet ihr eure persönliche Keramik. \nDa steht sie\, die weiße Rohkeramik\, will von dir bemalt werden. Kann ich nicht\, gibt es nicht. Lass die eigene Fantasie fließen\, wir haben passenden Techniktipps: vorzeichnen\, drauf los malen oder unsere Hilfsmittel nutzen. Und dann\, in die Farben abtauchen\, es einfach geschehen lassen. Glasiert und gebrannt kannst du deine neue Lieblingskeramik nach 10 Tagen abholen. Wir freuen uns auf euch! \nKosten: 49\,00 Euro / Person (inkl. 1 Keramik\, Brunch\, Filterkaffee\, Säfte & Mineralwasser). \nTickets sind online erhältlich.
URL:https://haltern-online.de/event/monroes-finest-kreativ-brunch-mit-maleri-2/
LOCATION:Monroes Finest\, Gantepoth 9\, Haltern am See\, 45721\, Germany
CATEGORIES:Essen&Trinken,Kurs & Seminare
ATTACH;FMTTYPE=image/jpeg:https://haltern-online.de/wp-content/uploads/2024/11/brunch.jpg
ORGANIZER;CN="Monroes Finest":MAILTO:kontakt@monroesfinest.de
END:VEVENT
BEGIN:VEVENT
DTSTART;TZID=Europe/Berlin:20241201T100000
DTEND;TZID=Europe/Berlin:20241201T130000
DTSTAMP:20260420T104540
CREATED:20241107T185904Z
LAST-MODIFIED:20241112T104941Z
UID:10000106-1733047200-1733058000@haltern-online.de
SUMMARY:Monroes Advents Brunch
DESCRIPTION:Monroes Finest Adventsbrunch am 01. Dezember 2024 von 10:00 Uhr bis 13:00 Uhr. \nKosten: 29\,00 Euro exklusive Kaffee und inklusive Säften und Wasser. \nAnmeldung online. \nWir freuen uns auf Euch!
URL:https://haltern-online.de/event/monroes-advents-brunch/
LOCATION:Monroes Finest\, Gantepoth 9\, Haltern am See\, 45721\, Germany
CATEGORIES:Essen&Trinken
ATTACH;FMTTYPE=image/jpeg:https://haltern-online.de/wp-content/uploads/2024/11/brunch.jpg
ORGANIZER;CN="Monroes Finest":MAILTO:kontakt@monroesfinest.de
END:VEVENT
BEGIN:VEVENT
DTSTART;TZID=Europe/Berlin:20241123T180000
DTEND;TZID=Europe/Berlin:20241123T220000
DTSTAMP:20260420T104540
CREATED:20241107T185844Z
LAST-MODIFIED:20241112T103137Z
UID:10000104-1732384800-1732399200@haltern-online.de
SUMMARY:Degustations Menü im Monroes Finest
DESCRIPTION:Degustations Menü mit Wugat am 23. November 2024 von 18:00 Uhr bis 22:00 Uhr bei Monroes Finest. \n5 Gänge\, Aperitiv & Degustation: Gebranter Ziegenkäse\, Maronencappuccino\, Pikante Babacalamari\, Ochsenrücken sous vide und Crème Brûlée. \nKosten: 99\,00 Euro inkl. passender Degustation. Tickets per Mail an kontakt@monroesfinest.de oder im Onlineshop www.monroesfinest.de
URL:https://haltern-online.de/event/degustations-menue-im-monroes-finest/
LOCATION:Monroes Finest\, Gantepoth 9\, Haltern am See\, 45721\, Germany
CATEGORIES:Essen&Trinken
ATTACH;FMTTYPE=image/jpeg:https://haltern-online.de/wp-content/uploads/2024/11/Degustations.jpg
ORGANIZER;CN="Monroes Finest":MAILTO:kontakt@monroesfinest.de
END:VEVENT
END:VCALENDAR