BEGIN:VCALENDAR
VERSION:2.0
PRODID:-//Haltern-Online.de - ECPv6.15.20//NONSGML v1.0//EN
CALSCALE:GREGORIAN
METHOD:PUBLISH
X-WR-CALNAME:Haltern-Online.de
X-ORIGINAL-URL:https://haltern-online.de
X-WR-CALDESC:Veranstaltungen für Haltern-Online.de
REFRESH-INTERVAL;VALUE=DURATION:PT1H
X-Robots-Tag:noindex
X-PUBLISHED-TTL:PT1H
BEGIN:VTIMEZONE
TZID:Europe/Berlin
BEGIN:DAYLIGHT
TZOFFSETFROM:+0100
TZOFFSETTO:+0200
TZNAME:CEST
DTSTART:20240331T010000
END:DAYLIGHT
BEGIN:STANDARD
TZOFFSETFROM:+0200
TZOFFSETTO:+0100
TZNAME:CET
DTSTART:20241027T010000
END:STANDARD
BEGIN:DAYLIGHT
TZOFFSETFROM:+0100
TZOFFSETTO:+0200
TZNAME:CEST
DTSTART:20250330T010000
END:DAYLIGHT
BEGIN:STANDARD
TZOFFSETFROM:+0200
TZOFFSETTO:+0100
TZNAME:CET
DTSTART:20251026T010000
END:STANDARD
BEGIN:DAYLIGHT
TZOFFSETFROM:+0100
TZOFFSETTO:+0200
TZNAME:CEST
DTSTART:20260329T010000
END:DAYLIGHT
BEGIN:STANDARD
TZOFFSETFROM:+0200
TZOFFSETTO:+0100
TZNAME:CET
DTSTART:20261025T010000
END:STANDARD
BEGIN:DAYLIGHT
TZOFFSETFROM:+0100
TZOFFSETTO:+0200
TZNAME:CEST
DTSTART:20270328T010000
END:DAYLIGHT
BEGIN:STANDARD
TZOFFSETFROM:+0200
TZOFFSETTO:+0100
TZNAME:CET
DTSTART:20271031T010000
END:STANDARD
END:VTIMEZONE
BEGIN:VEVENT
DTSTART;TZID=Europe/Berlin:20260228T110000
DTEND;TZID=Europe/Berlin:20260228T235900
DTSTAMP:20260422T120402
CREATED:20260120T140322Z
LAST-MODIFIED:20260126T093303Z
UID:10000415-1772276400-1772323140@haltern-online.de
SUMMARY:Live-Mal-Event: Claude Monets Seerosen und darüber hinaus
DESCRIPTION:Live-Mal-Event: Claude Monet gilt als Wegbereiter des Impressionismus und widmete sich in seinen letzten Lebensjahrzehnten intensiv dem Motiv der Seerosen. Diese Werke faszinieren bis heute Künstlerinnen und Künstler weltweit. \nInspiriert durch die Begegnung mit Monets Nymphéas im Musée de l’Orangerie in Paris lässt der Künstler Frank Burkamp vor Publikum ein großformatiges Seerosen-Gemälde entstehen. In einer Mischtechnik aus Acryl- und Ölfarbe gibt er Einblicke in Monets Maltechnik\, kunsthistorische Hintergründe und persönliche Anekdoten. \nDie mehrstündige Veranstaltung ist in zwei Blöcke gegliedert und wird von einer Pause unterbrochen. Diese bietet Gelegenheit\, das Atelier und die Galerie zu besichtigen\, Gespräche zu führen oder sich bei Kaffee und kleinen kulinarischen Angeboten zu stärken. \nEine Anmeldung zur Veranstaltung ist zwingend erforderlich. \nDer Eintritt zum Live-Mal-Event kostet 25 Euro pro Person. Ermäßigungen gibt es für Schüler und Studierende bis 30 Jahre. Der Preis pro Ticket liegt dann bei 7 Euro pro Person. \nRabattberechtigte sollen sich vorab per Mail an info@atelier-burkamp.de wenden und einen entsprechenden Nachweis mitbringen. \nDie Anmeldung zur Veranstaltung ist HIER möglich. \nBildquelle: Heimatmedien
URL:https://haltern-online.de/event/live-mal-event-claude-monets-seerosen-und-darueber-hinaus/
LOCATION:Kunsthalle Burkamp\, Recklinghäuser Str. 119\, Haltern am See\, 45721\, Germany
CATEGORIES:Gesprächskreis,Hobby,Workshop
ATTACH;FMTTYPE=image/jpeg:https://haltern-online.de/wp-content/uploads/2026/01/Live-Mal-Event-Claude-Monet-1200.jpg
ORGANIZER;CN="Kunsthalle Burkamp":MAILTO:info@atelier-burkamp.de
END:VEVENT
BEGIN:VEVENT
DTSTART;TZID=Europe/Berlin:20251005T180000
DTEND;TZID=Europe/Berlin:20251005T180000
DTSTAMP:20260422T120402
CREATED:20251001T132525Z
LAST-MODIFIED:20251001T132734Z
UID:10000341-1759687200-1759687200@haltern-online.de
SUMMARY:Flamenco-Jazz mit Antonio Serrano & Kaele Jimenez
DESCRIPTION:Die Kulturstiftung Masthoff lädt zu einem besonderen Konzertabend in die Kunsthalle Burkamp: Antonio Serrano und Kaele Jimenez bringen spanisches Temperament und virtuose Klangkunst nach Haltern. \nMit ihrer Mischung aus traditionellem Flamenco und modernen Jazzelementen schaffen die beiden Musiker ein intensives Hörerlebnis\, das Emotionen weckt und musikalische Grenzen überwindet. Ein Abend für alle\, die außergewöhnliche Live-Musik schätzen. \nEintrittspreise: \n\nVorverkauf: 18 €\nAbendkasse: 22 €\nVorverkauf über die Stadtagentur Haltern\n\nFoto: Canva
URL:https://haltern-online.de/event/flamenco-jazz-mit-antonio-serrano-kaele-jimenez/
LOCATION:Kunsthalle Burkamp\, Recklinghäuser Str. 119\, Haltern am See\, 45721\, Germany
CATEGORIES:Kultur
ATTACH;FMTTYPE=image/jpeg:https://haltern-online.de/wp-content/uploads/2025/10/Flamenco-haltern.jpg
ORGANIZER;CN="KulturStiftung Masthoff":MAILTO:hm@kulturstiftung-masthoff.de
END:VEVENT
BEGIN:VEVENT
DTSTART;TZID=Europe/Berlin:20250517T160000
DTEND;TZID=Europe/Berlin:20250517T180000
DTSTAMP:20260422T120402
CREATED:20250506T081112Z
LAST-MODIFIED:20250506T081119Z
UID:10000251-1747497600-1747504800@haltern-online.de
SUMMARY:Ausstellungseröffnung: „Poesie der Stille“
DESCRIPTION:Mit der Gruppenausstellung „Poesie der Stille“ widmet sich die Kunsthalle Burkamp vom 17. Mai bis zum 20. Juli 2025 dem modernen Stillleben zwischen Abbild und Abstraktion. Zur Ausstellungseröffnung am 17. Mai um 16 Uhr sind Kunstinteressierte eingeladen\, in die Bildwelten von dreizehn renommierten Künstlerinnen und Künstlern einzutauchen. \nDie Ausstellung wurde kuratiert von Frank Burkamp und Maike Prause. Zu sehen sind Arbeiten von Brigitte Albers\, Andrea Baumann\, Jörg Betrams\, Annett Breitfeld\, Frank Burkamp\, Uwe Czerwinski\, Julia Eggert\, Karin Eppelsheimer\, Lioba Korsmeier\, Cordula Meier\, Rainer Oestereich-Rappaport und Maike Prause. \nIm Fokus stehen zeitgenössische Interpretationen des Stilllebens\, das zwischen realistischen Darstellungen und abstrakten Ansätzen changiert. Die Vernissage bietet Gelegenheit zum Austausch mit den Künstlerinnen und Künstlern. \nLaufzeit der Ausstellung: 17. Mai bis 20. Juli 2025Öffnungszeiten:Montag 10:30–12:30 UhrSamstag und Sonntag 12:00–17:00 Uhr \nBarrierefreier Zugang vorhanden. \nFoto: Kunsthalle Burkamp
URL:https://haltern-online.de/event/ausstellungseroeffnung-poesie-der-stille/
LOCATION:Kunsthalle Burkamp\, Recklinghäuser Str. 119\, Haltern am See\, 45721\, Germany
CATEGORIES:Kultur
ATTACH;FMTTYPE=image/jpeg:https://haltern-online.de/wp-content/uploads/2025/05/Kunsthalle-Burkamp.jpg
ORGANIZER;CN="Kunsthalle Burkamp":MAILTO:info@atelier-burkamp.de
END:VEVENT
BEGIN:VEVENT
DTSTART;TZID=Europe/Berlin:20250201T100000
DTEND;TZID=Europe/Berlin:20250201T170000
DTSTAMP:20260422T120402
CREATED:20250119T095614Z
LAST-MODIFIED:20250119T095614Z
UID:10000189-1738404000-1738429200@haltern-online.de
SUMMARY:Eintagesworkshop "Rakel-Technik" Kunsthalle Burkamp
DESCRIPTION:Eintagsworkshop „Rakel-Technik“ nach Gerhard Richter\nMittels Spachteln und langen Metallrakeln wird Ölfarbe in unzähligen Schichten über die Leinwand geschoben und gezogen. Das Ergebnis ist nicht vorhersehbar\, begrüßt den malerischen Zufall und fordert danach aber eine aktive Reaktion und Entscheidungen von der Malerin/dem Maler. Diese Art der Malerei beschäftigt sich auf eine spielerische Art und Weise mit einer Form der Abstraktion – dennoch sollte man nicht glauben\, dass sie einfach ist. Ausgehend von der theoretischen Grundlage zu Richters Technik soll in diesem Workshop jede/r ihre/seine eigene Vision von Bildern umsetzen\, die offen für Überraschungen bleiben darf. \nTagesablauf am Kurstag: Einlass ab 9.50 Uhr \, ab 10.00 Uhr Vorbesprechung danach bis 13.00 Uhr praktische Arbeit am Bild – Mittagspause – 14.00 -17.00 Uhr praktische Arbeit und Bildbesprechung \nKursgebühr: 130\,00€ \nBenötigtes Material: Bitte bringen Sie zu diesem Workshop ihr eigenes\, bereits vorhandenes Malmaterial mit. Sollte Ihnen noch etwas fehlen können Sie Pinsel\, Acryl-\, Ölfarben\, Mallappen etc. bei uns im hauseigenen kleinen Shop erwerben. Rakel können eventuell auf Anfrage gegen eine Leihgebühr zur Verfügung gestellt werden. \nHochwertige Leinwände können Sie bis spätestens 2 Wochen vor Workshopbeginn bei uns  in Ihrem Wunschmaß per E-Mail an info@atelier-burkamp.de oder direkt im Buchungsformular mit bestellen. \nDie Anmeldung kann online vorgenommen werden.
URL:https://haltern-online.de/event/eintagesworkshop-rakel-technik-kunsthalle-burkamp/
LOCATION:Kunsthalle Burkamp\, Recklinghäuser Str. 119\, Haltern am See\, 45721\, Germany
CATEGORIES:Hobby,Kurs & Seminare
ATTACH;FMTTYPE=image/jpeg:https://haltern-online.de/wp-content/uploads/2024/10/pastels-266941_1280.jpg
ORGANIZER;CN="Kunsthalle Burkamp":MAILTO:info@atelier-burkamp.de
END:VEVENT
END:VCALENDAR