BEGIN:VCALENDAR
VERSION:2.0
PRODID:-//Haltern-Online.de - ECPv6.15.20//NONSGML v1.0//EN
CALSCALE:GREGORIAN
METHOD:PUBLISH
X-ORIGINAL-URL:https://haltern-online.de
X-WR-CALDESC:Veranstaltungen für Haltern-Online.de
REFRESH-INTERVAL;VALUE=DURATION:PT1H
X-Robots-Tag:noindex
X-PUBLISHED-TTL:PT1H
BEGIN:VTIMEZONE
TZID:Europe/Berlin
BEGIN:DAYLIGHT
TZOFFSETFROM:+0100
TZOFFSETTO:+0200
TZNAME:CEST
DTSTART:20230326T010000
END:DAYLIGHT
BEGIN:STANDARD
TZOFFSETFROM:+0200
TZOFFSETTO:+0100
TZNAME:CET
DTSTART:20231029T010000
END:STANDARD
BEGIN:DAYLIGHT
TZOFFSETFROM:+0100
TZOFFSETTO:+0200
TZNAME:CEST
DTSTART:20240331T010000
END:DAYLIGHT
BEGIN:STANDARD
TZOFFSETFROM:+0200
TZOFFSETTO:+0100
TZNAME:CET
DTSTART:20241027T010000
END:STANDARD
BEGIN:DAYLIGHT
TZOFFSETFROM:+0100
TZOFFSETTO:+0200
TZNAME:CEST
DTSTART:20250330T010000
END:DAYLIGHT
BEGIN:STANDARD
TZOFFSETFROM:+0200
TZOFFSETTO:+0100
TZNAME:CET
DTSTART:20251026T010000
END:STANDARD
END:VTIMEZONE
BEGIN:VEVENT
DTSTART;TZID=Europe/Berlin:20241119T153000
DTEND;TZID=Europe/Berlin:20241119T164500
DTSTAMP:20260420T153546
CREATED:20241107T185828Z
LAST-MODIFIED:20241112T095756Z
UID:10000090-1732030200-1732034700@haltern-online.de
SUMMARY:Kreativ-Werkstatt im Künstlerhof Lavesum
DESCRIPTION:Die Kreativ-Werkstatt am 19. November 2024 von 15:30 Uhr bis 16:45 Uhr für Kinder von 5-9 Jahren mit Bettina Nowak. \nGruppe 3 (Tag 4 von 4) \nAuskunft unter 0178 – 9810610 oder info@malemitliebe.de
URL:https://haltern-online.de/event/kreativ-werkstatt-im-kuenstlerhof-lavesum-3/
LOCATION:Künstlerhof Lavesum\, Am Friedhof 25\, Haltern am See\, 45721
ATTACH;FMTTYPE=image/jpeg:https://haltern-online.de/wp-content/uploads/2024/10/Kreativ-Werkstatt.jpg
END:VEVENT
BEGIN:VEVENT
DTSTART;TZID=Europe/Berlin:20241118T171500
DTEND;TZID=Europe/Berlin:20241118T183000
DTSTAMP:20260420T153546
CREATED:20241107T185827Z
LAST-MODIFIED:20241112T095030Z
UID:10000089-1731950100-1731954600@haltern-online.de
SUMMARY:Kreativ-Werkstatt im Künstlerhof Lavesum
DESCRIPTION:Die Kreativ-Werkstatt am 18. November 2024 von 17:15 Uhr bis 18:30 Uhr für Kinder von 5-9 Jahren mit Bettina Nowak. \nGruppe 2 (Tag 4 von 4) \nAuskunft unter 0178 – 9810610 oder info@malemitliebe.de
URL:https://haltern-online.de/event/kreativ-werkstatt-im-kuenstlerhof-lavesum-2/
LOCATION:Künstlerhof Lavesum\, Am Friedhof 25\, Haltern am See\, 45721
CATEGORIES:Hobby,Kinderfreundlich,Kurs & Seminare
ATTACH;FMTTYPE=image/jpeg:https://haltern-online.de/wp-content/uploads/2024/10/Kreativ-Werkstatt.jpg
END:VEVENT
BEGIN:VEVENT
DTSTART;TZID=Europe/Berlin:20241118T153000
DTEND;TZID=Europe/Berlin:20241118T164500
DTSTAMP:20260420T153546
CREATED:20241107T185827Z
LAST-MODIFIED:20241112T095005Z
UID:10000088-1731943800-1731948300@haltern-online.de
SUMMARY:Kreativ-Werkstatt im Künstlerhof Lavesum
DESCRIPTION:Die Kreativ-Werkstatt am 18. November 2024 von 15:30 Uhr bis 16:45 Uhr für Kinder von 5-9 Jahren mit Bettina Nowak. \nGruppe 1 (Tag 4 von 4) \nAuskunft unter 0178 – 9810610 oder info@malemitliebe.de
URL:https://haltern-online.de/event/kreativ-werkstatt-im-kuenstlerhof-lavesum/
LOCATION:Künstlerhof Lavesum\, Am Friedhof 25\, Haltern am See\, 45721
CATEGORIES:Hobby,Kinderfreundlich,Kurs & Seminare
ATTACH;FMTTYPE=image/jpeg:https://haltern-online.de/wp-content/uploads/2024/10/Kreativ-Werkstatt.jpg
END:VEVENT
BEGIN:VEVENT
DTSTART;TZID=Europe/Berlin:20241116T103000
DTEND;TZID=Europe/Berlin:20241116T143000
DTSTAMP:20260420T153546
CREATED:20241107T185814Z
LAST-MODIFIED:20241112T094743Z
UID:10000094-1731753000-1731767400@haltern-online.de
SUMMARY:Pastellmalerei im Künstlerhof Lavesum
DESCRIPTION:Pastellmalerei-Kurs im Künstlerhof Lavesum am 16. November 2024 von 10:30 Uhr bis 14:30 Uhr mit Gisela Rott. \nDas Malen mit Pastellkreide ist leicht zu erlernen und führt schnell zu erstaunlichen Ergebnissen. Ob gegenständlich oder abstrakt\, dem künstlerischen Ausdruck sind keine Grenzen gesetzt. Nach einer kurzen Einführung mit praktischen Übungen beginnen Sie spielerisch mit der Verwirklichung Ihrer Bildidee. \nKursgebühr: je 59\,00 Euro inkl. Material und Getränke (Kaffee\, Tee\, Mineralwasser) \nAuskunft und Anmeldung unter 01573 – 6828905 oder info@gisela-rott.de
URL:https://haltern-online.de/event/pastellmalerei-im-kuenstlerhof-lavesum/
LOCATION:Künstlerhof Lavesum\, Am Friedhof 25\, Haltern am See\, 45721
CATEGORIES:Hobby,Kurs & Seminare
ATTACH;FMTTYPE=image/jpeg:https://haltern-online.de/wp-content/uploads/2024/10/PO.jpg
END:VEVENT
BEGIN:VEVENT
DTSTART;TZID=Europe/Berlin:20241114T180000
DTEND;TZID=Europe/Berlin:20241114T210000
DTSTAMP:20260420T153546
CREATED:20241107T185813Z
LAST-MODIFIED:20241112T094330Z
UID:10000064-1731607200-1731618000@haltern-online.de
SUMMARY:Freies Malen mit Acryl im Künstlerhof Lavesum
DESCRIPTION:Freies Malen mit Acryl für Anfänger/innen und Geübte am 14. November 2024 von 18:00 Uhr bis 21:00 Uhr mit Bettina Nowak. \nIn diesem Acryl-Malkurs werden verschiedene Techniken für Anfänger erläutert und ausprobiert. Anhand einer Vorlage (welche im Vorfeld abgesprochen wird) fertigt jeder Teilnehmer unter Anleitung Schritt für Schritt sein eigenes Kunstwerk an. \nNach Absprache des Motivs wird die Empfehlung für eine Keilrahmen-Größe ausgesprochen\, welcher dann auch bei der Kursleitung zum Selbstkostenpreis erworben werden kann. \nje 40 Euro inkl. aller Materialien (außer Keilrahmen) für 3 Stunden \nAuskunft und Anmeldung unter 0178 – 9810610 oder info@malemitliebe.de
URL:https://haltern-online.de/event/freies-malen-mit-acryl-im-kuenstlerhof-lavesum/
LOCATION:Künstlerhof Lavesum\, Am Friedhof 25\, Haltern am See\, 45721
CATEGORIES:Hobby,Kurs & Seminare
ATTACH;FMTTYPE=image/jpeg:https://haltern-online.de/wp-content/uploads/2024/10/PO.jpg
END:VEVENT
BEGIN:VEVENT
DTSTART;TZID=Europe/Berlin:20241113T170000
DTEND;TZID=Europe/Berlin:20241113T190000
DTSTAMP:20260420T153546
CREATED:20241107T185811Z
LAST-MODIFIED:20241112T094301Z
UID:10000060-1731517200-1731524400@haltern-online.de
SUMMARY:Acryl – Freies Malen für Kinder ab 8 Jahren im Künstlerhof Lavesum
DESCRIPTION:Acryl – Freies Malen für Kinder ab 8 Jahren und Jugendliche mit Bettina Nowak am 13. November 2024 von 17:00 Uhr – 19:00 Uhr im Künstlerhof Lavesum. \nKinder und Jugendliche\, die gerne malen oder damit anfangen wollen\, haben in diesem Kurs die Gelegenheit\, die vielfältigen Gestaltungsmöglichkeiten mit Acrylfarben auszuprobieren. Die Motivwahl ist frei\, die Kinder malen anhand einer Vorlage oder auch frei ihr eigenes Kunstwerk. \nKosten: 23\,00 Euro inkl. aller Materialien \nAuskunft und Anmeldung unter 0178 – 9810610 oder info@malemitliebe.de
URL:https://haltern-online.de/event/acryl-freies-malen-fuer-kinder-ab-8-jahren-im-kuenstlerhof-lavesum/
LOCATION:Künstlerhof Lavesum\, Am Friedhof 25\, Haltern am See\, 45721
CATEGORIES:Hobby
ATTACH;FMTTYPE=image/jpeg:https://haltern-online.de/wp-content/uploads/2024/10/PO.jpg
END:VEVENT
BEGIN:VEVENT
DTSTART;TZID=Europe/Berlin:20241107T153000
DTEND;TZID=Europe/Berlin:20241107T170000
DTSTAMP:20260420T153546
CREATED:20241107T185756Z
LAST-MODIFIED:20241107T185756Z
UID:10000070-1730993400-1730998800@haltern-online.de
SUMMARY:(Groß-)Eltern-Kind-Malen im Künstlerhof Lavesum
DESCRIPTION:(Groß-)Eltern-Kind-Malen für Kinder ab 3 Jahren am 07. November 2024 von 15:30 Uhr bis 17:00 Uhr mit Bettina Nowak. \nKindergartenkinder\, die gerne malen haben in diesem Kurs mit einem Elternteil oder einer anderen Bezugsperson die Gelegenheit\, die vielfältigen Gestaltungsmöglichkeiten mit\nAcrylfarben auszuprobieren. Die Motivwahl ist frei\, ich gebe einige Inspirationen vor und jedes Kind stellt jeweils ein Bild fertig. \nKosten: je 23\,00 Euro inkl. aller Materialien (außer Keilrahmen) \nAuskunft unter 0178 – 9810610 oder info@malemitliebe.de
URL:https://haltern-online.de/event/gross-eltern-kind-malen-im-kuenstlerhof-lavesum/
LOCATION:Künstlerhof Lavesum\, Am Friedhof 25\, Haltern am See\, 45721
CATEGORIES:Hobby,Kinderfreundlich
END:VEVENT
BEGIN:VEVENT
DTSTART;TZID=Europe/Berlin:20241029T171500
DTEND;TZID=Europe/Berlin:20241029T183000
DTSTAMP:20260420T153546
CREATED:20241014T123829Z
LAST-MODIFIED:20241014T123829Z
UID:10000036-1730222100-1730226600@haltern-online.de
SUMMARY:Kreativ-Werkstatt für Kinder im Künstlerhof Lavesum
DESCRIPTION:Kreativ-Werkstatt mit Bettina Nowak für Kinder ab 10 Jahren. Hier haben Kinder die Möglichkeit\, verschiedene Mal- und Kreativtechniken kennenzulernen und auszuprobieren. Wir malen auf kleinformatigen Leinwandblättern bzw. Aquarellpapier (je nach Technik)\, damit wir mehr ausprobieren können. \nDienstag 29. Oktober 2024 von 17:15 Uhr bis 18:30 Uhr: \nTag 3 von 4 \n70\,00 Euro inklusive aller Materialien. \nAuskunft und Anmeldung unter 0178 – 9810610 oder info@malemitliebe.de
URL:https://haltern-online.de/event/kreativ-werkstatt-fuer-kinder-im-kuenstlerhof-lavesum-4/
LOCATION:Künstlerhof Lavesum\, Am Friedhof 25\, Haltern am See\, 45721
CATEGORIES:Hobby,Kinderfreundlich
ATTACH;FMTTYPE=image/jpeg:https://haltern-online.de/wp-content/uploads/2024/10/Kreativ-Werkstatt.jpg
END:VEVENT
BEGIN:VEVENT
DTSTART;TZID=Europe/Berlin:20241029T153000
DTEND;TZID=Europe/Berlin:20241029T164500
DTSTAMP:20260420T153546
CREATED:20241014T123758Z
LAST-MODIFIED:20241014T123758Z
UID:10000035-1730215800-1730220300@haltern-online.de
SUMMARY:Kreativ-Werkstatt für Kinder im Künstlerhof Lavesum
DESCRIPTION:Kreativ-Werkstatt mit Bettina Nowak für Kinder von 5-9 Jahren. Hier haben Kinder die Möglichkeit\, verschiedene Mal- und Kreativtechniken kennenzulernen und auszuprobieren. Wir malen auf kleinformatigen Leinwandblättern bzw. Aquarellpapier (je nach Technik)\, damit wir mehr ausprobieren können. \nDienstag 29. Oktober 2024 von 15:30 Uhr bis 16:45 Uhr: \nGruppe 3 (Tag 3 von 4) \n70\,00 Euro inklusive aller Materialien. \nAuskunft und Anmeldung unter 0178 – 9810610 oder info@malemitliebe.de
URL:https://haltern-online.de/event/kreativ-werkstatt-fuer-kinder-im-kuenstlerhof-lavesum-3/
LOCATION:Künstlerhof Lavesum\, Am Friedhof 25\, Haltern am See\, 45721
CATEGORIES:Hobby,Kinderfreundlich
ATTACH;FMTTYPE=image/jpeg:https://haltern-online.de/wp-content/uploads/2024/10/Kreativ-Werkstatt.jpg
END:VEVENT
BEGIN:VEVENT
DTSTART;TZID=Europe/Berlin:20241028T171500
DTEND;TZID=Europe/Berlin:20241028T183000
DTSTAMP:20260420T153546
CREATED:20241014T123714Z
LAST-MODIFIED:20241014T123714Z
UID:10000033-1730135700-1730140200@haltern-online.de
SUMMARY:Kreativ-Werkstatt für Kinder im Künstlerhof Lavesum
DESCRIPTION:Kreativ-Werkstatt mit Bettina Nowak für Kinder von 5-9 Jahren. Hier haben Kinder die Möglichkeit\, verschiedene Mal- und Kreativtechniken kennenzulernen und auszuprobieren. Wir malen auf kleinformatigen Leinwandblättern bzw. Aquarellpapier (je nach Technik)\, damit wir mehr ausprobieren können. \nMontag 28. Oktober 2024 von 17:15 Uhr bis 18:30 Uhr: \nGruppe 2 (Tag 3 von 4) \n70\,00 Euro inklusive aller Materialien. \nAuskunft und Anmeldung unter 0178 – 9810610 oder info@malemitliebe.de
URL:https://haltern-online.de/event/kreativ-werkstatt-fuer-kinder-im-kuenstlerhof-lavesum-2/
LOCATION:Künstlerhof Lavesum\, Am Friedhof 25\, Haltern am See\, 45721
CATEGORIES:Hobby,Kinderfreundlich
ATTACH;FMTTYPE=image/jpeg:https://haltern-online.de/wp-content/uploads/2024/10/Kreativ-Werkstatt.jpg
END:VEVENT
BEGIN:VEVENT
DTSTART;TZID=Europe/Berlin:20241028T153000
DTEND;TZID=Europe/Berlin:20241028T164500
DTSTAMP:20260420T153546
CREATED:20241014T123519Z
LAST-MODIFIED:20241014T123519Z
UID:10000032-1730129400-1730133900@haltern-online.de
SUMMARY:Kreativ-Werkstatt für Kinder im Künstlerhof Lavesum
DESCRIPTION:Kreativ-Werkstatt mit Bettina Nowak für Kinder von 5-9 Jahren. Hier haben Kinder die Möglichkeit\, verschiedene Mal- und Kreativtechniken kennenzulernen und auszuprobieren. Wir malen auf kleinformatigen Leinwandblättern bzw. Aquarellpapier (je nach Technik)\, damit wir mehr ausprobieren können. \nMontag 28. Oktober 2024 von 15:30 Uhr bis 16:45 Uhr: \nGruppe 1 (Tag 3 von 4) \n70\,00 Euro inklusive aller Materialien. \nAuskunft und Anmeldung unter 0178 – 9810610 oder info@malemitliebe.de
URL:https://haltern-online.de/event/kreativ-werkstatt-fuer-kinder-im-kuenstlerhof-lavesum/
LOCATION:Künstlerhof Lavesum\, Am Friedhof 25\, Haltern am See\, 45721
CATEGORIES:Hobby,Kinderfreundlich
ATTACH;FMTTYPE=image/jpeg:https://haltern-online.de/wp-content/uploads/2024/10/Kreativ-Werkstatt.jpg
END:VEVENT
BEGIN:VEVENT
DTSTART;TZID=Europe/Berlin:20241026T103000
DTEND;TZID=Europe/Berlin:20241026T143000
DTSTAMP:20260420T153546
CREATED:20241014T100747Z
LAST-MODIFIED:20241014T100747Z
UID:10000027-1729938600-1729953000@haltern-online.de
SUMMARY:Pastellmalerei
DESCRIPTION:Pastellmalerei für Anfänger/innen und Geübte mit Gisela Rott am 26. Oktober 2024 von 10:30 Uhr bis 14:30 Uhr im Künstlerhof Lavesum. Nach einer kurzen Einführung mit praktischen Übungen\, beginnen Sie spielerisch mit der Verwirklichung Ihrer Bildidee. \nDie Kursgebühr ist inklusive Material und Getränke (Kaffee\, Tee\, Mineralwasser). \nAuskunft und Anmeldung unter 01573 – 6828905 oder info@gisela-rott.de
URL:https://haltern-online.de/event/pastellmalerei/
LOCATION:Künstlerhof Lavesum\, Am Friedhof 25\, Haltern am See\, 45721
CATEGORIES:Hobby
ATTACH;FMTTYPE=image/jpeg:https://haltern-online.de/wp-content/uploads/2024/10/PO.jpg
END:VEVENT
END:VCALENDAR