BEGIN:VCALENDAR
VERSION:2.0
PRODID:-//Haltern-Online.de - ECPv6.15.20//NONSGML v1.0//EN
CALSCALE:GREGORIAN
METHOD:PUBLISH
X-ORIGINAL-URL:https://haltern-online.de
X-WR-CALDESC:Veranstaltungen für Haltern-Online.de
REFRESH-INTERVAL;VALUE=DURATION:PT1H
X-Robots-Tag:noindex
X-PUBLISHED-TTL:PT1H
BEGIN:VTIMEZONE
TZID:Europe/Berlin
BEGIN:DAYLIGHT
TZOFFSETFROM:+0100
TZOFFSETTO:+0200
TZNAME:CEST
DTSTART:20230326T010000
END:DAYLIGHT
BEGIN:STANDARD
TZOFFSETFROM:+0200
TZOFFSETTO:+0100
TZNAME:CET
DTSTART:20231029T010000
END:STANDARD
BEGIN:DAYLIGHT
TZOFFSETFROM:+0100
TZOFFSETTO:+0200
TZNAME:CEST
DTSTART:20240331T010000
END:DAYLIGHT
BEGIN:STANDARD
TZOFFSETFROM:+0200
TZOFFSETTO:+0100
TZNAME:CET
DTSTART:20241027T010000
END:STANDARD
BEGIN:DAYLIGHT
TZOFFSETFROM:+0100
TZOFFSETTO:+0200
TZNAME:CEST
DTSTART:20250330T010000
END:DAYLIGHT
BEGIN:STANDARD
TZOFFSETFROM:+0200
TZOFFSETTO:+0100
TZNAME:CET
DTSTART:20251026T010000
END:STANDARD
END:VTIMEZONE
BEGIN:VEVENT
DTSTART;TZID=Europe/Berlin:20241115T090000
DTEND;TZID=Europe/Berlin:20241115T110000
DTSTAMP:20260422T120400
CREATED:20241107T185813Z
LAST-MODIFIED:20241112T101421Z
UID:10000067-1731661200-1731668400@haltern-online.de
SUMMARY:Caritas-Frühstück im Josefshaus
DESCRIPTION:Caritas-Frühstück am 15. November 2024 von 09:00 Uhr bis 11:00 Uhr im Josefshaus.
URL:https://haltern-online.de/event/caritas-fruehstueck-im-josefshaus/
LOCATION:Josefshaus\, Richthof 18\, Haltern am See\, 45721\, Germany
CATEGORIES:Essen&Trinken
ATTACH;FMTTYPE=image/jpeg:https://haltern-online.de/wp-content/uploads/2024/11/Fruehstueck.jpg
ORGANIZER;CN="Caritas Haltern am See":MAILTO:ah-haltern@caritas-ostvest.de
END:VEVENT
BEGIN:VEVENT
DTSTART;TZID=Europe/Berlin:20241030T093000
DTEND;TZID=Europe/Berlin:20241030T093000
DTSTAMP:20260422T120400
CREATED:20241014T114926Z
LAST-MODIFIED:20241014T114926Z
UID:10000043-1730280600-1730280600@haltern-online.de
SUMMARY:Gedächtnistraining im Seniorentreffpunkt Josefshaus
DESCRIPTION:Gedächtnistraining findet am 30. Oktober 2024 um 09:30 Uhr im Seniorentreffpunkt im Josefshaus statt. \nEine Veranstaltung der St. Sixtus in Haltern am See.
URL:https://haltern-online.de/event/gedaechtnistraining-im-seniorentreffpunkt-josefshaus/
LOCATION:Josefshaus\, Richthof 18\, Haltern am See\, 45721\, Germany
CATEGORIES:Senioren
ATTACH;FMTTYPE=image/jpeg:https://haltern-online.de/wp-content/uploads/2024/10/Seniorenbeirat.jpg
ORGANIZER;CN="Katholische Pfarrei St. Sixtus Haltern am See":MAILTO:info@st-sixtus.de
END:VEVENT
BEGIN:VEVENT
DTSTART;TZID=Europe/Berlin:20241028T140000
DTEND;TZID=Europe/Berlin:20241028T140000
DTSTAMP:20260422T120400
CREATED:20241014T112723Z
LAST-MODIFIED:20241014T112723Z
UID:10000042-1730124000-1730124000@haltern-online.de
SUMMARY:Rommé und Doppelkopf im Seniorentreffpunkt Josefshaus
DESCRIPTION:Rommé und Doppelkopf wird am 28. Oktober 2024 ab 14:00 Uhr im Seniorentreffpunkt im Josefshaus gespielt. Eine Veranstaltung der St. Sixtus in Haltern am See.
URL:https://haltern-online.de/event/romme-und-doppelkopf-im-seniorentreffpunkt-josefshaus/
LOCATION:Josefshaus\, Richthof 18\, Haltern am See\, 45721\, Germany
CATEGORIES:Hobby,Senioren
ATTACH;FMTTYPE=image/jpeg:https://haltern-online.de/wp-content/uploads/2024/10/Seniorenbeirat.jpg
ORGANIZER;CN="Katholische Pfarrei St. Sixtus Haltern am See":MAILTO:info@st-sixtus.de
END:VEVENT
END:VCALENDAR