BEGIN:VCALENDAR
VERSION:2.0
PRODID:-//Haltern-Online.de - ECPv6.15.20//NONSGML v1.0//EN
CALSCALE:GREGORIAN
METHOD:PUBLISH
X-WR-CALNAME:Haltern-Online.de
X-ORIGINAL-URL:https://haltern-online.de
X-WR-CALDESC:Veranstaltungen für Haltern-Online.de
REFRESH-INTERVAL;VALUE=DURATION:PT1H
X-Robots-Tag:noindex
X-PUBLISHED-TTL:PT1H
BEGIN:VTIMEZONE
TZID:Europe/Berlin
BEGIN:DAYLIGHT
TZOFFSETFROM:+0100
TZOFFSETTO:+0200
TZNAME:CEST
DTSTART:20230326T010000
END:DAYLIGHT
BEGIN:STANDARD
TZOFFSETFROM:+0200
TZOFFSETTO:+0100
TZNAME:CET
DTSTART:20231029T010000
END:STANDARD
BEGIN:DAYLIGHT
TZOFFSETFROM:+0100
TZOFFSETTO:+0200
TZNAME:CEST
DTSTART:20240331T010000
END:DAYLIGHT
BEGIN:STANDARD
TZOFFSETFROM:+0200
TZOFFSETTO:+0100
TZNAME:CET
DTSTART:20241027T010000
END:STANDARD
BEGIN:DAYLIGHT
TZOFFSETFROM:+0100
TZOFFSETTO:+0200
TZNAME:CEST
DTSTART:20250330T010000
END:DAYLIGHT
BEGIN:STANDARD
TZOFFSETFROM:+0200
TZOFFSETTO:+0100
TZNAME:CET
DTSTART:20251026T010000
END:STANDARD
BEGIN:DAYLIGHT
TZOFFSETFROM:+0100
TZOFFSETTO:+0200
TZNAME:CEST
DTSTART:20260329T010000
END:DAYLIGHT
BEGIN:STANDARD
TZOFFSETFROM:+0200
TZOFFSETTO:+0100
TZNAME:CET
DTSTART:20261025T010000
END:STANDARD
END:VTIMEZONE
BEGIN:VEVENT
DTSTART;TZID=Europe/Berlin:20251022T193000
DTEND;TZID=Europe/Berlin:20251022T193000
DTSTAMP:20260420T110144
CREATED:20251007T075237Z
LAST-MODIFIED:20251007T075248Z
UID:10000352-1761161400-1761161400@haltern-online.de
SUMMARY:Lesung: „Ósmann“ mit Joachim B. Schmidt
DESCRIPTION:Mit „Ósmann“ stellt der Schweizer Erfolgsautor Joachim B. Schmidt seinen neuen Roman in Haltern am See vor. \nDie Lesung findet am Mittwoch\, den 22. Oktober 2025\, in der Buchhandlung Kortenkamp statt. Beginn ist um 19:30 Uhr. \nSchmidt\, bekannt für seine atmosphärisch dichten Island-Romane wie Kalmann\, nimmt das Publikum diesmal mit auf eine literarische Reise rund um den Außenseiter Ósmann – eine Figur voller Tiefe und Widersprüche. \nEin Abend für alle\, die klug erzählte Geschichten mit nordischer Note lieben. \n🎟️ Tickets zum Preis von 15 € sind in der Buchhandlung erhältlich.
URL:https://haltern-online.de/event/lesung-osmann-mit-joachim-b-schmidt/
LOCATION:Buchhandlung Kortenkamp\, Lippstraße 2\, Haltern am See\, Nordrhein-Westfalen\, 45721\, Germany
CATEGORIES:Lesung / Vortrag
ATTACH;FMTTYPE=image/jpeg:https://haltern-online.de/wp-content/uploads/2024/10/Buecherei.jpg
ORGANIZER;CN="Buchhandlung Kortenkamp":MAILTO:service@kortenkamp.de
END:VEVENT
BEGIN:VEVENT
DTSTART;TZID=Europe/Berlin:20250927T093000
DTEND;TZID=Europe/Berlin:20250927T160000
DTSTAMP:20260420T110144
CREATED:20250919T142239Z
LAST-MODIFIED:20250919T142239Z
UID:10000330-1758965400-1758988800@haltern-online.de
SUMMARY:Mangaday in der Buchhandlung Kortenkamp erleben
DESCRIPTION:Taucht ein in fantastische Manga-Welten! \nAm Samstag\, den 27. September\, verwandelt sich die Buchhandlung Kortenkamp in einen Treffpunkt für alle Fans japanischer Comic- und Zeichenkunst. \nBeim „Mangaday!“ dreht sich alles um Manga und Anime: Entdeckt neue Geschichten\, stöbert durch ausgewählte Titel und kommt mit anderen Fans ins Gespräch. \nOb Neuling oder eingefleischter Otaku – dieser Tag bietet Inspiration\, Austausch und jede Menge Lesestoff. Ideal auch für Jugendliche und junge Erwachsene\, die sich für japanische Popkultur interessieren. Der Eintritt ist frei – einfach vorbeikommen und mitmachen! \nFoto: Canva
URL:https://haltern-online.de/event/mangaday-in-der-buchhandlung-kortenkamp-erleben/
LOCATION:Buchhandlung Kortenkamp\, Lippstraße 2\, Haltern am See\, Nordrhein-Westfalen\, 45721\, Germany
CATEGORIES:Hobby,Lesung / Vortrag
ATTACH;FMTTYPE=image/jpeg:https://haltern-online.de/wp-content/uploads/2025/09/Mangaday-Buchhandlung-Kortenkamp.jpg
ORGANIZER;CN="Buchhandlung Kortenkamp":MAILTO:service@kortenkamp.de
END:VEVENT
BEGIN:VEVENT
DTSTART;TZID=Europe/Berlin:20250328T190000
DTEND;TZID=Europe/Berlin:20250328T203000
DTSTAMP:20260420T110144
CREATED:20250216T084323Z
LAST-MODIFIED:20250216T084323Z
UID:10000210-1743188400-1743193800@haltern-online.de
SUMMARY:Bücherfrühling für Kids in der Buchhandlung Kortenkamp
DESCRIPTION:Bücherfrühling Kids\nEine Buchvorstellung für Kinder bis 12 Jahren in der Buchhandlung Kortenkamp. \nAuch im Frühjahr 2025 gibt es wieder viele\, tolle neue Bücher für Kinder. Wir haben uns durch das Programm gelesen und stellen euch am 28.03.2025 von 19:00 Uhr bis 20:30 Uhr die besten\, lustigsten\, spannendsten und aufregendsten Neuerscheinungen vor! Wie immer ist für jeden Geschmack etwas dabei! \nKarten für 8\,00 Euro\, bekommt ihr bei uns in der Buchhandlung Kortenkamp.
URL:https://haltern-online.de/event/buecherfruehling-fuer-kids-in-der-buchhandlung-kortenkamp/
LOCATION:Buchhandlung Kortenkamp\, Lippstraße 2\, Haltern am See\, Nordrhein-Westfalen\, 45721\, Germany
CATEGORIES:Hobby,Kinderfreundlich
ATTACH;FMTTYPE=image/jpeg:https://haltern-online.de/wp-content/uploads/2024/10/Buchhandlung.jpg
ORGANIZER;CN="Buchhandlung Kortenkamp":MAILTO:service@kortenkamp.de
END:VEVENT
BEGIN:VEVENT
DTSTART;TZID=Europe/Berlin:20250213T193000
DTEND;TZID=Europe/Berlin:20250213T213000
DTSTAMP:20260420T110144
CREATED:20250119T111732Z
LAST-MODIFIED:20250119T111732Z
UID:10000191-1739475000-1739482200@haltern-online.de
SUMMARY:Lesung „Bin fast fertig\, muss nur noch anfangen“
DESCRIPTION:Lesung mit Nicole Staudinger „Bin fast fertig\, muss nur noch anfangen“ \nNicole Staudinger verrät uns am 13.02.2025 um 19:30 Uhr in der Buchhandlung Kortenkamp\, wie wir die Dinge auf unserer „Ich muss“-Liste entspannt und motiviert erledigen\, wie wir herausfinden\, was wir auf unsere „Ich will“-Liste setzen und wie wir beides aus Überzeugung und mit Freude tun. Mit ihrem persönlichen\, unterhaltsamen und alltagspraktischen Buch hilft sie uns dabei\, endlich in die Umsetzung zu kommen für ein erfülltes und selbstbestimmtes Leben. \nTickets für 20\,00 Euro sind in der Buchhandlung Kortenkamp erhältlich.
URL:https://haltern-online.de/event/lesung-bin-fast-fertig-muss-nur-noch-anfangen/
LOCATION:Buchhandlung Kortenkamp\, Lippstraße 2\, Haltern am See\, Nordrhein-Westfalen\, 45721\, Germany
CATEGORIES:Kultur,Lesung / Vortrag
ATTACH;FMTTYPE=image/jpeg:https://haltern-online.de/wp-content/uploads/2024/10/Literatur.jpg
ORGANIZER;CN="Buchhandlung Kortenkamp":MAILTO:service@kortenkamp.de
END:VEVENT
BEGIN:VEVENT
DTSTART;TZID=Europe/Berlin:20241203T193000
DTEND;TZID=Europe/Berlin:20241203T213000
DTSTAMP:20260420T110144
CREATED:20241107T185918Z
LAST-MODIFIED:20241112T100826Z
UID:10000084-1733254200-1733261400@haltern-online.de
SUMMARY:"Gleis 11" - Weihnachtslesung in der Buchhandlung Kortenkamp
DESCRIPTION:„Gleis 11“ – Eine Weihnachtslesung mit Stephan Sandkühler am 03. Dezember 2024 von 19:30 Uhr bis 21:30 Uhr in der Buchhandlung Kortenkamp. \nUnterstützt durch die charmante Moderation von Carsten Nagel\, lässt Stephan Sandkühler Sie auch in diesem Jahr wieder eintauchen in den träumerischen Zauber der Vorweihnachtszeit. Musikalisch abgerundet wird der Abend durch die Halterner Band Ninety Percent. \nKarten für 8\,00 Euro sind in der Buchhandlung erhältlich.
URL:https://haltern-online.de/event/gleis-11-weihnachtslesung-in-der-buchhandlung-kortenkamp/
LOCATION:Buchhandlung Kortenkamp\, Lippstraße 2\, Haltern am See\, Nordrhein-Westfalen\, 45721\, Germany
CATEGORIES:Lesung / Vortrag
ATTACH;FMTTYPE=image/jpeg:https://haltern-online.de/wp-content/uploads/2024/10/Buchhandlung.jpg
ORGANIZER;CN="Buchhandlung Kortenkamp":MAILTO:service@kortenkamp.de
END:VEVENT
BEGIN:VEVENT
DTSTART;TZID=Europe/Berlin:20241129T190000
DTEND;TZID=Europe/Berlin:20241129T210000
DTSTAMP:20260420T110144
CREATED:20241107T185900Z
LAST-MODIFIED:20241107T190556Z
UID:10000083-1732906800-1732914000@haltern-online.de
SUMMARY:Bücherherbst für Kids in der Buchhandlung Kortenkamp
DESCRIPTION:Bücherherbst für Kids – Eine Buchvorstellung in der Buchhandlung Kortenkamp am 29. November 2024 von 19:00 Uhr bis 21:00 Uhr. \nWie jedes Jahr stellen wir unseren jüngeren Kundinnen und Kunden von 8-12 Jahren die besten Neuerscheinungen im Herbst vor und geben natürlich auch wieder eine kurze Kostprobe unserer Favoriten. Es wird witzig\, romantisch\, fantasievoll\, phantastisch und spannend – für jeden und jede ist etwas dabei! \nKarten für 8\,00 Euro\, gibt es bei uns in der Buchhandlung.
URL:https://haltern-online.de/event/buecherherbst-fuer-kids-in-der-buchhandlung-kortenkamp/
LOCATION:Buchhandlung Kortenkamp\, Lippstraße 2\, Haltern am See\, Nordrhein-Westfalen\, 45721\, Germany
CATEGORIES:Kinderfreundlich,Lesung / Vortrag
ATTACH;FMTTYPE=image/jpeg:https://haltern-online.de/wp-content/uploads/2024/10/Buecherei.jpg
ORGANIZER;CN="Buchhandlung Kortenkamp":MAILTO:service@kortenkamp.de
END:VEVENT
BEGIN:VEVENT
DTSTART;TZID=Europe/Berlin:20241113T193000
DTEND;TZID=Europe/Berlin:20241113T213000
DTSTAMP:20260420T110144
CREATED:20241107T185812Z
LAST-MODIFIED:20241107T190823Z
UID:10000061-1731526200-1731533400@haltern-online.de
SUMMARY:Bücherherbst in der Buchhandlung Kortenkamp
DESCRIPTION:Bücherherbst – Die Buchvorstellung in der Buchhandlung Kortenkamp am 13. November 2024 von 19:30 Uhr bis 21:30 Uhr. \nWas wäre der Herbst ohne ein gutes Buch? Wenn es draußen langsam ungemütlich wird\, gibt es doch nichts Besseres als es sich mit einem Buch auf dem Sofa gemütlich zu machen. Damit Sie sich nicht selbst durch die vielen Neuerscheinungen wühlen müssen\, stellen wir Ihnen wieder unsere Geheimtipps im Herbst vor. Von lustigen\, romantischen und unterhaltsamen Romanen bis spannende Thriller – für jeden Geschmack ist etwas dabei! \nKarten für 8\,00 Euro erhalten Sie bei uns in der Buchhandlung.
URL:https://haltern-online.de/event/buecherherbst-in-der-buchhandlung-kortenkamp/
LOCATION:Buchhandlung Kortenkamp\, Lippstraße 2\, Haltern am See\, Nordrhein-Westfalen\, 45721\, Germany
CATEGORIES:Hobby,Kultur
ATTACH;FMTTYPE=image/jpeg:https://haltern-online.de/wp-content/uploads/2024/10/Buecherei.jpg
ORGANIZER;CN="Buchhandlung Kortenkamp":MAILTO:service@kortenkamp.de
END:VEVENT
BEGIN:VEVENT
DTSTART;TZID=Europe/Berlin:20241106T190000
DTEND;TZID=Europe/Berlin:20241106T203000
DTSTAMP:20260420T110144
CREATED:20241107T185755Z
LAST-MODIFIED:20241107T185755Z
UID:10000051-1730919600-1730925000@haltern-online.de
SUMMARY:Weck niemals einen Drachen - Lesung in der Buchhandlung Kortenkamp
DESCRIPTION:Eine Lesung mit Annette Roeder ab 9 Jahren am 06. November 2024 von 19:00 Uhr bis 20:30 Uhr. \nAuf diesen Schulausflug hätte Clem nur zu gut verzichten können: Führung durchs verstaubte Burgenmuseum und dann auch noch Gruppenarbeit mit Bahira. Dass das durchgeknallte Mädchen ein altes Gemälde demoliert\, ist kaum eine Überraschung. Die geheime Schrift\, die dabei unter dem Rahmen auftaucht\, allerdings schon! \nTickets für 8\,00 Euro in der Buchhandlung erhältlich.
URL:https://haltern-online.de/event/weck-niemals-einen-drachen-lesung-in-der-buchhandlung-kortenkamp/
LOCATION:Buchhandlung Kortenkamp\, Lippstraße 2\, Haltern am See\, Nordrhein-Westfalen\, 45721\, Germany
CATEGORIES:Kinderfreundlich,Kultur
ORGANIZER;CN="Buchhandlung Kortenkamp":MAILTO:service@kortenkamp.de
END:VEVENT
BEGIN:VEVENT
DTSTART;TZID=Europe/Berlin:20241105T193000
DTEND;TZID=Europe/Berlin:20241105T193000
DTSTAMP:20260420T110144
CREATED:20241008T120344Z
LAST-MODIFIED:20241008T145048Z
UID:10000015-1730835000-1730835000@haltern-online.de
SUMMARY:Tresenlesen - Endlich in Hengenbengen
DESCRIPTION:
URL:https://haltern-online.de/event/tresenlesen-endlich-in-hengenbengen/
LOCATION:Buchhandlung Kortenkamp\, Lippstraße 2\, Haltern am See\, Nordrhein-Westfalen\, 45721\, Germany
CATEGORIES:Kultur
ATTACH;FMTTYPE=image/jpeg:https://haltern-online.de/wp-content/uploads/2024/10/Buchhandlung.jpg
END:VEVENT
BEGIN:VEVENT
DTSTART;TZID=Europe/Berlin:20241023T193000
DTEND;TZID=Europe/Berlin:20241023T193000
DTSTAMP:20260420T110144
CREATED:20241007T135313Z
LAST-MODIFIED:20241007T141617Z
UID:10000005-1729711800-1729711800@haltern-online.de
SUMMARY:Die Frau am Fenster
DESCRIPTION:
URL:https://haltern-online.de/event/die-frau-am-fenster/
LOCATION:Buchhandlung Kortenkamp\, Lippstraße 2\, Haltern am See\, Nordrhein-Westfalen\, 45721\, Germany
CATEGORIES:Kultur
ATTACH;FMTTYPE=image/jpeg:https://haltern-online.de/wp-content/uploads/2024/10/Buchhandlung.jpg
END:VEVENT
BEGIN:VEVENT
DTSTART;TZID=Europe/Berlin:20241010T193000
DTEND;TZID=Europe/Berlin:20241010T233000
DTSTAMP:20260420T110144
CREATED:20241007T130753Z
LAST-MODIFIED:20241007T141854Z
UID:10000004-1728588600-1728603000@haltern-online.de
SUMMARY:Bertha Benz und die Straße der Träume
DESCRIPTION:
URL:https://haltern-online.de/event/bertha-benz-und-die-strasse-der-traeume/
LOCATION:Buchhandlung Kortenkamp\, Lippstraße 2\, Haltern am See\, Nordrhein-Westfalen\, 45721\, Germany
CATEGORIES:Kultur
ATTACH;FMTTYPE=image/jpeg:https://haltern-online.de/wp-content/uploads/2024/10/Buchhandlung.jpg
END:VEVENT
END:VCALENDAR