BEGIN:VCALENDAR
VERSION:2.0
PRODID:-//Haltern-Online.de - ECPv6.15.20//NONSGML v1.0//EN
CALSCALE:GREGORIAN
METHOD:PUBLISH
X-ORIGINAL-URL:https://haltern-online.de
X-WR-CALDESC:Veranstaltungen für Haltern-Online.de
REFRESH-INTERVAL;VALUE=DURATION:PT1H
X-Robots-Tag:noindex
X-PUBLISHED-TTL:PT1H
BEGIN:VTIMEZONE
TZID:Europe/Berlin
BEGIN:DAYLIGHT
TZOFFSETFROM:+0100
TZOFFSETTO:+0200
TZNAME:CEST
DTSTART:20230326T010000
END:DAYLIGHT
BEGIN:STANDARD
TZOFFSETFROM:+0200
TZOFFSETTO:+0100
TZNAME:CET
DTSTART:20231029T010000
END:STANDARD
BEGIN:DAYLIGHT
TZOFFSETFROM:+0100
TZOFFSETTO:+0200
TZNAME:CEST
DTSTART:20240331T010000
END:DAYLIGHT
BEGIN:STANDARD
TZOFFSETFROM:+0200
TZOFFSETTO:+0100
TZNAME:CET
DTSTART:20241027T010000
END:STANDARD
BEGIN:DAYLIGHT
TZOFFSETFROM:+0100
TZOFFSETTO:+0200
TZNAME:CEST
DTSTART:20250330T010000
END:DAYLIGHT
BEGIN:STANDARD
TZOFFSETFROM:+0200
TZOFFSETTO:+0100
TZNAME:CET
DTSTART:20251026T010000
END:STANDARD
BEGIN:DAYLIGHT
TZOFFSETFROM:+0100
TZOFFSETTO:+0200
TZNAME:CEST
DTSTART:20260329T010000
END:DAYLIGHT
BEGIN:STANDARD
TZOFFSETFROM:+0200
TZOFFSETTO:+0100
TZNAME:CET
DTSTART:20261025T010000
END:STANDARD
BEGIN:DAYLIGHT
TZOFFSETFROM:+0100
TZOFFSETTO:+0200
TZNAME:CEST
DTSTART:20270328T010000
END:DAYLIGHT
BEGIN:STANDARD
TZOFFSETFROM:+0200
TZOFFSETTO:+0100
TZNAME:CET
DTSTART:20271031T010000
END:STANDARD
END:VTIMEZONE
BEGIN:VEVENT
DTSTART;TZID=Europe/Berlin:20260313T200000
DTEND;TZID=Europe/Berlin:20260313T220000
DTSTAMP:20260420T121952
CREATED:20260126T102131Z
LAST-MODIFIED:20260126T102131Z
UID:10000416-1773432000-1773439200@haltern-online.de
SUMMARY:Kings of Floyd - Dark Side Tour
DESCRIPTION:Die Kings of Floyd zählen zu den bekannten Pink Floyd Tribute-Bands und gastieren mit ihrer Dark Side Tour in Haltern. \nDie Musiker widmen sich seit vielen Jahren intensiv dem Werk von Pink Floyd und präsentieren auf der Dark Side Tour eine Auswahl klassischer Titel aus verschiedenen Schaffensphasen der britischen Rockband. \nIm Mittelpunkt der Dark Side Tour steht eine originalgetreue Umsetzung der Musik\, ergänzt durch eine sorgfältig abgestimmte Bühnen- und Lichtgestaltung. Visuelle Elemente unterstützen die Atmosphäre und greifen die für Pink Floyd typischen Klang- und Themenwelten auf. \nDie Dark Side Tour der Kings of Floyd richtet sich an Fans der Band ebenso wie an Besucherinnen und Besucher\, die sich für Progressive Rock und aufwändig inszenierte Live-Musik interessieren. \nDie Tickets sind HIER erhältlich. \nBildquelle: KI-generiert/Heimatmedien
URL:https://haltern-online.de/event/kings-of-floyd-dark-side-tour/
LOCATION:Aula Des Schulzentrums\, Holtwicker Str. 5\, Haltern am See\, Nordrhein-Westfalen\, 45721\, Germany
CATEGORIES:Konzert,Lifestyle,Party
ATTACH;FMTTYPE=image/jpeg:https://haltern-online.de/wp-content/uploads/2026/01/Kings-of-Floyd-Haltern.jpg
END:VEVENT
BEGIN:VEVENT
DTSTART;TZID=Europe/Berlin:20260307T183000
DTEND;TZID=Europe/Berlin:20260307T235900
DTSTAMP:20260420T121952
CREATED:20260223T145512Z
LAST-MODIFIED:20260223T145512Z
UID:10000436-1772908200-1772927940@haltern-online.de
SUMMARY:Sportlerehrung 2026
DESCRIPTION:Die Stadt Haltern am See lädt in der Aula des Schulzentrums zur Sportlerehrung 2026 ein. Die erfolgreichsten Sportler der vergangenen Saison werden gefeiert. \nDie Veranstaltung beginnt um 18:30 Uhr. \nDer Eintritt ist frei\, sodass alle Interessierten die Gelegenheit haben\, mitzuerleben\, wie sportlicher Einsatz\, Teamgeist und herausragende Leistungen gewürdigt werden. \nZur offiziellen Website der Stadt Haltern geht es HIER. \nBildquelle: KI-generiertes Symbolbild
URL:https://haltern-online.de/event/sportlerehrung-2026/
LOCATION:Aula Des Schulzentrums\, Holtwicker Str. 5\, Haltern am See\, Nordrhein-Westfalen\, 45721\, Germany
CATEGORIES:Lifestyle,Sport
ATTACH;FMTTYPE=image/jpeg:https://haltern-online.de/wp-content/uploads/2025/12/sportlerehrung-haltern.jpg
ORGANIZER;CN="Stadt Haltern am See":MAILTO:info@haltern-im-see.de
END:VEVENT
BEGIN:VEVENT
DTSTART;TZID=Europe/Berlin:20260201T160000
DTEND;TZID=Europe/Berlin:20260201T235900
DTSTAMP:20260420T121952
CREATED:20260114T160407Z
LAST-MODIFIED:20260114T160407Z
UID:10000409-1769961600-1769990340@haltern-online.de
SUMMARY:Plattdeutsche Komödie: „De laige Verwandtshop"
DESCRIPTION:Die Plattdeutsche Bühne Haltern zeigt ihr neues Theaterstück „De laige Verwandtschop“. Die Komödie verspricht einen unterhaltsamen und humorvollen Theaterabend in plattdeutscher Sprache.  \nDas Ensemble probte in den vergangenen Wochen eifrig\, um dem Publikum eine lebendige und detailreich inszenierte Aufführung zu präsentieren. Besonderes Augenmerk wird auf das Bühnenbild gelegt: Bühnenbauer Reiner Gerdes nutzt die großzügige Bühne der Aula\, um eine aufwendige Dekoration zu gestalten\, die die Atmosphäre des Stücks authentisch widerspiegelt. Die Zuschauerinnen und Zuschauer dürfen sich auf eine liebevoll gestaltete Kulisse freuen. \nWeitere Informationen: \n2007 – Plattdeutsche Bühne Haltern am See! \nBildquelle: Plattdeutsche Bühne Haltern
URL:https://haltern-online.de/event/plattdeutsche-komoedie-de-laige-verwandtshop/
LOCATION:Aula Des Schulzentrums\, Holtwicker Str. 5\, Haltern am See\, Nordrhein-Westfalen\, 45721\, Germany
CATEGORIES:Kultur,Theater/Bühne
ATTACH;FMTTYPE=image/jpeg:https://haltern-online.de/wp-content/uploads/2024/12/Plattdeutsche-Buehne-Kopfbild.jpg
END:VEVENT
BEGIN:VEVENT
DTSTART;TZID=Europe/Berlin:20251127T193000
DTEND;TZID=Europe/Berlin:20251127T220000
DTSTAMP:20260420T121952
CREATED:20251028T155317Z
LAST-MODIFIED:20251028T155317Z
UID:10000382-1764271800-1764280800@haltern-online.de
SUMMARY:„Jauchzet\, frohlocket“ – Weihnachtsprogramm mit Jochen Malmsheimer & Tiffany Ensemble
DESCRIPTION:Feierlich\, festlich\, fulminant: Ein literarisch-musikalischer Abend zur Weihnachtszeit \nAm Donnerstag\, 27. November 2025\, um 19:30 Uhr\, erwartet Besucherinnen und Besucher der Aula Schulzentrum Haltern ein besonderer Abend voller Sprache\, Musik und Weihnachtsstimmung: Kabarettist Jochen Malmsheimer trifft auf das Tiffany Ensemble – ein ungewöhnlich gelungenes Zusammenspiel aus tiefgründigem Humor und kammermusikalischem Können. \nUnter dem Titel „Jauchzet\, frohlocket“ präsentieren die Künstler ein festliches Programm aus sprachgewaltigen Texten\, satirischen Reflexionen und klassischer Musik\, das Weihnachtsherzen höherschlagen lässt – und dabei nicht nur feierlich\, sondern auch höchst unterhaltsam ist. \nFoto: Canva
URL:https://haltern-online.de/event/jauchzet-frohlocket-weihnachtsprogramm-mit-jochen-malmsheimer-tiffany-ensemble/
LOCATION:Aula Des Schulzentrums\, Holtwicker Str. 5\, Haltern am See\, Nordrhein-Westfalen\, 45721\, Germany
CATEGORIES:Lesung / Vortrag
ATTACH;FMTTYPE=image/jpeg:https://haltern-online.de/wp-content/uploads/2024/10/Buchhandlung.jpg
ORGANIZER;CN="Buchhandlung Kortenkamp":MAILTO:service@kortenkamp.de
END:VEVENT
BEGIN:VEVENT
DTSTART;TZID=Europe/Berlin:20250921T180000
DTEND;TZID=Europe/Berlin:20250921T220000
DTSTAMP:20260420T121952
CREATED:20250701T072818Z
LAST-MODIFIED:20250701T073002Z
UID:10000308-1758477600-1758492000@haltern-online.de
SUMMARY:Music meets Comedy – Benefizabend zugunsten der Sudan-Hilfe
DESCRIPTION:Ein bunter Varietéabend mit Comedy\, Musik und Sandmalerei – präsentiert von LEO Events & Marketing und der Pfarrei St. Sixtus. Alle Einnahmen fließen direkt an notleidende Menschen im Sudan. \nAm 21. September 2025 verwandelt sich die Aula des Schulzentrums Haltern in eine Bühne für ein außergewöhnliches Varieté-Erlebnis: „Music meets Comedy“. Ab 18 Uhr erwartet die Gäste ein unterhaltsames Programm mit Stimmenparodist Jörg Hammerschmidt\, Sandmalerei-Weltmeisterin Iryna Bilenka\, Musiker Thomas Weber sowie der Moderatorin und Comedienne Lieselotte Lotterlappen. \nDer gesamte Erlös des Abends kommt ohne Abzüge der Initiative „Haltern hilft – Sudan“ zugute\, die in Kooperation mit der Welthungerhilfe Spenden für Menschen in Not sammelt. \nTickets:29 Euro (Vorverkauf) / 35 Euro (Abendkasse)Vorverkaufsstellen: Bürobedarf Cleve\, Buchhandlung Kortenkamp\, Pastoralbüro St. Sixtus \nMusic-meets-Comedy
URL:https://haltern-online.de/event/music-meets-comedy-benefizabend-zugunsten-der-sudan-hilfe/
LOCATION:Aula Des Schulzentrums\, Holtwicker Str. 5\, Haltern am See\, Nordrhein-Westfalen\, 45721\, Germany
CATEGORIES:Konzert,Kultur
ATTACH;FMTTYPE=image/jpeg:https://haltern-online.de/wp-content/uploads/2025/07/Titelbild-Music-meets-Comedy.jpg
ORGANIZER;CN="LEO Events & Marketing":MAILTO:info@leo-eventmarketing.de
END:VEVENT
BEGIN:VEVENT
DTSTART;TZID=Europe/Berlin:20250503T180000
DTEND;TZID=Europe/Berlin:20250503T180000
DTSTAMP:20260420T121952
CREATED:20250120T155113Z
LAST-MODIFIED:20250130T131912Z
UID:10000207-1746295200-1746295200@haltern-online.de
SUMMARY:Comedy & Currywurst in der Aula Schulzentrum
DESCRIPTION:4 Comedians – 100 Minuten Lachen – Currywurst satt \nLecker Essen und lachen. Geht das? Na klar! Der Volksmund sagt: „Aller guten Dinge sind 3“ und deshalb kann sich Haltern am See auf eine Fortsetzung von „COMEDY & CURRYWURST“ im Jahr 2025 freuen. Die Agentur LEO Events & Marketing präsentiert die beliebte CULT-COMEDY-CURRYWURST-SHOW am Samstag\, den 03.05.2025 und begrüsst zum dritten Mal die Creme de la Creme der Comedy- und Kabarettszene auf der Bühne der Aula in Haltern am See. Jede(r) der vier Künstler*in spielt einen Ausschnitt aus seinem/ihrem aktuellen Soloprogramm und als wäre das nicht schon Freude genug\, gibt es vor der 100 minütigen Show auch noch eine schmackhafte Currywurst aus dem Hause Pfeiffer und ist selbstverständlich im Preis mit inbegriffen. \nSamstag\, 03.05.2025 / Aula\, Haltern am See \n18:00 Einlass und Currywurst / 20:00 Beginn Show \nWo bekomme ich die Tickets zur Show? \nTickets online kaufen – Hier klicken! \nBürobedarf Cleve\, Rekumer Straße 4\, 45721 Haltern am See \nHotel Pfeiffer\, Am Wehr 71\, 45721 Haltern am See \nAgentur Leo Events & Marketing\, Weseler Str. 33\, 45721 Haltern am See *\n*auch online bestellbar: info@leo-eventmarketing.de \nHinweis: Die Tickets können ausschließlich in BAR erworben werden.
URL:https://haltern-online.de/event/comedy-currywurst-in-der-aula-schulzentrum/
LOCATION:Aula Des Schulzentrums\, Holtwicker Str. 5\, Haltern am See\, Nordrhein-Westfalen\, 45721\, Germany
CATEGORIES:Essen&Trinken,Kultur,Theater/Bühne
ATTACH;FMTTYPE=image/png:https://haltern-online.de/wp-content/uploads/2025/01/CurrywurstuComedy.png
ORGANIZER;CN="LEO Events & Marketing":MAILTO:info@leo-eventmarketing.de
END:VEVENT
BEGIN:VEVENT
DTSTART;TZID=Europe/Berlin:20250426T180000
DTEND;TZID=Europe/Berlin:20250426T180000
DTSTAMP:20260420T121952
CREATED:20250318T094102Z
LAST-MODIFIED:20250318T094448Z
UID:10000237-1745690400-1745690400@haltern-online.de
SUMMARY:Königsehrenabend der Schützengilde Haltern am See
DESCRIPTION:Am Samstag\, den 26. April 2025\, lädt die Schützengilde Haltern am See zum traditionellen Königsehrenabend ein. \nAusgerichtet von der 3. Kompanie\, findet die feierliche Veranstaltung in der Aula des Schulzentrums statt. Ab 18:00 Uhr werden die Königspaare geehrt und ein geselliger Abend im Kreise der Schützen gefeiert. \nDatum: Samstag\, 26. April 2025Uhrzeit: 18:00 UhrOrt: Aula des Schulzentrums\, Haltern am SeeAusrichter: 3. Kompanie der Schützengilde Haltern am See \nFotoquelle: Schützengilde Haltern am See
URL:https://haltern-online.de/event/koenigsehrenabend-der-schuetzengilde-haltern-am-see/
LOCATION:Aula Des Schulzentrums\, Holtwicker Str. 5\, Haltern am See\, Nordrhein-Westfalen\, 45721\, Germany
CATEGORIES:Kultur
ATTACH;FMTTYPE=image/jpeg:https://haltern-online.de/wp-content/uploads/2025/03/Schuetzengilde.jpg
ORGANIZER;CN="Sch%C3%BCtzengilde Haltern":MAILTO:praesident@schuetzengilde-haltern.de
END:VEVENT
BEGIN:VEVENT
DTSTART;TZID=Europe/Berlin:20250329T170000
DTEND;TZID=Europe/Berlin:20250329T170000
DTSTAMP:20260420T121952
CREATED:20250123T103624Z
LAST-MODIFIED:20250123T151346Z
UID:10000204-1743267600-1743267600@haltern-online.de
SUMMARY:Jubiläumskonzert: 30 Jahre Blasorchester Hullern
DESCRIPTION:Wann? Samstag\, 29. März 2025\, 17:00 Uhr\nWo? Aula des Schulzentrums Haltern\, Holtwicker Straße 3\, 45721 Haltern am See\nVeranstalter: Blasorchester Hullern e.V. \nFeiern Sie mit uns 30 Jahre Blasorchester Hullern! Erleben Sie ein musikalisches Highlight mit über 60 Musikerinnen und Musikern\, Licht- und Showeffekten sowie einem abwechslungsreichen Programm. Zu Gast ist der Musikverein 1821 Neuerburg aus der Eifel – gemeinsam präsentieren die Orchester epische Filmmusik\, swingende Medleys und traditionelle Märsche. Die Schulband „Fall“ der Alexander-Lebenstein-Realschule sorgt für besondere musikalische Akzente\, unterstützt durch die Licht- und Tontechnik AG. \nDer Eintritt ist frei. Spenden werden erbeten\, um die musikalische Jugendarbeit der Realschule sowie des Trigons Haltern zu fördern. \n \nFoto: Verein
URL:https://haltern-online.de/event/jubilaeumskonzert-30-jahre-blasorchester-hullern/
LOCATION:Aula Des Schulzentrums\, Holtwicker Str. 5\, Haltern am See\, Nordrhein-Westfalen\, 45721\, Germany
CATEGORIES:Gesprächskreis,Kultur,Sport
ATTACH;FMTTYPE=image/jpeg:https://haltern-online.de/wp-content/uploads/2025/01/Blasorchesta-Hullern.jpg
END:VEVENT
BEGIN:VEVENT
DTSTART;TZID=Europe/Berlin:20250315T200000
DTEND;TZID=Europe/Berlin:20250315T223000
DTSTAMP:20260420T121952
CREATED:20250216T154910Z
LAST-MODIFIED:20250216T154910Z
UID:10000222-1742068800-1742077800@haltern-online.de
SUMMARY:Die Unfassbaren – Magic Comedy & Hypnose
DESCRIPTION:Die Unfassbaren – Magic Comedy & Hypnose\nErlebt in der Aula Schulzentrum am 15.03.2025 um 20:00 Uhr ein Spektakel der Extraklasse\, wenn Magier Ben David und Hypnotiseur Christo gemeinsam die Bühne betreten! \nIhre einzigartige Show aus einer Mischung aus Magie\, Comedy und Hypnose\, wird Euch in eine Welt voller Wunder und Überraschungen entführen. Die beiden Ausnahmetalente machen das Unmögliche möglich und ziehen Euch hautnah in ihren Bann. \nErwartet eine interaktive Show\, die für alle Altersgruppen geeignet ist und Unterhaltung für die ganze Familie bietet. \nLasst Euch von Ben David mit seinen atemberaubenden Zaubertricks verblüffen und von Christo in tranceähnliche Zustände versetzen. \nKeine Show ist wie die andere\, denn jeden Abend fügt das erfolgreiche Duo ein neues Kapitel hinzu – und Ihr seid mittendrin im Geschehen! \nTickets sind online erhältlich.
URL:https://haltern-online.de/event/die-unfassbaren-magic-comedy-hypnose/
LOCATION:Aula Des Schulzentrums\, Holtwicker Str. 5\, Haltern am See\, Nordrhein-Westfalen\, 45721\, Germany
CATEGORIES:Theater/Bühne
ATTACH;FMTTYPE=image/jpeg:https://haltern-online.de/wp-content/uploads/2024/10/Zaubershow.jpg
ORGANIZER;CN="B&C Productions GbR":MAILTO:info@die-unfassbaren.de
END:VEVENT
BEGIN:VEVENT
DTSTART;TZID=Europe/Berlin:20250119T111500
DTEND;TZID=Europe/Berlin:20250119T140000
DTSTAMP:20260420T121952
CREATED:20241125T111844Z
LAST-MODIFIED:20241125T111855Z
UID:10000160-1737285300-1737295200@haltern-online.de
SUMMARY:Neujahrsempfang & Neujahrskonzert
DESCRIPTION:Zu einem festlichen Neujahrsempfang mit Neujahrskonzert lädt die Stadt Haltern am See am 19.01.2025 von 11:15 Uhr bis 14:00 Uhr in Kooperation mit der Musikschule alle interessierten Bürgerinnen und Bürger in die Aula des Schulzentrums ein. \nAn der Eingangstür werden Bürgermeister Andreas Stegemann und seine Stellvertreterinnen die Gäste persönlich begrüßen. Herzstück der Veranstaltung ist die traditionelle Neujahrsansprache von Bürgermeister Andreas Stegemann\, die unter anderem Rückblicke auf das vergangene Jahr und Ausblicke auf zukünftige Projekte und Ereignisse beinhalten wird. \nDie Musikschule Haltern am See hat sich für das Neujahrskonzert ein vielfältiges Programm überlegt. Stadt und Musikschule freuen sich über zahlreiche Gäste. \nDer Eintritt ist frei.
URL:https://haltern-online.de/event/neujahrsempfang-neujahrskonzert/
LOCATION:Aula Des Schulzentrums\, Holtwicker Str. 5\, Haltern am See\, Nordrhein-Westfalen\, 45721\, Germany
CATEGORIES:Konzert,Kultur
ATTACH;FMTTYPE=image/jpeg:https://haltern-online.de/wp-content/uploads/2024/10/Theater.jpg
ORGANIZER;CN="Stadt Haltern am See":MAILTO:info@haltern-im-see.de
END:VEVENT
BEGIN:VEVENT
DTSTART;TZID=Europe/Berlin:20241025T200000
DTEND;TZID=Europe/Berlin:20241025T233000
DTSTAMP:20260420T121952
CREATED:20241008T095420Z
LAST-MODIFIED:20241008T095420Z
UID:10000009-1729886400-1729899000@haltern-online.de
SUMMARY:Las Vegas Illusions
DESCRIPTION:
URL:https://haltern-online.de/event/las-vegas-illusions/
LOCATION:Aula Des Schulzentrums\, Holtwicker Str. 5\, Haltern am See\, Nordrhein-Westfalen\, 45721\, Germany
CATEGORIES:Kultur
ATTACH;FMTTYPE=image/jpeg:https://haltern-online.de/wp-content/uploads/2024/10/Zaubershow.jpg
END:VEVENT
END:VCALENDAR