BEGIN:VCALENDAR
VERSION:2.0
PRODID:-//Haltern-Online.de - ECPv6.15.20//NONSGML v1.0//EN
CALSCALE:GREGORIAN
METHOD:PUBLISH
X-ORIGINAL-URL:https://haltern-online.de
X-WR-CALDESC:Veranstaltungen für Haltern-Online.de
REFRESH-INTERVAL;VALUE=DURATION:PT1H
X-Robots-Tag:noindex
X-PUBLISHED-TTL:PT1H
BEGIN:VTIMEZONE
TZID:Europe/Berlin
BEGIN:DAYLIGHT
TZOFFSETFROM:+0100
TZOFFSETTO:+0200
TZNAME:CEST
DTSTART:20230326T010000
END:DAYLIGHT
BEGIN:STANDARD
TZOFFSETFROM:+0200
TZOFFSETTO:+0100
TZNAME:CET
DTSTART:20231029T010000
END:STANDARD
BEGIN:DAYLIGHT
TZOFFSETFROM:+0100
TZOFFSETTO:+0200
TZNAME:CEST
DTSTART:20240331T010000
END:DAYLIGHT
BEGIN:STANDARD
TZOFFSETFROM:+0200
TZOFFSETTO:+0100
TZNAME:CET
DTSTART:20241027T010000
END:STANDARD
BEGIN:DAYLIGHT
TZOFFSETFROM:+0100
TZOFFSETTO:+0200
TZNAME:CEST
DTSTART:20250330T010000
END:DAYLIGHT
BEGIN:STANDARD
TZOFFSETFROM:+0200
TZOFFSETTO:+0100
TZNAME:CET
DTSTART:20251026T010000
END:STANDARD
BEGIN:DAYLIGHT
TZOFFSETFROM:+0100
TZOFFSETTO:+0200
TZNAME:CEST
DTSTART:20260329T010000
END:DAYLIGHT
BEGIN:STANDARD
TZOFFSETFROM:+0200
TZOFFSETTO:+0100
TZNAME:CET
DTSTART:20261025T010000
END:STANDARD
END:VTIMEZONE
BEGIN:VEVENT
DTSTART;TZID=Europe/Berlin:20251012T170000
DTEND;TZID=Europe/Berlin:20251012T170000
DTSTAMP:20260420T104709
CREATED:20251001T142028Z
LAST-MODIFIED:20251001T142043Z
UID:10000344-1760288400-1760288400@haltern-online.de
SUMMARY:Literatur im Rathaus mit Michael van Ahlen
DESCRIPTION:Die Reihe „Literatur im Rathaus“ geht in eine neue Runde: Diesmal ist der Autor Michael van Ahlen zu Gast im Alten Rathaus Haltern. \nIn gemütlicher Atmosphäre stellt er Auszüge aus seinen Werken vor und gibt Einblicke in seine Schreibarbeit. \nDie Veranstaltung verbindet literarischen Genuss mit der besonderen Kulisse des historischen Rathauses. Ein Abend für alle\, die Sprache und Geschichten lieben. \nEintrittspreise: \n\nVorverkauf: 10 €\nTickets erhältlich über die Stadtagentur Haltern\, Tel. 02364 3272\n\nFoto: Kulturstiftung Masthoff
URL:https://haltern-online.de/event/literatur-im-rathaus-mit-michael-van-ahlen/
LOCATION:Altes Rathaus\, Markt 1\, Haltern am See\, Nordrhein-Westfalen\, 45721\, Germany
CATEGORIES:Kultur
ATTACH;FMTTYPE=image/jpeg:https://haltern-online.de/wp-content/uploads/2025/10/rathaus-haltern.jpg
ORGANIZER;CN="KulturStiftung Masthoff":MAILTO:hm@kulturstiftung-masthoff.de
END:VEVENT
BEGIN:VEVENT
DTSTART;TZID=Europe/Berlin:20250208T180000
DTEND;TZID=Europe/Berlin:20250208T193000
DTSTAMP:20260420T104709
CREATED:20250119T114536Z
LAST-MODIFIED:20250119T114536Z
UID:10000192-1739037600-1739043000@haltern-online.de
SUMMARY:Nachtwächterführung durch die Innenstadt
DESCRIPTION:„Hört\, hört ihr Leute\, lasst euch sagen …“\n…so klang Jahrhunderte lang in den Abendstunden der Nachtwächter-Ruf in den Gassen der Altstadt. \nBegleiten Sie unseren Nachtwächter am 08.02.2025 von 18:00 Uhr bis 19:30 Uhr bei seinem Rundgang. Unterhaltsam erzählt er von Dingen\, die man in den nächtlichen Gassen Halterns erlebte\, von der Geschichte der Stadt\, ihren Straßen und Plätzen\, von ihren lokalen Originalen und Persönlichkeiten sowie Anekdoten\, mal spaßig\, mal geheimnisvoll\, aber immer urig und spannend aus einer Zeit\, die schon lange vorbei ist. \nTreffpunkt: Eingang Altes Rathaus. Tickets: 9\,00 Euro / Kinder bis 14 Jahre kostenlos. \nKarten gibt es vorab in der Tourist-Information.
URL:https://haltern-online.de/event/nachtwaechterfuehrung-durch-die-innenstadt-4/
LOCATION:Altes Rathaus\, Markt 1\, Haltern am See\, Nordrhein-Westfalen\, 45721\, Germany
CATEGORIES:Führung,Kultur
ATTACH;FMTTYPE=image/jpeg:https://haltern-online.de/wp-content/uploads/2024/10/Nachtwaechter.jpg
ORGANIZER;CN="Stadt Haltern am See":MAILTO:info@haltern-im-see.de
END:VEVENT
BEGIN:VEVENT
DTSTART;TZID=Europe/Berlin:20250111T180000
DTEND;TZID=Europe/Berlin:20250111T193000
DTSTAMP:20260420T104709
CREATED:20241125T112632Z
LAST-MODIFIED:20241125T112709Z
UID:10000157-1736618400-1736623800@haltern-online.de
SUMMARY:Nachtwächterführung durch die Innenstadt
DESCRIPTION:„Hört\, hört ihr Leute\, lasst euch sagen …“ So klang Jahrhunderte lang in den Abendstunden der Nachtwächter-Ruf in den Gassen der Altstadt. \nBegleiten Sie unseren Nachtwächter am 11.01.2025 von 18:00 Uhr bis 19:30 Uhr bei seinem Rundgang. Unterhaltsam erzählt er von Dingen\, die man in den nächtlichen Gassen Halterns erlebte\, von der Geschichte der Stadt\, ihren Straßen und Plätzen\, von ihren lokalen Originalen und Persönlichkeiten sowie Anekdoten\, mal spaßig\, mal geheimnisvoll\, aber immer urig und spannend aus einer Zeit\, die schon lange vorbei ist. \nTreffpunkt: Eingang Altes Rathaus. Tickets: 9\,00 Euro / Kinder bis 14 Jahre kostenlos. \nKarten gibt es vorab in der Tourist-Information oder bei Pretix.
URL:https://haltern-online.de/event/nachtwaechterfuehrung-durch-die-innenstadt-3/
LOCATION:Altes Rathaus\, Markt 1\, Haltern am See\, Nordrhein-Westfalen\, 45721\, Germany
CATEGORIES:Führung,Wandern/Laufen
ATTACH;FMTTYPE=image/jpeg:https://haltern-online.de/wp-content/uploads/2024/10/Nachtwaechter.jpg
ORGANIZER;CN="Stadt Haltern am See":MAILTO:info@haltern-im-see.de
END:VEVENT
BEGIN:VEVENT
DTSTART;TZID=Europe/Berlin:20241214T180000
DTEND;TZID=Europe/Berlin:20241214T193000
DTSTAMP:20260420T104709
CREATED:20241125T112026Z
LAST-MODIFIED:20241125T112026Z
UID:10000159-1734199200-1734204600@haltern-online.de
SUMMARY:Nachtwächterführung durch die Innenstadt
DESCRIPTION:„Hört\, hört ihr Leute\, lasst euch sagen …“ So klang Jahrhunderte lang in den Abendstunden der Nachtwächter-Ruf in den Gassen der Altstadt. \nBegleiten Sie unseren Nachtwächter am 14.12.2024 von 18:00 Uhr bis 19:30 Uhr bei seinem Rundgang. Unterhaltsam erzählt er von Dingen\, die man in den nächtlichen Gassen Halterns erlebte\, von der Geschichte der Stadt\, ihren Straßen und Plätzen\, von ihren lokalen Originalen und Persönlichkeiten sowie Anekdoten\, mal spaßig\, mal geheimnisvoll\, aber immer urig und spannend aus einer Zeit\, die schon lange vorbei ist. \nTreffpunkt: Eingang Altes Rathaus. Tickets: 9\,00 Euro / Kinder bis 14 Jahre kostenlos. \nKarten gibt es vorab in der Tourist-Information oder bei Pretix.
URL:https://haltern-online.de/event/nachtwaechterfuehrung-durch-die-innenstadt/
LOCATION:Altes Rathaus\, Markt 1\, Haltern am See\, Nordrhein-Westfalen\, 45721\, Germany
CATEGORIES:Führung,Kultur,Wandern/Laufen
ATTACH;FMTTYPE=image/jpeg:https://haltern-online.de/wp-content/uploads/2024/10/Nachtwaechter.jpg
ORGANIZER;CN="Stadt Haltern am See":MAILTO:info@haltern-im-see.de
END:VEVENT
BEGIN:VEVENT
DTSTART;TZID=Europe/Berlin:20241207T180000
DTEND;TZID=Europe/Berlin:20241207T193000
DTSTAMP:20260420T104709
CREATED:20241125T112445Z
LAST-MODIFIED:20241125T112613Z
UID:10000158-1733594400-1733599800@haltern-online.de
SUMMARY:Nachtwächterführung durch die Innenstadt
DESCRIPTION:„Hört\, hört ihr Leute\, lasst euch sagen …“ So klang Jahrhunderte lang in den Abendstunden der Nachtwächter-Ruf in den Gassen der Altstadt. \nBegleiten Sie unseren Nachtwächter am 07.12.2024 von 18:00 Uhr bis 19:30 Uhr bei seinem Rundgang. Unterhaltsam erzählt er von Dingen\, die man in den nächtlichen Gassen Halterns erlebte\, von der Geschichte der Stadt\, ihren Straßen und Plätzen\, von ihren lokalen Originalen und Persönlichkeiten sowie Anekdoten\, mal spaßig\, mal geheimnisvoll\, aber immer urig und spannend aus einer Zeit\, die schon lange vorbei ist. \nTreffpunkt: Eingang Altes Rathaus. Tickets: 9\,00 Euro / Kinder bis 14 Jahre kostenlos. \nKarten gibt es vorab in der Tourist-Information oder bei Pretix.
URL:https://haltern-online.de/event/nachtwaechterfuehrung-durch-die-innenstadt-2/
LOCATION:Altes Rathaus\, Markt 1\, Haltern am See\, Nordrhein-Westfalen\, 45721\, Germany
CATEGORIES:Führung,Kultur,Wandern/Laufen
ATTACH;FMTTYPE=image/jpeg:https://haltern-online.de/wp-content/uploads/2024/10/Nachtwaechter.jpg
ORGANIZER;CN="Stadt Haltern am See":MAILTO:info@haltern-im-see.de
END:VEVENT
BEGIN:VEVENT
DTSTART;TZID=Europe/Berlin:20241111T090000
DTEND;TZID=Europe/Berlin:20241206T170000
DTSTAMP:20260420T104709
CREATED:20241009T093940Z
LAST-MODIFIED:20241223T102946Z
UID:10000020-1731315600-1733504400@haltern-online.de
SUMMARY:We\, the six million - jüdisches Leben im Nationalsozialismus
DESCRIPTION:„We\, the six million“ ist eine Wanderausstellung der RWTH Aachen\, die seit 2018 durch zahlreiche Schulen im Rheinland tourt. \nIm Mittelpunkt stehen persönliche Schicksale und Biografien von Verfolgten aus dem westlichen Rheinland\, wodurch eine Verbindung zur Schülerschaft hergestellt wird\, die weit über das hinausgeht\, was Schulbücher vermitteln können. Die einzelnen Geschichten bieten tiefe Einblicke in die Lebenswege der Opfer und verdeutlichen\, dass der Holocaust ein Menschheitsverbrechen war\, das unzählige grausame Schicksale mit sich brachte. In der Ausstellung „We\, the six million“ werden die Todesopfer als Menschen präsentiert\, deren Stimmen gehört werden\, um auch zukünftige Generationen zu erreichen und ihre Geschichten weiterzugeben\, damit sie in Erinnerung bleiben.
URL:https://haltern-online.de/event/we-the-six-million-juedisches-leben-im-nationalsozialismus/
LOCATION:Altes Rathaus\, Markt 1\, Haltern am See\, Nordrhein-Westfalen\, 45721\, Germany
CATEGORIES:Kultur
ATTACH;FMTTYPE=image/jpeg:https://haltern-online.de/wp-content/uploads/2024/10/Juedisches-Leben.jpg
END:VEVENT
BEGIN:VEVENT
DTSTART;TZID=Europe/Berlin:20241110T170000
DTEND;TZID=Europe/Berlin:20241110T170000
DTSTAMP:20260420T104709
CREATED:20241009T075747Z
LAST-MODIFIED:20241009T081401Z
UID:10000018-1731258000-1731258000@haltern-online.de
SUMMARY:Literatur im Rathaus
DESCRIPTION:
URL:https://haltern-online.de/event/literatur-im-rathaus-2/
LOCATION:Altes Rathaus\, Markt 1\, Haltern am See\, Nordrhein-Westfalen\, 45721\, Germany
CATEGORIES:Kultur
ATTACH;FMTTYPE=image/jpeg:https://haltern-online.de/wp-content/uploads/2024/10/Literatur.jpg
END:VEVENT
BEGIN:VEVENT
DTSTART;TZID=Europe/Berlin:20241109T200000
DTEND;TZID=Europe/Berlin:20241109T200000
DTSTAMP:20260420T104709
CREATED:20241008T135017Z
LAST-MODIFIED:20241008T144859Z
UID:10000013-1731182400-1731182400@haltern-online.de
SUMMARY:LIVE JAZZ
DESCRIPTION:
URL:https://haltern-online.de/event/live-jazz/
LOCATION:Altes Rathaus\, Markt 1\, Haltern am See\, Nordrhein-Westfalen\, 45721\, Germany
CATEGORIES:Kultur
ATTACH;FMTTYPE=image/jpeg:https://haltern-online.de/wp-content/uploads/2024/10/Jazz.jpg
END:VEVENT
BEGIN:VEVENT
DTSTART;TZID=Europe/Berlin:20241013T170000
DTEND;TZID=Europe/Berlin:20241013T200000
DTSTAMP:20260420T104709
CREATED:20241007T134037Z
LAST-MODIFIED:20241007T141649Z
UID:10000006-1728838800-1728849600@haltern-online.de
SUMMARY:Literatur im Rathaus
DESCRIPTION:
URL:https://haltern-online.de/event/literatur-im-rathaus/
LOCATION:Altes Rathaus\, Markt 1\, Haltern am See\, Nordrhein-Westfalen\, 45721\, Germany
CATEGORIES:Kultur
ATTACH;FMTTYPE=image/jpeg:https://haltern-online.de/wp-content/uploads/2024/10/Literatur.jpg
END:VEVENT
BEGIN:VEVENT
DTSTART;TZID=Europe/Berlin:20241012T180000
DTEND;TZID=Europe/Berlin:20241012T233000
DTSTAMP:20260420T104709
CREATED:20241007T132646Z
LAST-MODIFIED:20241007T141748Z
UID:10000007-1728756000-1728775800@haltern-online.de
SUMMARY:Öffentliche Nachtwächter-Führung
DESCRIPTION:
URL:https://haltern-online.de/event/oeffentliche-nachtwaechter-fuehrung/
LOCATION:Altes Rathaus\, Markt 1\, Haltern am See\, Nordrhein-Westfalen\, 45721\, Germany
CATEGORIES:Kultur
ATTACH;FMTTYPE=image/jpeg:https://haltern-online.de/wp-content/uploads/2024/10/Nachtwaechter.jpg
END:VEVENT
BEGIN:VEVENT
DTSTART;TZID=Europe/Berlin:20241008T150000
DTEND;TZID=Europe/Berlin:20241008T170000
DTSTAMP:20260420T104709
CREATED:20241007T120109Z
LAST-MODIFIED:20241007T120109Z
UID:10000003-1728399600-1728406800@haltern-online.de
SUMMARY:Jahreszeiten-Cafe ''Winter'' des Seniorenbeirats
DESCRIPTION:
URL:https://haltern-online.de/event/jahreszeiten-cafe-winter-des-seniorenbeirats/
LOCATION:Altes Rathaus\, Markt 1\, Haltern am See\, Nordrhein-Westfalen\, 45721\, Germany
CATEGORIES:Senioren
ATTACH;FMTTYPE=image/jpeg:https://haltern-online.de/wp-content/uploads/2024/10/Seniorenbeirat.jpg
END:VEVENT
BEGIN:VEVENT
DTSTART;TZID=Europe/Berlin:20241008T090000
DTEND;TZID=Europe/Berlin:20241008T120000
DTSTAMP:20260420T104709
CREATED:20241007T114350Z
LAST-MODIFIED:20241007T114350Z
UID:10000002-1728378000-1728388800@haltern-online.de
SUMMARY:Rollator-TüV mit dem Seniorenbeirat
DESCRIPTION:
URL:https://haltern-online.de/event/rollator-tuev-mit-dem-seniorenbeirat/
LOCATION:Altes Rathaus\, Markt 1\, Haltern am See\, Nordrhein-Westfalen\, 45721\, Germany
CATEGORIES:Senioren
ATTACH;FMTTYPE=image/jpeg:https://haltern-online.de/wp-content/uploads/2024/10/Rollator-Tuev-Seniorenbeirat.jpg
END:VEVENT
END:VCALENDAR