BEGIN:VCALENDAR
VERSION:2.0
PRODID:-//Haltern-Online.de - ECPv6.15.20//NONSGML v1.0//EN
CALSCALE:GREGORIAN
METHOD:PUBLISH
X-WR-CALNAME:Haltern-Online.de
X-ORIGINAL-URL:https://haltern-online.de
X-WR-CALDESC:Veranstaltungen für Haltern-Online.de
REFRESH-INTERVAL;VALUE=DURATION:PT1H
X-Robots-Tag:noindex
X-PUBLISHED-TTL:PT1H
BEGIN:VTIMEZONE
TZID:Europe/Berlin
BEGIN:DAYLIGHT
TZOFFSETFROM:+0100
TZOFFSETTO:+0200
TZNAME:CEST
DTSTART:20240331T010000
END:DAYLIGHT
BEGIN:STANDARD
TZOFFSETFROM:+0200
TZOFFSETTO:+0100
TZNAME:CET
DTSTART:20241027T010000
END:STANDARD
BEGIN:DAYLIGHT
TZOFFSETFROM:+0100
TZOFFSETTO:+0200
TZNAME:CEST
DTSTART:20250330T010000
END:DAYLIGHT
BEGIN:STANDARD
TZOFFSETFROM:+0200
TZOFFSETTO:+0100
TZNAME:CET
DTSTART:20251026T010000
END:STANDARD
BEGIN:DAYLIGHT
TZOFFSETFROM:+0100
TZOFFSETTO:+0200
TZNAME:CEST
DTSTART:20260329T010000
END:DAYLIGHT
BEGIN:STANDARD
TZOFFSETFROM:+0200
TZOFFSETTO:+0100
TZNAME:CET
DTSTART:20261025T010000
END:STANDARD
END:VTIMEZONE
BEGIN:VEVENT
DTSTART;TZID=Europe/Berlin:20251025T140000
DTEND;TZID=Europe/Berlin:20251025T140000
DTSTAMP:20260422T121211
CREATED:20251006T151709Z
LAST-MODIFIED:20251006T151730Z
UID:10000350-1761400800-1761400800@haltern-online.de
SUMMARY:3. Doppelkopfturnier 2025 der Schützengemeinschaft Haltern-West
DESCRIPTION:Bereits zum dritten Mal lädt die Schützengemeinschaft Haltern-West von 1952 e. V. zum beliebten Doppelkopfturnier ins Vereinsheim an der Silberbergschule ein. \nIn geselliger Runde wird am 25. Oktober 2025 ab 14 Uhr um Punkte\, Preise und den besten Platz am Kartentisch gespielt. Für den ersten Platz winkt ein Preisgeld von 50 €\, dazu gibt es viele weitere Gewinne. Auch für das leibliche Wohl ist gesorgt. \nAnmeldungen werden gern entgegengenommen von:📞 Helmut Strüwe – 02364/14550 · ✉️ helmut.struewe@sg-haltern-west.de📞 Oliver Gerdes – 02364/4265 oder 0172/5859129
URL:https://haltern-online.de/event/3-doppelkopfturnier-2025-der-schuetzengemeinschaft-haltern-west/
LOCATION:Vereinsheim Silverbergschule\, Germanikusstr. 34\, Haltern am See\, Nordrhein-Westfalen\, 45721\, Germany
CATEGORIES:Hobby
ATTACH;FMTTYPE=image/jpeg:https://haltern-online.de/wp-content/uploads/2025/10/doppelkopf-turnier.jpg
END:VEVENT
BEGIN:VEVENT
DTSTART;TZID=Europe/Berlin:20250815T160000
DTEND;TZID=Europe/Berlin:20250817T170000
DTSTAMP:20260422T121211
CREATED:20250312T115127Z
LAST-MODIFIED:20250808T134610Z
UID:10000225-1755273600-1755450000@haltern-online.de
SUMMARY:Drei Tage Schützenfest pur – Haltern-West feiert vom 15. bis 17. August
DESCRIPTION:Das große Festwochenende der Schützengemeinschaft Haltern-West beginnt am Freitag mit Böllerschüssen\, der Abholung des Königspaares und dem festlichen Königsball. Warum sich ein Besuch lohnt und was Besucherinnen und Besucher erwartet\, lesen Sie auf unserer Sonderseite. \nSchützenfest Haltern-West 2025: Letztes Halterner Schützenfest des Jahres mit emotionalem Abschied \nFreitag\, 15. August 2025\nab 16:00 Uhr: Eröffnung des Schützenfests mit Böllerschießen \n19:00 Uhr: Abholung des Königspaares \n20:00 Uhr: Großer Königsball \nSamstag\, 16. August 2025\n14:00 Uhr: Großer Festumzug durch Haltern-West \n15:00 Uhr: Königsschießen \n20:00 Uhr: Festball mit Inthronisierung des neuen Königspaares \nSonntag\, 17. August 2025\nab 12:00 Uhr: Familientag am Festzelt \nMenschenkickerturnier \nHüpfburg & Kinderaktionen \nFußball-Dart \nBullreiten \nSpiele und Attraktionen für die ganze Familie
URL:https://haltern-online.de/event/schuetzenfest-haltern-west/
LOCATION:Festwiese Schützenverein Haltern-West\, Am Markenkamp\, Haltern am See\, 45721
CATEGORIES:Schützenfest
ATTACH;FMTTYPE=image/jpeg:https://haltern-online.de/wp-content/uploads/2024/12/Schuetzenfest-Titelbild.jpg
END:VEVENT
END:VCALENDAR