BEGIN:VCALENDAR
VERSION:2.0
PRODID:-//Haltern-Online.de - ECPv6.15.20//NONSGML v1.0//EN
CALSCALE:GREGORIAN
METHOD:PUBLISH
X-ORIGINAL-URL:https://haltern-online.de
X-WR-CALDESC:Veranstaltungen für Haltern-Online.de
REFRESH-INTERVAL;VALUE=DURATION:PT1H
X-Robots-Tag:noindex
X-PUBLISHED-TTL:PT1H
BEGIN:VTIMEZONE
TZID:Europe/Berlin
BEGIN:DAYLIGHT
TZOFFSETFROM:+0100
TZOFFSETTO:+0200
TZNAME:CEST
DTSTART:20250330T010000
END:DAYLIGHT
BEGIN:STANDARD
TZOFFSETFROM:+0200
TZOFFSETTO:+0100
TZNAME:CET
DTSTART:20251026T010000
END:STANDARD
BEGIN:DAYLIGHT
TZOFFSETFROM:+0100
TZOFFSETTO:+0200
TZNAME:CEST
DTSTART:20260329T010000
END:DAYLIGHT
BEGIN:STANDARD
TZOFFSETFROM:+0200
TZOFFSETTO:+0100
TZNAME:CET
DTSTART:20261025T010000
END:STANDARD
BEGIN:DAYLIGHT
TZOFFSETFROM:+0100
TZOFFSETTO:+0200
TZNAME:CEST
DTSTART:20270328T010000
END:DAYLIGHT
BEGIN:STANDARD
TZOFFSETFROM:+0200
TZOFFSETTO:+0100
TZNAME:CET
DTSTART:20271031T010000
END:STANDARD
END:VTIMEZONE
BEGIN:VEVENT
DTSTART;TZID=Europe/Berlin:20260218T190000
DTEND;TZID=Europe/Berlin:20260218T235900
DTSTAMP:20260424T092441
CREATED:20260120T110636Z
LAST-MODIFIED:20260126T093231Z
UID:10000413-1771441200-1771459140@haltern-online.de
SUMMARY:Konzert mit den „New York Gospel Stars“ aus Harlem
DESCRIPTION:Konzert der  „New York Gospel Stars“ in Haltern: Das Ensemble geht für mehr als zwei Monate auf Deutschlandtournee und bringt die Vielfalt der Gospelmusik in Kirchen und Konzertsäle im ganzen Land. \nMit kraftvollen Stimmen\, gefühlvollen Balladen und mitreißenden Rhythmen verbinden die New York Gospel Stars in Haltern traditionelle Spirituals mit modernen Gospel-Elementen. Ihre Konzerte sind geprägt von großer musikalischer Intensität\, Lebensfreude und einer besonderen Nähe zum Publikum. Seit fast 20 Jahren begeistern sie in Deutschland ihr Publikum von Hamburg bis München. \nAb dem 7. Januar 2026 setzen die „New York Gospel Stars“ ihre Tournee mit einer neuen Set-Liste und weiteren musikalischen Höhepunkten fort. \nTickets sind erhältlich ab 36\,50 Euro. \nWeitere Informationen: \nLB Events | New York Gospel Stars \nBildquelle: KI-generiert/Heimatmedien
URL:https://haltern-online.de/event/konzert-mit-den-new-york-gospel-stars-aus-harlem/
LOCATION:Seestadthalle\, Lippspieker 25\, Haltern am See\, Nordrhein-Westfalen\, 45721\, Germany
CATEGORIES:Konzert,Lifestyle,Party
ATTACH;FMTTYPE=image/jpeg:https://haltern-online.de/wp-content/uploads/2026/01/New-York-Gospel-Stars-1200-.jpg
END:VEVENT
END:VCALENDAR