BEGIN:VCALENDAR
VERSION:2.0
PRODID:-//Haltern-Online.de - ECPv6.15.20//NONSGML v1.0//EN
CALSCALE:GREGORIAN
METHOD:PUBLISH
X-ORIGINAL-URL:https://haltern-online.de
X-WR-CALDESC:Veranstaltungen für Haltern-Online.de
REFRESH-INTERVAL;VALUE=DURATION:PT1H
X-Robots-Tag:noindex
X-PUBLISHED-TTL:PT1H
BEGIN:VTIMEZONE
TZID:Europe/Berlin
BEGIN:DAYLIGHT
TZOFFSETFROM:+0100
TZOFFSETTO:+0200
TZNAME:CEST
DTSTART:20230326T010000
END:DAYLIGHT
BEGIN:STANDARD
TZOFFSETFROM:+0200
TZOFFSETTO:+0100
TZNAME:CET
DTSTART:20231029T010000
END:STANDARD
BEGIN:DAYLIGHT
TZOFFSETFROM:+0100
TZOFFSETTO:+0200
TZNAME:CEST
DTSTART:20240331T010000
END:DAYLIGHT
BEGIN:STANDARD
TZOFFSETFROM:+0200
TZOFFSETTO:+0100
TZNAME:CET
DTSTART:20241027T010000
END:STANDARD
BEGIN:DAYLIGHT
TZOFFSETFROM:+0100
TZOFFSETTO:+0200
TZNAME:CEST
DTSTART:20250330T010000
END:DAYLIGHT
BEGIN:STANDARD
TZOFFSETFROM:+0200
TZOFFSETTO:+0100
TZNAME:CET
DTSTART:20251026T010000
END:STANDARD
END:VTIMEZONE
BEGIN:VEVENT
DTSTART;TZID=Europe/Berlin:20241114T200000
DTEND;TZID=Europe/Berlin:20241114T223000
DTSTAMP:20260420T133911
CREATED:20241107T185813Z
LAST-MODIFIED:20241112T094351Z
UID:10000066-1731614400-1731623400@haltern-online.de
SUMMARY:Uli Masuth – Lügen und andere Wahrheiten im LWL-Römermuseum
DESCRIPTION:Ein Kabarett-Programm mit Musik\, ohne Gesang\, politisch am 14. November 2024 von 20:00 Uhr bis 22:30 Uhr im LWL-Römermuseum. \nDer wahrheitsliebende Mensch lügt. Und das nicht zu knapp. Je nachdem\, welchem Experten man glauben darf\, 25-200 Mal am Tag. Frei nach Präsident Gerald Ford könnte man also sagen: Die Lüge ist der Klebstoff\, der unsere Gesellschaft zusammenhält. Von Mark Twain stammt der Satz: „Tatsachen muss man kennen\, bevor man sie verdrehen kann“. Steckt also Wahrheit hinter jeder Lüge? Machen Sie sich auf eine ehrliche Antwort gefasst. \nTickets sind online für 22\,00 Euro erhältlich. \nEine Veranstaltung des Kulturboitels Haltern am See.
URL:https://haltern-online.de/event/uli-masuth-luegen-und-andere-wahrheiten-im-lwl-roemermuseum/
LOCATION:LWL-Römermuseum\, Weseler Straße 100\, Haltern am See\, Nordrhein-Westfalen\, 45721\, Germany
CATEGORIES:Konzert,Kultur
ATTACH;FMTTYPE=image/jpeg:https://haltern-online.de/wp-content/uploads/2024/10/Roemermuseum.jpg
ORGANIZER;CN="Kulturboitel":MAILTO:info@kulturboitel.de
END:VEVENT
END:VCALENDAR