BEGIN:VCALENDAR
VERSION:2.0
PRODID:-//Haltern-Online.de - ECPv6.15.20//NONSGML v1.0//EN
CALSCALE:GREGORIAN
METHOD:PUBLISH
X-WR-CALNAME:Haltern-Online.de
X-ORIGINAL-URL:https://haltern-online.de
X-WR-CALDESC:Veranstaltungen für Haltern-Online.de
REFRESH-INTERVAL;VALUE=DURATION:PT1H
X-Robots-Tag:noindex
X-PUBLISHED-TTL:PT1H
BEGIN:VTIMEZONE
TZID:Europe/Berlin
BEGIN:DAYLIGHT
TZOFFSETFROM:+0100
TZOFFSETTO:+0200
TZNAME:CEST
DTSTART:20230326T010000
END:DAYLIGHT
BEGIN:STANDARD
TZOFFSETFROM:+0200
TZOFFSETTO:+0100
TZNAME:CET
DTSTART:20231029T010000
END:STANDARD
BEGIN:DAYLIGHT
TZOFFSETFROM:+0100
TZOFFSETTO:+0200
TZNAME:CEST
DTSTART:20240331T010000
END:DAYLIGHT
BEGIN:STANDARD
TZOFFSETFROM:+0200
TZOFFSETTO:+0100
TZNAME:CET
DTSTART:20241027T010000
END:STANDARD
BEGIN:DAYLIGHT
TZOFFSETFROM:+0100
TZOFFSETTO:+0200
TZNAME:CEST
DTSTART:20250330T010000
END:DAYLIGHT
BEGIN:STANDARD
TZOFFSETFROM:+0200
TZOFFSETTO:+0100
TZNAME:CET
DTSTART:20251026T010000
END:STANDARD
BEGIN:DAYLIGHT
TZOFFSETFROM:+0100
TZOFFSETTO:+0200
TZNAME:CEST
DTSTART:20260329T010000
END:DAYLIGHT
BEGIN:STANDARD
TZOFFSETFROM:+0200
TZOFFSETTO:+0100
TZNAME:CET
DTSTART:20261025T010000
END:STANDARD
END:VTIMEZONE
BEGIN:VEVENT
DTSTART;TZID=Europe/Berlin:20250101T163000
DTEND;TZID=Europe/Berlin:20250101T183000
DTSTAMP:20260420T122200
CREATED:20241125T113646Z
LAST-MODIFIED:20241125T115637Z
UID:10000155-1735749000-1735756200@haltern-online.de
SUMMARY:PIANO! - KlassikFAKTen im Schloss Sythen
DESCRIPTION:Mit „PIANO! – KlassikFAKTen“ geht das EU-Klassikfestival in die fünfte Saison.Intendant Volker Zwetzschke spielt im Schloss Sythen am 01.01.2025 von 16:30 Uhr bis 18:30 Uhr Werke von Reger\, Mozart\, Rachmaninow\, Schumann und Schubert/Liszt.\nDie perfekte Einstimmung auf den Silvesterabend \nTickets für 20\,00 Euro / 15\,00 Euro ermäßigt sind online oder in der Tourist Information Altes Rathaus erhältlich. \nEinlass: 16:00 Uhr
URL:https://haltern-online.de/event/piano-klassikfakten-im-schloss-sythen/
LOCATION:Schloss Sythen\, Stockwieser Damm 25\, Haltern am See\, 45721\, Germany
CATEGORIES:Konzert
ATTACH;FMTTYPE=image/jpeg:https://haltern-online.de/wp-content/uploads/2024/10/Theater.jpg
ORGANIZER;CN="Gemeinn%C3%BCtzige Klassikfestival Betriebs GmbH":MAILTO:https://www.eu-klassikfestival.de/index.html
END:VEVENT
BEGIN:VEVENT
DTSTART;TZID=Europe/Berlin:20241231T163000
DTEND;TZID=Europe/Berlin:20241231T183000
DTSTAMP:20260420T122200
CREATED:20241125T115713Z
LAST-MODIFIED:20241125T115743Z
UID:10000154-1735662600-1735669800@haltern-online.de
SUMMARY:PIANO! - KlassikFAKTen im Schloss Sythen
DESCRIPTION:Mit „PIANO! – KlassikFAKTen“ geht das EU-Klassikfestival in die fünfte Saison. \nIntendant Volker Zwetzschke spielt im Schloss Sythen am 31.12.2024 von 16:30 Uhr bis 18:30 Uhr Werke von Reger\, Mozart\, Rachmaninow\, Schumann und Schubert/Liszt. \nDie perfekte Einstimmung auf den Silvesterabend. \nTickets für 20\,00 Euro / 15\,00 Euro ermäßigt sind online oder in der Tourist Information Altes Rathaus erhältlich. \nEinlass: 16:00 Uhr \n 
URL:https://haltern-online.de/event/piano-klassikfakten-im-schloss-sythen-2/
LOCATION:Schloss Sythen\, Stockwieser Damm 25\, Haltern am See\, 45721\, Germany
CATEGORIES:Konzert
ATTACH;FMTTYPE=image/jpeg:https://haltern-online.de/wp-content/uploads/2024/10/Theater.jpg
ORGANIZER;CN="Gemeinn%C3%BCtzige Klassikfestival Betriebs GmbH":MAILTO:https://www.eu-klassikfestival.de/index.html
END:VEVENT
END:VCALENDAR