BEGIN:VCALENDAR
VERSION:2.0
PRODID:-//Haltern-Online.de - ECPv6.15.20//NONSGML v1.0//EN
CALSCALE:GREGORIAN
METHOD:PUBLISH
X-WR-CALNAME:Haltern-Online.de
X-ORIGINAL-URL:https://haltern-online.de
X-WR-CALDESC:Veranstaltungen für Haltern-Online.de
REFRESH-INTERVAL;VALUE=DURATION:PT1H
X-Robots-Tag:noindex
X-PUBLISHED-TTL:PT1H
BEGIN:VTIMEZONE
TZID:Europe/Berlin
BEGIN:DAYLIGHT
TZOFFSETFROM:+0100
TZOFFSETTO:+0200
TZNAME:CEST
DTSTART:20240331T010000
END:DAYLIGHT
BEGIN:STANDARD
TZOFFSETFROM:+0200
TZOFFSETTO:+0100
TZNAME:CET
DTSTART:20241027T010000
END:STANDARD
BEGIN:DAYLIGHT
TZOFFSETFROM:+0100
TZOFFSETTO:+0200
TZNAME:CEST
DTSTART:20250330T010000
END:DAYLIGHT
BEGIN:STANDARD
TZOFFSETFROM:+0200
TZOFFSETTO:+0100
TZNAME:CET
DTSTART:20251026T010000
END:STANDARD
BEGIN:DAYLIGHT
TZOFFSETFROM:+0100
TZOFFSETTO:+0200
TZNAME:CEST
DTSTART:20260329T010000
END:DAYLIGHT
BEGIN:STANDARD
TZOFFSETFROM:+0200
TZOFFSETTO:+0100
TZNAME:CET
DTSTART:20261025T010000
END:STANDARD
BEGIN:DAYLIGHT
TZOFFSETFROM:+0100
TZOFFSETTO:+0200
TZNAME:CEST
DTSTART:20270328T010000
END:DAYLIGHT
BEGIN:STANDARD
TZOFFSETFROM:+0200
TZOFFSETTO:+0100
TZNAME:CET
DTSTART:20271031T010000
END:STANDARD
END:VTIMEZONE
BEGIN:VEVENT
DTSTART;TZID=Europe/Berlin:20260329T110000
DTEND;TZID=Europe/Berlin:20260329T170000
DTSTAMP:20260420T122042
CREATED:20260312T143945Z
LAST-MODIFIED:20260312T143945Z
UID:10000442-1774782000-1774803600@haltern-online.de
SUMMARY:Kunst- und Handwerkermarkt
DESCRIPTION:Bei dem Kunst- und Handwerkermarkt wird das Ruhrfestspielhaus in Recklinghausen zur Bühne für Kunst\, Handwerk und kreatives Design. Mehr als 160 Aussteller präsentieren handgefertigte Unikate\, frühlingshafte Dekorationen\, Osterideen sowie kulinarische Spezialitäten und kreative Arbeiten aus zahlreichen Gewerken. \nDer Kunst- und Handwerkermarkt zählt zu den größeren Veranstaltungen seiner Art in der Region und bietet Besuchern eine große Vielfalt an Inspirationen\, besonderen Geschenkideen und liebevoll gestalteten Handarbeiten. \nZu den Programmhöhepunkten gehören unter anderem Vorführungen zur Glasperlenherstellung mit Mitmachmöglichkeit so wie viele weitere Aktionen zum teilnehmen. \nBesonders beliebt auf dem Kunst- und Handwerkermarkt sind die Workshops vor Ort. Hier können Besucher selbst aktiv werden. Es werden Dinge wie unter Anderem das Binden von Frühlingskränzen oder die Gestaltung von Kerzen angeboten. \nUnd wer möchte\, kann sich direkt vor Ort und ohne Termin ein kleines Tattoo stechen lassen.
URL:https://haltern-online.de/event/kunst-und-handwerkermarkt-2/
LOCATION:Ruhrfestspielhaus Recklinghausen\, Otto-Burrmeister-Allee 1\, Recklinghausen\, 45657
CATEGORIES:Kinderfreundlich,Markt,Workshop
ATTACH;FMTTYPE=image/jpeg:https://haltern-online.de/wp-content/uploads/2026/03/kunst-handwerker-markt-1200.jpg
END:VEVENT
BEGIN:VEVENT
DTSTART;TZID=Europe/Berlin:20260328T110000
DTEND;TZID=Europe/Berlin:20260328T170000
DTSTAMP:20260420T122042
CREATED:20260312T142138Z
LAST-MODIFIED:20260312T142138Z
UID:10000441-1774695600-1774717200@haltern-online.de
SUMMARY:Kunst- und Handwerkermarkt
DESCRIPTION:Bei dem Kunst- und Handwerkermarkt wird das Ruhrfestspielhaus in Recklinghausen zur Bühne für Kunst\, Handwerk und kreatives Design. Mehr als 160 Aussteller präsentieren handgefertigte Unikate\, frühlingshafte Dekorationen\, Osterideen sowie kulinarische Spezialitäten und kreative Arbeiten aus zahlreichen Gewerken. \nDer Kunst- und Handwerkermarkt zählt zu den größeren Veranstaltungen seiner Art in der Region und bietet Besuchern eine große Vielfalt an Inspirationen\, besonderen Geschenkideen und liebevoll gestalteten Handarbeiten. \nZu den Programmhöhepunkten gehören unter anderem Vorführungen zur Glasperlenherstellung mit Mitmachmöglichkeit so wie viele weitere Aktionen zum teilnehmen. \nBesonders beliebt auf dem Kunst- und Handwerkermarkt sind die Workshops vor Ort. Hier können Besucher selbst aktiv werden. Es werden Dinge wie unter Anderem das Binden von Frühlingskränzen oder die Gestaltung von Kerzen angeboten. \nUnd wer möchte\, kann sich direkt vor Ort und ohne Termin ein kleines Tattoo stechen lassen.
URL:https://haltern-online.de/event/kunst-und-handwerkermarkt/
LOCATION:Ruhrfestspielhaus Recklinghausen\, Otto-Burrmeister-Allee 1\, Recklinghausen\, 45657
CATEGORIES:Kinderfreundlich,Markt,Workshop
ATTACH;FMTTYPE=image/jpeg:https://haltern-online.de/wp-content/uploads/2026/03/kunst-handwerker-markt-1200.jpg
END:VEVENT
BEGIN:VEVENT
DTSTART;TZID=Europe/Berlin:20251114T150000
DTEND;TZID=Europe/Berlin:20251114T170000
DTSTAMP:20260420T122042
CREATED:20251021T152105Z
LAST-MODIFIED:20251021T152105Z
UID:10000367-1763132400-1763139600@haltern-online.de
SUMMARY:LEGO® Education – Robo-Trainingslager
DESCRIPTION:m Robo-Trainingslager der Stadtbücherei Haltern am See bauen und programmieren Kinder ab 9 Jahren ihre eigenen LEGO® Roboter. \nAm Freitag\, 14. November\, von 15:00 bis 17:00 Uhr dreht sich alles um Technik\, Teamarbeit und Tüftelspaß. \nDie Teilnehmenden lernen\, wie Sensoren funktionieren\, wie sich Roboter bewegen lassen und lösen gemeinsam kleine Aufgaben – ganz spielerisch und ohne Vorkenntnisse. \nEintritt frei – aber begrenzte Plätze!Eine Online-Anmeldung ist erforderlich. \nFoto: Canva
URL:https://haltern-online.de/event/lego-education-robo-trainingslager/
LOCATION:Stadtbücherei Haltern am See\, Lavesumer Str. 1g\, Haltern am See\, Nordrhein-Westfalen\, 45721\, Germany
CATEGORIES:Kinderfreundlich
ATTACH;FMTTYPE=image/jpeg:https://haltern-online.de/wp-content/uploads/2024/10/Buecherei.jpg
ORGANIZER;CN="Stadtb%C3%BCcherei Haltern am See":MAILTO:stadtbuecherei@haltern.de
END:VEVENT
BEGIN:VEVENT
DTSTART;TZID=Europe/Berlin:20250927T100000
DTEND;TZID=Europe/Berlin:20250927T130000
DTSTAMP:20260420T122042
CREATED:20250919T145725Z
LAST-MODIFIED:20250919T145725Z
UID:10000331-1758967200-1758978000@haltern-online.de
SUMMARY:Mangaday: Zeichenkurs für junge Fans
DESCRIPTION:Am Samstag\, den 27. September\, lädt die Stadtbücherei Haltern alle Manga-Interessierten zu einem besonderen Vormittag ein: Beim „Mangaday“ könnt ihr nicht nur in spannende Manga-Welten eintauchen\, sondern auch selbst kreativ werden. \nIn einem geführten Manga-Zeichenkurs lernen Teilnehmende\, wie typische Manga-Figuren entstehen – von Gesichtsausdruck bis Kleidung. Der Kurs richtet sich an Jugendliche und junge Erwachsene und ist ideal für alle\, die erste Schritte im Manga-Zeichnen machen oder ihre Technik verbessern wollen. \nDie Teilnahme ist kostenlos – also Stifte spitzen und dabei sein! \nFoto: Canva
URL:https://haltern-online.de/event/mangaday-zeichenkurs-fuer-junge-fans/
LOCATION:Stadtbücherei Haltern am See\, Lavesumer Str. 1g\, Haltern am See\, Nordrhein-Westfalen\, 45721\, Germany
CATEGORIES:Workshop
ATTACH;FMTTYPE=image/jpeg:https://haltern-online.de/wp-content/uploads/2025/09/Mangaday.jpg
ORGANIZER;CN="Stadtb%C3%BCcherei Haltern am See":MAILTO:stadtbuecherei@haltern.de
END:VEVENT
BEGIN:VEVENT
DTSTART;TZID=Europe/Berlin:20250524T170000
DTEND;TZID=Europe/Berlin:20250524T190000
DTSTAMP:20260420T122042
CREATED:20250513T123354Z
LAST-MODIFIED:20250513T123432Z
UID:10000262-1748106000-1748113200@haltern-online.de
SUMMARY:DiscoFox-Workshop in Haltern
DESCRIPTION:DiscoFox – der Partytanz für alle Gelegenheiten!Der Tanzsportclub Haltern e. V. lädt tanzbegeisterte Paare zu einem zweistündigen Workshop ein. \nOb Grundschritte\, Damensolo-Drehung oder Brezel – hier lernen Sie die wichtigsten Elemente für die Tanzfläche. Vorkenntnisse sind nicht erforderlich. Auch Frauen- oder Männerpaare sind herzlich willkommen. Der Kurs richtet sich an alle\, die Spaß an Bewegung und Musik haben – mit oder ohne Partner. Bitte saubere Schuhe mitbringen! \nEintritt / Teilnahmegebühr:25 € pro Teilnehmer \nAnmeldung & Infos:✉️ a.lohkaemper@t-online.de📞 02364 / 69274 (ab 17 Uhr) \nFoto: Canva
URL:https://haltern-online.de/event/discofox-workshop-in-haltern/
LOCATION:Tanzsportclub Haltern e.V.\, Thiestraße 5\, Haltern am See\, Nordrhein-Westfalen\, Haltern am See\, Germany
CATEGORIES:Workshop
ATTACH;FMTTYPE=image/jpeg:https://haltern-online.de/wp-content/uploads/2025/05/Disco-Fox-Kopfbild.jpg
ORGANIZER;CN="Tanzsportclub Haltern e.V.":MAILTO:a.lohkaemper@t-online.de
END:VEVENT
END:VCALENDAR