BEGIN:VCALENDAR
VERSION:2.0
PRODID:-//Haltern-Online.de - ECPv6.15.20//NONSGML v1.0//EN
CALSCALE:GREGORIAN
METHOD:PUBLISH
X-WR-CALNAME:Haltern-Online.de
X-ORIGINAL-URL:https://haltern-online.de
X-WR-CALDESC:Veranstaltungen für Haltern-Online.de
REFRESH-INTERVAL;VALUE=DURATION:PT1H
X-Robots-Tag:noindex
X-PUBLISHED-TTL:PT1H
BEGIN:VTIMEZONE
TZID:Europe/Berlin
BEGIN:DAYLIGHT
TZOFFSETFROM:+0100
TZOFFSETTO:+0200
TZNAME:CEST
DTSTART:20240331T010000
END:DAYLIGHT
BEGIN:STANDARD
TZOFFSETFROM:+0200
TZOFFSETTO:+0100
TZNAME:CET
DTSTART:20241027T010000
END:STANDARD
BEGIN:DAYLIGHT
TZOFFSETFROM:+0100
TZOFFSETTO:+0200
TZNAME:CEST
DTSTART:20250330T010000
END:DAYLIGHT
BEGIN:STANDARD
TZOFFSETFROM:+0200
TZOFFSETTO:+0100
TZNAME:CET
DTSTART:20251026T010000
END:STANDARD
BEGIN:DAYLIGHT
TZOFFSETFROM:+0100
TZOFFSETTO:+0200
TZNAME:CEST
DTSTART:20260329T010000
END:DAYLIGHT
BEGIN:STANDARD
TZOFFSETFROM:+0200
TZOFFSETTO:+0100
TZNAME:CET
DTSTART:20261025T010000
END:STANDARD
BEGIN:DAYLIGHT
TZOFFSETFROM:+0100
TZOFFSETTO:+0200
TZNAME:CEST
DTSTART:20270328T010000
END:DAYLIGHT
BEGIN:STANDARD
TZOFFSETFROM:+0200
TZOFFSETTO:+0100
TZNAME:CET
DTSTART:20271031T010000
END:STANDARD
END:VTIMEZONE
BEGIN:VEVENT
DTSTART;TZID=Europe/Berlin:20251221T110000
DTEND;TZID=Europe/Berlin:20251221T150000
DTSTAMP:20260420T103547
CREATED:20251219T152345Z
LAST-MODIFIED:20251219T152345Z
UID:10000406-1766314800-1766329200@haltern-online.de
SUMMARY:„Weihnachten kommt immer so plötzlich“ – Matinée-Vorstellung im Lea-Drüppel-Theater
DESCRIPTION:Zwischen Geschenkestress und Festtagsfreude wird es auch in diesem Jahr wieder herrlich bissig\, unterhaltsam und nachdenklich im Lea-Drüppel-Theater. \nDie Matinée-Vorstellung „Weihnachten kommt immer so plötzlich“ lädt ein zu einem kabarettistischen Streifzug durch das Fest der Feste – mit treffsicherem Humor\, überraschenden Wendungen und einem liebevollen Augenzwinkern auf das alljährliche Weihnachtschaos. \nPerfekt für alle\, die sich selbst oder anderen zum Fest etwas zum Lachen schenken möchten. \nFoto: Canva
URL:https://haltern-online.de/event/weihnachten-kommt-immer-so-ploetzlich-matinee-vorstellung-im-lea-drueppel-theater/
LOCATION:Lea Drüppel Theater\, Zaunstraße 2\, Haltern am See\, Nordrhein-Westfalen\, 45721\, Germany
CATEGORIES:Theater/Bühne
ATTACH;FMTTYPE=image/jpeg:https://haltern-online.de/wp-content/uploads/2024/10/Theater.jpg
ORGANIZER;CN="Lea-Dr%C3%BCppel-Theater":MAILTO:vorstand@lea-drueppel-theater.de
END:VEVENT
BEGIN:VEVENT
DTSTART;TZID=Europe/Berlin:20251206T180000
DTEND;TZID=Europe/Berlin:20251206T210000
DTSTAMP:20260420T103547
CREATED:20251128T135452Z
LAST-MODIFIED:20251128T135452Z
UID:10000397-1765044000-1765054800@haltern-online.de
SUMMARY:Der Nikolaus kommt über den See
DESCRIPTION:Wenn es dunkel wird am Halterner See\, ist es so weit: Der Nikolaus kommt und zwar übers Wasser! \nAm Samstag\, den 6. Dezember\, legt er pünktlich um 18:00 Uhr am Anleger „Seestern“ an. Begleitet von Fackeln und leuchtenden Kinderaugen zieht der Nikolaus gemeinsam mit den Besuchern in die Innenstadt. \nDort gibt es für alle Kinder Nikolaustüten\, diese können gegen zuvor ausgegebene Gutscheine an der Schlittschuhbahn eingelöst werden. Die Veranstaltung ist besonders für Familien ein stimmungsvoller Auftakt in die Adventszeit und verbindet Tradition mit winterlicher Atmosphäre. \nFoto: Canva
URL:https://haltern-online.de/event/der-nikolaus-kommt-ueber-den-see/
LOCATION:Marktplatz\, Markt 1\, Haltern am See\, 45721
CATEGORIES:Kinderfreundlich
ATTACH;FMTTYPE=image/jpeg:https://haltern-online.de/wp-content/uploads/2025/11/Nikolaus-Kopfbild.jpg
ORGANIZER;CN="Stadt Haltern am See":MAILTO:info@haltern-im-see.de
END:VEVENT
BEGIN:VEVENT
DTSTART;TZID=Europe/Berlin:20251204T193000
DTEND;TZID=Europe/Berlin:20251204T210000
DTSTAMP:20260420T103547
CREATED:20251128T114613Z
LAST-MODIFIED:20251128T114613Z
UID:10000396-1764876600-1764882000@haltern-online.de
SUMMARY:„Schöne Bescherung“ – Weihnachtliche Lesung in der Stadtbücherei Haltern
DESCRIPTION:Am Donnerstag\, den 4. Dezember\, laden Manuela und Michael Ritterbach ab 19:30 Uhr zur zweiten Ausgabe ihrer festlichen Lesung „Schöne Bescherung“ in die Stadtbücherei Haltern ein. \nDie Besucher erwartet ein literarischer Abend voller besinnlicher\, humorvoller und moderner Weihnachtsgeschichten – liebevoll vorgetragen von einem eingespielten Duo. Ideal für alle\, die den Advent bewusst und mit einem Lächeln genießen möchten. \nDer Eintritt ist frei\, eine Ticketreservierung wird empfohlen. \nFoto: Canva
URL:https://haltern-online.de/event/schoene-bescherung-weihnachtliche-lesung-in-der-stadtbuecherei-haltern-2/
LOCATION:Stadtbücherei Haltern am See\, Lavesumer Str. 1g\, Haltern am See\, Nordrhein-Westfalen\, 45721\, Germany
CATEGORIES:Lesung / Vortrag
ATTACH;FMTTYPE=image/jpeg:https://haltern-online.de/wp-content/uploads/2024/10/Buecherei.jpg
ORGANIZER;CN="Stadtb%C3%BCcherei Haltern am See":MAILTO:stadtbuecherei@haltern.de
END:VEVENT
BEGIN:VEVENT
DTSTART;TZID=Europe/Berlin:20251202T193000
DTEND;TZID=Europe/Berlin:20251202T210000
DTSTAMP:20260420T103547
CREATED:20251128T113814Z
LAST-MODIFIED:20251128T113814Z
UID:10000395-1764703800-1764709200@haltern-online.de
SUMMARY:„Schöne Bescherung“ – Weihnachtliche Lesung in der Stadtbücherei Haltern
DESCRIPTION:In gemütlicher Atmosphäre wird’s weihnachtlich in der Stadtbücherei Haltern am See: Am Dienstag\, den 2. Dezember\, laden Manuela und Michael Ritterbach ab 19:30 Uhr zu ihrer stimmungsvollen Lesung „Schöne Bescherung“ ein. \nMit einer Auswahl humorvoller\, besinnlicher und überraschender Texte stimmen die beiden Vorleser auf die Adventszeit ein – mal klassisch\, mal modern\, aber immer mit Herz und einer Prise Charme. Die Veranstaltung verspricht einen unterhaltsamen Abend mit literarischen Leckerbissen rund ums Fest. \nDer Eintritt ist frei\, jedoch wird eine vorherige Ticketreservierung über das Online-Portal empfohlen\, da die Plätze begrenzt sind. \nFoto: Canva
URL:https://haltern-online.de/event/schoene-bescherung-weihnachtliche-lesung-in-der-stadtbuecherei-haltern/
LOCATION:Stadtbücherei Haltern am See\, Lavesumer Str. 1g\, Haltern am See\, Nordrhein-Westfalen\, 45721\, Germany
CATEGORIES:Lesung / Vortrag
ATTACH;FMTTYPE=image/jpeg:https://haltern-online.de/wp-content/uploads/2024/10/Buecherei.jpg
ORGANIZER;CN="Stadtb%C3%BCcherei Haltern am See":MAILTO:stadtbuecherei@haltern.de
END:VEVENT
BEGIN:VEVENT
DTSTART;TZID=Europe/Berlin:20251130T150000
DTEND;TZID=Europe/Berlin:20260102T180000
DTSTAMP:20260420T103547
CREATED:20251127T143109Z
LAST-MODIFIED:20251127T143109Z
UID:10000393-1764514800-1767376800@haltern-online.de
SUMMARY:Krippenweg auf Schloss Sythen
DESCRIPTION:Ab dem ersten Advent lädt Schloss Sythen wieder zum traditionellen Krippenweg ein. \nIn stimmungsvoller Kulisse präsentieren sich über den gesamten Schlosspark hinweg vielfältige Krippendarstellungen – liebevoll gestaltet\, kreativ umgesetzt und eingebettet in die historische Atmosphäre des Schlossgeländes. \nDie feierliche Eröffnung findet am Sonntag\, 30. November 2025 um 15:00 Uhr statt. Es sprechen Andreas Stegemann\, Bürgermeister von Haltern am See\, sowie Christine Henning\, 1. Vorsitzende des Fördervereins Schloss Sythen. \nFoto: Canva
URL:https://haltern-online.de/event/krippenweg-auf-schloss-sythen/
LOCATION:Schloss Sythen\, Stockwieser Damm 25\, Haltern am See\, 45721\, Germany
CATEGORIES:Kinderfreundlich
ATTACH;FMTTYPE=image/jpeg:https://haltern-online.de/wp-content/uploads/2025/11/Krippenweg-auf-Schloss-Sythen-Kopfbild.jpg
ORGANIZER;CN="Schloss Sythen":MAILTO:c.henning@schloss-sythen.nrw
END:VEVENT
BEGIN:VEVENT
DTSTART;TZID=Europe/Berlin:20251130T140000
DTEND;TZID=Europe/Berlin:20251214T180000
DTSTAMP:20260420T103547
CREATED:20251127T161309Z
LAST-MODIFIED:20251127T161345Z
UID:10000394-1764511200-1765735200@haltern-online.de
SUMMARY:Krippenausstellung im Heimathaus Lippramsdorf
DESCRIPTION:Zur Adventszeit öffnet das Heimathaus Lippramsdorf erneut seine Türen für eine liebevoll gestaltete Krippenausstellung. \nVom 30. November bis zum 14. Dezember 2025 können Besucherinnen und Besucher täglich von 14 bis 18 Uhr eine vielfältige Auswahl an handgefertigten und traditionellen Weihnachtskrippen entdecken. \nIn der heimeligen Atmosphäre des Heimathauses präsentieren Mitglieder des Heimatvereins detailreich gestaltete Exponate aus verschiedenen Regionen und Epochen. Die Ausstellung eignet sich perfekt für einen besinnlichen Familiennachmittag – der Eintritt ist frei. \nFoto: Canva
URL:https://haltern-online.de/event/krippenausstellung-im-heimathaus-lippramsdorf/
LOCATION:Heimathaus Lippramsdorf\, Alter Lembecker Kirchweg\, Haltern am See\, 45721\, Germany
CATEGORIES:Kinderfreundlich
ATTACH;FMTTYPE=image/jpeg:https://haltern-online.de/wp-content/uploads/2025/11/Krippenausstellung-Kopfbild.jpg
ORGANIZER;CN="Heimatverein Lippramsdorf e.V.":MAILTO:info@heimatverein-lippramsdorf.de
END:VEVENT
BEGIN:VEVENT
DTSTART;TZID=Europe/Berlin:20251118T160000
DTEND;TZID=Europe/Berlin:20251118T180000
DTSTAMP:20260420T103547
CREATED:20251028T102722Z
LAST-MODIFIED:20251028T102722Z
UID:10000369-1763481600-1763488800@haltern-online.de
SUMMARY:Stadtbücherei Haltern am See: Druckfrische Weihnachten im P3 Makerroom
DESCRIPTION:Kinder ab 10 Jahren gestalten eigene Weihnachtskarten – kreativ & kostenlos \nIm P3 Makerroom der Stadtbücherei Haltern am See wird es weihnachtlich: Am Dienstag\, 18. November 2025\, sind Kinder ab 10 Jahren eingeladen\, zwischen 16:00 und 18:00 Uhr ihre eigenen Weihnachtskarten zu drucken. Mit modernen Techniken und kreativen Ideen entstehen kleine Kunstwerke – ideal zum Verschenken oder Selbstbehalten. \nDer Eintritt ist frei\, eine Anmeldung ist jedoch erforderlich. \nDie Veranstaltung ist Teil des Mitmachangebots der Stadtbücherei und vermittelt spielerisch Grundlagen des kreativen Druckens. Begleitet wird der Workshop von geschultem Personal\, das die Teilnehmenden bei der Umsetzung ihrer Ideen unterstützt. \nFoto: Canva
URL:https://haltern-online.de/event/stadtbuecherei-haltern-am-see-druckfrische-weihnachten-im-p3-makerroom/
LOCATION:Stadtbücherei Haltern am See\, Lavesumer Str. 1g\, Haltern am See\, Nordrhein-Westfalen\, 45721\, Germany
CATEGORIES:Kinderfreundlich
ATTACH;FMTTYPE=image/jpeg:https://haltern-online.de/wp-content/uploads/2024/10/Buecherei.jpg
ORGANIZER;CN="Stadtb%C3%BCcherei Haltern am See":MAILTO:stadtbuecherei@haltern.de
END:VEVENT
END:VCALENDAR