BEGIN:VCALENDAR
VERSION:2.0
PRODID:-//Haltern-Online.de - ECPv6.15.20//NONSGML v1.0//EN
CALSCALE:GREGORIAN
METHOD:PUBLISH
X-ORIGINAL-URL:https://haltern-online.de
X-WR-CALDESC:Veranstaltungen für Haltern-Online.de
REFRESH-INTERVAL;VALUE=DURATION:PT1H
X-Robots-Tag:noindex
X-PUBLISHED-TTL:PT1H
BEGIN:VTIMEZONE
TZID:Europe/Berlin
BEGIN:DAYLIGHT
TZOFFSETFROM:+0100
TZOFFSETTO:+0200
TZNAME:CEST
DTSTART:20240331T010000
END:DAYLIGHT
BEGIN:STANDARD
TZOFFSETFROM:+0200
TZOFFSETTO:+0100
TZNAME:CET
DTSTART:20241027T010000
END:STANDARD
BEGIN:DAYLIGHT
TZOFFSETFROM:+0100
TZOFFSETTO:+0200
TZNAME:CEST
DTSTART:20250330T010000
END:DAYLIGHT
BEGIN:STANDARD
TZOFFSETFROM:+0200
TZOFFSETTO:+0100
TZNAME:CET
DTSTART:20251026T010000
END:STANDARD
BEGIN:DAYLIGHT
TZOFFSETFROM:+0100
TZOFFSETTO:+0200
TZNAME:CEST
DTSTART:20260329T010000
END:DAYLIGHT
BEGIN:STANDARD
TZOFFSETFROM:+0200
TZOFFSETTO:+0100
TZNAME:CET
DTSTART:20261025T010000
END:STANDARD
END:VTIMEZONE
BEGIN:VEVENT
DTSTART;TZID=Europe/Berlin:20250821T160000
DTEND;TZID=Europe/Berlin:20250821T180000
DTSTAMP:20260420T104744
CREATED:20250624T115237Z
LAST-MODIFIED:20250624T115237Z
UID:10000306-1755792000-1755799200@haltern-online.de
SUMMARY:Spiel\, Sport & Spaß am Trigon Bauwagen!
DESCRIPTION:Das Jugendzentrum Trigon bietet das ganze Jahr über vielfältige kulturelle und soziale Angebote und für die Sommerferien hat sich das Team ein Gute-Laune-Programm für die Kids einfallen lassen. \nOhne Anmeldung\, einfach vorbeischauen! Am Trigon-Bauwagen warten Paula und Jarmira auf kreative\, neugierige und spielbegeisterte Kids ab 6 Jahren – das Duo hat jede Menge Spiel-\, Sport- und Bastelmaterial an Board. \nDer Trigon-Bauwagen ist an diesen Tagen in der Zeit von 16.00 Uhr bis 18.00 Uhr an folgenden Orten – eine Anmeldung ist nicht nötig. \nTermine: \n\n17. Juli 2025: Grundschule Flaesheim\n07. August 2025: Grundschule Lippramsdorf\n14. August 2025: Dorfplatz Hullern\n21. August 2025: Silverbergschule
URL:https://haltern-online.de/event/spiel-sport-spass-am-trigon-bauwagen-4/
LOCATION:Silverbergschule\, Germanikusstr. 34\, Haltern am See\, Nordrhein-Westfalen\, 45721\, Germany
CATEGORIES:Kinderfreundlich
ATTACH;FMTTYPE=image/jpeg:https://haltern-online.de/wp-content/uploads/2025/06/online-ferienspass.jpg
ORGANIZER;CN="Trigon":MAILTO:trigon-haltern@t-online.de
END:VEVENT
BEGIN:VEVENT
DTSTART;TZID=Europe/Berlin:20250820T160000
DTEND;TZID=Europe/Berlin:20250820T180000
DTSTAMP:20260420T104744
CREATED:20250621T155635Z
LAST-MODIFIED:20250621T155658Z
UID:10000291-1755705600-1755712800@haltern-online.de
SUMMARY:Mobiles basteln im Trigon
DESCRIPTION:Das Jugendzentrum Trigon bietet das ganze Jahr über vielfältige kulturelle und soziale Angebote und für die Sommerferien hat sich das Team ein Gute-Laune-Programm für die Kids einfallen lassen. \nDie Aktionen finden im Trigon statt. Eine Anmeldung ist nötig\, per Telefon unter 02364-92440 oder Mail: Trigon-haltern@t-online.de \nDie Kids basteln wunderschöne\, sommerliche und bunte Mobiles\, die sie anschließend mit nach Hause nehmen können! Bringt eure Kreativität mit und bastelt bunte Blumen\, Kugeln\, Schiffe\, Luftballons wie es euch gefällt! \nFür wen? Kids ab 6 Jahre!\nWann? 20. August 2025 von 16.00-18.00 Uhr\nWo? Trigon\, Weseler Straße 131\nKosten? 5\,00 €
URL:https://haltern-online.de/event/mobiles-basteln-im-trigon/
LOCATION:Trigon Haltern\, Weseler Straße 131\, Haltern\, 45721
CATEGORIES:Kinderfreundlich
ATTACH;FMTTYPE=image/jpeg:https://haltern-online.de/wp-content/uploads/2025/06/online-ferienspass.jpg
ORGANIZER;CN="Trigon":MAILTO:trigon-haltern@t-online.de
END:VEVENT
BEGIN:VEVENT
DTSTART;TZID=Europe/Berlin:20250814T160000
DTEND;TZID=Europe/Berlin:20250814T180000
DTSTAMP:20260420T104744
CREATED:20250624T114559Z
LAST-MODIFIED:20250624T114559Z
UID:10000305-1755187200-1755194400@haltern-online.de
SUMMARY:Spiel\, Sport & Spaß am Trigon Bauwagen!
DESCRIPTION:Das Jugendzentrum Trigon bietet das ganze Jahr über vielfältige kulturelle und soziale Angebote und für die Sommerferien hat sich das Team ein Gute-Laune-Programm für die Kids einfallen lassen. \nOhne Anmeldung\, einfach vorbeischauen! Am Trigon-Bauwagen warten Paula und Jarmira auf kreative\, neugierige und spielbegeisterte Kids ab 6 Jahren – das Duo hat jede Menge Spiel-\, Sport- und Bastelmaterial an Board. \nDer Trigon-Bauwagen ist an diesen Tagen in der Zeit von 16.00 Uhr bis 18.00 Uhr an folgenden Orten – eine Anmeldung ist nicht nötig. \nTermine: \n\n17. Juli 2025: Grundschule Flaesheim\n07. August 2025: Grundschule Lippramsdorf\n14. August 2025: Dorfplatz Hullern\n21. August 2025: Silverbergschule
URL:https://haltern-online.de/event/spiel-sport-spass-am-trigon-bauwagen-3/
LOCATION:Dorfplatz Hullern\, Am Knapp\, Haltern am See\, Nordrhein-Westfalen\, 45721\, Germany
CATEGORIES:Kinderfreundlich
ATTACH;FMTTYPE=image/jpeg:https://haltern-online.de/wp-content/uploads/2025/06/online-ferienspass.jpg
ORGANIZER;CN="Trigon":MAILTO:trigon-haltern@t-online.de
END:VEVENT
BEGIN:VEVENT
DTSTART;TZID=Europe/Berlin:20250813T160000
DTEND;TZID=Europe/Berlin:20250813T180000
DTSTAMP:20260420T104744
CREATED:20250621T155724Z
LAST-MODIFIED:20250621T155729Z
UID:10000290-1755100800-1755108000@haltern-online.de
SUMMARY:Indiaca-Wurfbälle basteln im Trigon
DESCRIPTION:Das Jugendzentrum Trigon bietet das ganze Jahr über vielfältige kulturelle und soziale Angebote und für die Sommerferien hat sich das Team ein Gute-Laune-Programm für die Kids einfallen lassen. \nDie Aktionen finden im Trigon statt. Eine Anmeldung ist nötig\, per Telefon unter 02364-92440 oder Mail: Trigon-haltern@t-online.de \nMöchtet ihr eure eigenen bunten Indiaka-Wurfbälle basteln? Das ist ganz einfach und macht super viel Spaß! Indiaca-Wurfbälle sind kleine und leichte Schaumstoffbälle\, ausgestattet mit Federn\, mit denen Kids draußen toll spielen können. \nFür wen? Kids ab 6 Jahre!\nWann? 13. August 2025 von 16.00-18.00 Uhr\nWo? Trigon\, Weseler Straße 131\nKosten? 3\,00 €
URL:https://haltern-online.de/event/indiaca-wurfbaelle-basteln-im-trigon/
LOCATION:Trigon Haltern\, Weseler Straße 131\, Haltern\, 45721
CATEGORIES:Kinderfreundlich
ATTACH;FMTTYPE=image/jpeg:https://haltern-online.de/wp-content/uploads/2025/06/online-ferienspass.jpg
ORGANIZER;CN="Trigon":MAILTO:trigon-haltern@t-online.de
END:VEVENT
BEGIN:VEVENT
DTSTART;TZID=Europe/Berlin:20250807T160000
DTEND;TZID=Europe/Berlin:20250807T180000
DTSTAMP:20260420T104744
CREATED:20250624T113942Z
LAST-MODIFIED:20250624T113942Z
UID:10000304-1754582400-1754589600@haltern-online.de
SUMMARY:Spiel\, Sport & Spaß am Trigon Bauwagen!
DESCRIPTION:Das Jugendzentrum Trigon bietet das ganze Jahr über vielfältige kulturelle und soziale Angebote und für die Sommerferien hat sich das Team ein Gute-Laune-Programm für die Kids einfallen lassen. \nOhne Anmeldung\, einfach vorbeischauen! Am Trigon-Bauwagen warten Paula und Jarmira auf kreative\, neugierige und spielbegeisterte Kids ab 6 Jahren – das Duo hat jede Menge Spiel-\, Sport- und Bastelmaterial an Board. \nDer Trigon-Bauwagen ist an diesen Tagen in der Zeit von 16.00 Uhr bis 18.00 Uhr an folgenden Orten – eine Anmeldung ist nicht nötig. \nTermine: \n\n17. Juli 2025: Grundschule Flaesheim\n07. August 2025: Grundschule Lippramsdorf\n14. August 2025: Dorfplatz Hullern\n21. August 2025: Silverbergschule
URL:https://haltern-online.de/event/spiel-sport-spass-am-trigon-bauwagen-2/
LOCATION:Grundschule Lippramsdorf\, Erzbischof-Buddenbrockstr. 1\, Haltern am See\, Nordrhein-Westfalen\, 45721\, Germany
CATEGORIES:Kinderfreundlich
ATTACH;FMTTYPE=image/jpeg:https://haltern-online.de/wp-content/uploads/2025/06/online-ferienspass.jpg
ORGANIZER;CN="Trigon":MAILTO:trigon-haltern@t-online.de
END:VEVENT
BEGIN:VEVENT
DTSTART;TZID=Europe/Berlin:20250806T160000
DTEND;TZID=Europe/Berlin:20250806T180000
DTSTAMP:20260420T104744
CREATED:20250621T161353Z
LAST-MODIFIED:20250623T072757Z
UID:10000289-1754496000-1754503200@haltern-online.de
SUMMARY:Basteln im Trigon
DESCRIPTION:Das Jugendzentrum Trigon bietet das ganze Jahr über vielfältige kulturelle und soziale Angebote und für die Sommerferien hat sich das Team ein Gute-Laune-Programm für die Kids einfallen lassen. \nDie Aktionen finden im Trigon statt. Eine Anmeldung ist nötig\, per Telefon unter 02364-92440 oder Mail: Trigon-haltern@t-online.de \nDie Kids basteln bunte Schmetterlingsflügel aus Pappe und Transparentpapier oder aus laminierten Blumen\, die immer schön frisch bleiben! Ideal für kleine Künstler\, die ihrer Fantasie Flügel verleihen möchten. \nFür wen? Kids ab 6 Jahre!\nWann? 06. August 2025 von 16.00-18.00 Uhr\nWo? Trigon\, Weseler Straße 131\nKosten? 5\,00 €
URL:https://haltern-online.de/event/basteln-im-trigon/
LOCATION:Trigon Haltern\, Weseler Straße 131\, Haltern\, 45721
CATEGORIES:Kinderfreundlich
ATTACH;FMTTYPE=image/jpeg:https://haltern-online.de/wp-content/uploads/2025/06/online-ferienspass.jpg
ORGANIZER;CN="Trigon":MAILTO:trigon-haltern@t-online.de
END:VEVENT
BEGIN:VEVENT
DTSTART;TZID=Europe/Berlin:20250717T160000
DTEND;TZID=Europe/Berlin:20250717T180000
DTSTAMP:20260420T104744
CREATED:20250624T113338Z
LAST-MODIFIED:20250624T113338Z
UID:10000303-1752768000-1752775200@haltern-online.de
SUMMARY:Spiel\, Sport & Spaß am Trigon Bauwagen!
DESCRIPTION:Das Jugendzentrum Trigon bietet das ganze Jahr über vielfältige kulturelle und soziale Angebote und für die Sommerferien hat sich das Team ein Gute-Laune-Programm für die Kids einfallen lassen. \nOhne Anmeldung\, einfach vorbeischauen! Am Trigon-Bauwagen warten Paula und Jarmira auf kreative\, neugierige und spielbegeisterte Kids ab 6 Jahren – das Duo hat jede Menge Spiel-\, Sport- und Bastelmaterial an Board. \nDer Trigon-Bauwagen ist an diesen Tagen in der Zeit von 16.00 Uhr bis 18.00 Uhr an folgenden Orten – eine Anmeldung ist nicht nötig. \nTermine: \n\n17. Juli 2025: Grundschule Flaesheim\n07. August 2025: Grundschule Lippramsdorf\n14. August 2025: Dorfplatz Hullern\n21. August 2025: Silverbergschule
URL:https://haltern-online.de/event/spiel-sport-spass-am-trigon-bauwagen/
LOCATION:Grundschule Flaesheim\, Zum Dachsberg 8\, Haltern am See\, 45721\, Germany
CATEGORIES:Kinderfreundlich
ATTACH;FMTTYPE=image/jpeg:https://haltern-online.de/wp-content/uploads/2025/06/online-ferienspass.jpg
ORGANIZER;CN="Trigon":MAILTO:trigon-haltern@t-online.de
END:VEVENT
BEGIN:VEVENT
DTSTART;TZID=Europe/Berlin:20250716T160000
DTEND;TZID=Europe/Berlin:20250716T180000
DTSTAMP:20260420T104744
CREATED:20250623T072904Z
LAST-MODIFIED:20250623T072909Z
UID:10000287-1752681600-1752688800@haltern-online.de
SUMMARY:Trigon: Flummis selbst herstellen
DESCRIPTION:Das Jugendzentrum Trigon bietet das ganze Jahr über vielfältige kulturelle und soziale Angebote und für die Sommerferien hat sich das Team ein Gute-Laune-Programm für die Kids einfallen lassen. \nDie Aktionen finden im Trigon statt. Eine Anmeldung ist nötig\, per Telefon unter 02364-92440 oder Mail: Trigon-haltern@t-online.de \nFlummis selbst herstellen? Aber sicher doch! Die Kids lernen unter Anleitung\, bunte und hüpfende Flummis herzustellen. Anschließend gibt einen eine „Spring-Check“: Welcher Flummi hüpft am höchsten und am weitesten? \nFür wen? Kids ab 8 Jahre!\nWann? 16. Juli 2025 von 16.00-18.00 Uhr\nWo? Trigon\, Weseler Straße 131\nKosten? 5\,00 €
URL:https://haltern-online.de/event/trigon-flummis-selbst-herstellen/
LOCATION:Trigon Haltern\, Weseler Straße 131\, Haltern\, 45721
CATEGORIES:Kinderfreundlich
ATTACH;FMTTYPE=image/jpeg:https://haltern-online.de/wp-content/uploads/2025/06/online-ferienspass.jpg
ORGANIZER;CN="Trigon":MAILTO:trigon-haltern@t-online.de
END:VEVENT
END:VCALENDAR