BEGIN:VCALENDAR
VERSION:2.0
PRODID:-//Haltern-Online.de - ECPv6.15.20//NONSGML v1.0//EN
CALSCALE:GREGORIAN
METHOD:PUBLISH
X-WR-CALNAME:Haltern-Online.de
X-ORIGINAL-URL:https://haltern-online.de
X-WR-CALDESC:Veranstaltungen für Haltern-Online.de
REFRESH-INTERVAL;VALUE=DURATION:PT1H
X-Robots-Tag:noindex
X-PUBLISHED-TTL:PT1H
BEGIN:VTIMEZONE
TZID:Europe/Berlin
BEGIN:DAYLIGHT
TZOFFSETFROM:+0100
TZOFFSETTO:+0200
TZNAME:CEST
DTSTART:20240331T010000
END:DAYLIGHT
BEGIN:STANDARD
TZOFFSETFROM:+0200
TZOFFSETTO:+0100
TZNAME:CET
DTSTART:20241027T010000
END:STANDARD
BEGIN:DAYLIGHT
TZOFFSETFROM:+0100
TZOFFSETTO:+0200
TZNAME:CEST
DTSTART:20250330T010000
END:DAYLIGHT
BEGIN:STANDARD
TZOFFSETFROM:+0200
TZOFFSETTO:+0100
TZNAME:CET
DTSTART:20251026T010000
END:STANDARD
BEGIN:DAYLIGHT
TZOFFSETFROM:+0100
TZOFFSETTO:+0200
TZNAME:CEST
DTSTART:20260329T010000
END:DAYLIGHT
BEGIN:STANDARD
TZOFFSETFROM:+0200
TZOFFSETTO:+0100
TZNAME:CET
DTSTART:20261025T010000
END:STANDARD
END:VTIMEZONE
BEGIN:VEVENT
DTSTART;TZID=Europe/Berlin:20250727T140000
DTEND;TZID=Europe/Berlin:20250727T170000
DTSTAMP:20260422T132831
CREATED:20250620T135104Z
LAST-MODIFIED:20250620T135150Z
UID:10000296-1753624800-1753635600@haltern-online.de
SUMMARY:Sommer am See: The Cable Bugs
DESCRIPTION:Am 6. Juli startet Sommer am See in seine zehnte Runde. Jeden Sonntag im Juli und August gibt es Live-Musik an der Kajüte in der Stadtmühlenbucht. Erstmals beginnt das Open-Air-Event schon am Nachmittag. \nVon 14 bis 17 Uhr spielen verschiedene Bands direkt am Wasser. Der Eintritt ist frei. Die Kajüte bietet dazu kühle Getränke und Seeblick. Sommer am See steht für entspannte Stimmung\, gute Musik und einen perfekten Start in den Sonntag. \n27.07.2025 – The Cable Bugs \nThe Cable Bugs bringen Rockabilly vom Feinsten an den See. Die Band kommt aus dem Dreiländereck und sorgt mit ihrem Sound für echte Partystimmung. Schnelle Rhythmen\, Kontrabass und ein Hauch Retro machen den Auftritt zum Erlebnis. Hier wird getanzt\, gelacht und mitgewippt.
URL:https://haltern-online.de/event/sommer-am-see-the-cable-bugs/
LOCATION:Zur Kajüte\, Strandallee 6\, Haltern am See\, Nordrhein-Westfalen\, 45721\, Germany
CATEGORIES:Sommer am See
ATTACH;FMTTYPE=image/jpeg:https://haltern-online.de/wp-content/uploads/2025/06/Sommer-am-See-2025-1.jpg
ORGANIZER;CN="Stadt Haltern am See":MAILTO:info@haltern-im-see.de
END:VEVENT
END:VCALENDAR