BEGIN:VCALENDAR
VERSION:2.0
PRODID:-//Haltern-Online.de - ECPv6.15.20//NONSGML v1.0//EN
CALSCALE:GREGORIAN
METHOD:PUBLISH
X-WR-CALNAME:Haltern-Online.de
X-ORIGINAL-URL:https://haltern-online.de
X-WR-CALDESC:Veranstaltungen für Haltern-Online.de
REFRESH-INTERVAL;VALUE=DURATION:PT1H
X-Robots-Tag:noindex
X-PUBLISHED-TTL:PT1H
BEGIN:VTIMEZONE
TZID:Europe/Berlin
BEGIN:DAYLIGHT
TZOFFSETFROM:+0100
TZOFFSETTO:+0200
TZNAME:CEST
DTSTART:20240331T010000
END:DAYLIGHT
BEGIN:STANDARD
TZOFFSETFROM:+0200
TZOFFSETTO:+0100
TZNAME:CET
DTSTART:20241027T010000
END:STANDARD
BEGIN:DAYLIGHT
TZOFFSETFROM:+0100
TZOFFSETTO:+0200
TZNAME:CEST
DTSTART:20250330T010000
END:DAYLIGHT
BEGIN:STANDARD
TZOFFSETFROM:+0200
TZOFFSETTO:+0100
TZNAME:CET
DTSTART:20251026T010000
END:STANDARD
BEGIN:DAYLIGHT
TZOFFSETFROM:+0100
TZOFFSETTO:+0200
TZNAME:CEST
DTSTART:20260329T010000
END:DAYLIGHT
BEGIN:STANDARD
TZOFFSETFROM:+0200
TZOFFSETTO:+0100
TZNAME:CET
DTSTART:20261025T010000
END:STANDARD
END:VTIMEZONE
BEGIN:VEVENT
DTSTART;TZID=Europe/Berlin:20250913T110000
DTEND;TZID=Europe/Berlin:20250913T190000
DTSTAMP:20260420T160504
CREATED:20250617T142141Z
LAST-MODIFIED:20250617T142334Z
UID:10000276-1757761200-1757790000@haltern-online.de
SUMMARY:Volkswagen Kids Cup 2025 beim SV Bossendorf
DESCRIPTION:Am 13. September 2025 richtet der SV Bossendorf gemeinsam mit dem Volkswagen Autohaus Schürmann den Volkswagen Kids Cup aus – ein spannendes Fußballturnier für die Altersklassen U6 bis U11. \nGespielt wird nach den neuen DFB-Spielformen auf begrenzten Spielfeldern mit AirPitches. Teilnehmen können Mannschaften der G-\, F- und E-Jugend aus den Jahrgängen 2020 bis 2015. Die Turnierformen im Überblick: \nG-Jugend (2019/20): 3-gegen-3 auf vier Tore \nF-Jugend (2017/18): teils 3-gegen-3 auf vier Tore\, teils 3+1 mit Torwart \nE-Jugend (2015/16): 4+1 mit Torwart auf Kleinfeldtore \nAlle Teams erhalten ein Leibchen-Set. Zudem warten weitere attraktive Preise. Die Teilnahme ist kostenlos. \nJetzt anmelden und dabei sein:\nHier geht’s zur Anmeldung auf procup.de
URL:https://haltern-online.de/event/volkswagen-kids-cup-2025-beim-sv-bossendorf/
LOCATION:SV Bossendorf\, Marler Str. 56\, Haltern am See\, Nordrhein-Westfalen\, 45721\, Germany
CATEGORIES:Kinderfreundlich,Sport
ATTACH;FMTTYPE=image/jpeg:https://haltern-online.de/wp-content/uploads/2025/06/Volkswagen-Kids-Cup.jpg
END:VEVENT
END:VCALENDAR