BEGIN:VCALENDAR
VERSION:2.0
PRODID:-//Haltern-Online.de - ECPv6.15.20//NONSGML v1.0//EN
CALSCALE:GREGORIAN
METHOD:PUBLISH
X-ORIGINAL-URL:https://haltern-online.de
X-WR-CALDESC:Veranstaltungen für Haltern-Online.de
REFRESH-INTERVAL;VALUE=DURATION:PT1H
X-Robots-Tag:noindex
X-PUBLISHED-TTL:PT1H
BEGIN:VTIMEZONE
TZID:Europe/Berlin
BEGIN:DAYLIGHT
TZOFFSETFROM:+0100
TZOFFSETTO:+0200
TZNAME:CEST
DTSTART:20240331T010000
END:DAYLIGHT
BEGIN:STANDARD
TZOFFSETFROM:+0200
TZOFFSETTO:+0100
TZNAME:CET
DTSTART:20241027T010000
END:STANDARD
BEGIN:DAYLIGHT
TZOFFSETFROM:+0100
TZOFFSETTO:+0200
TZNAME:CEST
DTSTART:20250330T010000
END:DAYLIGHT
BEGIN:STANDARD
TZOFFSETFROM:+0200
TZOFFSETTO:+0100
TZNAME:CET
DTSTART:20251026T010000
END:STANDARD
BEGIN:DAYLIGHT
TZOFFSETFROM:+0100
TZOFFSETTO:+0200
TZNAME:CEST
DTSTART:20260329T010000
END:DAYLIGHT
BEGIN:STANDARD
TZOFFSETFROM:+0200
TZOFFSETTO:+0100
TZNAME:CET
DTSTART:20261025T010000
END:STANDARD
BEGIN:DAYLIGHT
TZOFFSETFROM:+0100
TZOFFSETTO:+0200
TZNAME:CEST
DTSTART:20270328T010000
END:DAYLIGHT
BEGIN:STANDARD
TZOFFSETFROM:+0200
TZOFFSETTO:+0100
TZNAME:CET
DTSTART:20271031T010000
END:STANDARD
END:VTIMEZONE
BEGIN:VEVENT
DTSTART;TZID=Europe/Berlin:20260410T000000
DTEND;TZID=Europe/Berlin:20260412T235900
DTSTAMP:20260420T151529
CREATED:20260401T123052Z
LAST-MODIFIED:20260401T123052Z
UID:10000451-1775779200-1776038340@haltern-online.de
SUMMARY:Streetfood Festival
DESCRIPTION:Vom 10. bis 12. April 2026 lädt das Cheatday Street Food Festival zu einer kulinarischen Weltreise auf den Marktplatz in Haltern ein. Drei Tage lang gibt es frisch zubereitetes Street Food aus verschiedenen Kontinenten direkt aus den rollenden Gourmetküchen. \nOb deftig oder süß\, Klassiker oder kulinarische Neuentdeckungen\, auf dem Cheatday Streetfood Festival ist für jeden Geschmack etwas dabei. Begleitet wird die Veranstaltung durch Musik und Sitzmöglichkeiten. Bei Bedarf stehen auch Überdachungen zur Verfügung. \nAm Sonntag\, den 12. April\, ist zudem verkaufsoffener Sonntag von 13 bis 18 Uhr. Neben leckerem Essen erwarten die Besucher kleine Überraschungen und Unterhaltung für die ganze Familie. \nDer Eintritt zum Streetfood Festival ist kostenlos.
URL:https://haltern-online.de/event/streetfood-festival/
LOCATION:Marktplatz\, Markt 1\, Haltern am See\, 45721
CATEGORIES:Einkaufen/Shoppen,Essen&Trinken,Kinderfreundlich,Lifestyle,Markt,Stadtfeste
ATTACH;FMTTYPE=image/jpeg:https://haltern-online.de/wp-content/uploads/2025/03/streetfood-haltern.jpg
ORGANIZER;CN="Stadt Haltern am See":MAILTO:info@haltern-im-see.de
END:VEVENT
BEGIN:VEVENT
DTSTART;TZID=Europe/Berlin:20250618T170000
DTEND;TZID=Europe/Berlin:20250618T210000
DTSTAMP:20260420T151529
CREATED:20250520T091806Z
LAST-MODIFIED:20250520T095346Z
UID:10000271-1750266000-1750280400@haltern-online.de
SUMMARY:FeierAbend auf dem Marktplatz Haltern
DESCRIPTION:Die beliebte Veranstaltungsreihe „FeierAbend“ wird wegen des Feiertags vorverlegt und findet dieses Mal schon am Mittwoch statt. \nVon 17 bis 21 Uhr verwandelt sich der Marktplatz in Haltern in einen Treffpunkt für Genießer: Mit Live-Musik\, regionalen Köstlichkeiten und sommerlicher Stimmung ist für einen entspannten Abend gesorgt. \nOb nach der Arbeit\, mit Freunden oder der Familie – einfach vorbeikommen und den Feierabend in geselliger Atmosphäre genießen! \nFoto: Haltern tut gut
URL:https://haltern-online.de/event/feierabend-auf-dem-marktplatz-haltern/
LOCATION:Marktplatz\, Markt 1\, Haltern am See\, 45721
CATEGORIES:Markt
ATTACH;FMTTYPE=image/jpeg:https://haltern-online.de/wp-content/uploads/2025/03/Feierabend-Haltern.jpg
ORGANIZER;CN="Stadt Haltern am See":MAILTO:info@haltern-im-see.de
END:VEVENT
BEGIN:VEVENT
DTSTART;TZID=Europe/Berlin:20250404T000000
DTEND;TZID=Europe/Berlin:20250406T000000
DTSTAMP:20260420T151529
CREATED:20250313T130910Z
LAST-MODIFIED:20250313T132002Z
UID:10000230-1743724800-1743897600@haltern-online.de
SUMMARY:Cheatday Streetfood Festival
DESCRIPTION:Datum: 4. – 6. April 2025Ort: Marktplatz\, Haltern am SeeEintritt: Frei \nDrei Tage lang dreht sich in Haltern am See alles um Streetfood! Beim Cheatday Streetfood Festival erwarten euch Foodtrucks und Stände mit Spezialitäten aus aller Welt – von herzhaften Burgern und saftigen BBQ-Gerichten bis zu süßen Versuchungen. Dazu gibt es Live-Musik und ein entspanntes Ambiente mitten auf dem Marktplatz. \nKommt vorbei und genießt euren Cheatday! \nFotoquelle: Canva
URL:https://haltern-online.de/event/cheatday-streetfood-festival/
LOCATION:Marktplatz\, Markt 1\, Haltern am See\, 45721
CATEGORIES:Lifestyle
ATTACH;FMTTYPE=image/jpeg:https://haltern-online.de/wp-content/uploads/2025/03/streetfood-haltern.jpg
ORGANIZER;CN="Stadt Haltern am See":MAILTO:info@haltern-im-see.de
END:VEVENT
END:VCALENDAR