BEGIN:VCALENDAR
VERSION:2.0
PRODID:-//Haltern-Online.de - ECPv6.15.20//NONSGML v1.0//EN
CALSCALE:GREGORIAN
METHOD:PUBLISH
X-WR-CALNAME:Haltern-Online.de
X-ORIGINAL-URL:https://haltern-online.de
X-WR-CALDESC:Veranstaltungen für Haltern-Online.de
REFRESH-INTERVAL;VALUE=DURATION:PT1H
X-Robots-Tag:noindex
X-PUBLISHED-TTL:PT1H
BEGIN:VTIMEZONE
TZID:Europe/Berlin
BEGIN:DAYLIGHT
TZOFFSETFROM:+0100
TZOFFSETTO:+0200
TZNAME:CEST
DTSTART:20240331T010000
END:DAYLIGHT
BEGIN:STANDARD
TZOFFSETFROM:+0200
TZOFFSETTO:+0100
TZNAME:CET
DTSTART:20241027T010000
END:STANDARD
BEGIN:DAYLIGHT
TZOFFSETFROM:+0100
TZOFFSETTO:+0200
TZNAME:CEST
DTSTART:20250330T010000
END:DAYLIGHT
BEGIN:STANDARD
TZOFFSETFROM:+0200
TZOFFSETTO:+0100
TZNAME:CET
DTSTART:20251026T010000
END:STANDARD
BEGIN:DAYLIGHT
TZOFFSETFROM:+0100
TZOFFSETTO:+0200
TZNAME:CEST
DTSTART:20260329T010000
END:DAYLIGHT
BEGIN:STANDARD
TZOFFSETFROM:+0200
TZOFFSETTO:+0100
TZNAME:CET
DTSTART:20261025T010000
END:STANDARD
END:VTIMEZONE
BEGIN:VEVENT
DTSTART;TZID=Europe/Berlin:20251031T210000
DTEND;TZID=Europe/Berlin:20251031T210000
DTSTAMP:20260420T134012
CREATED:20251007T105817Z
LAST-MODIFIED:20251007T112048Z
UID:10000355-1761944400-1761944400@haltern-online.de
SUMMARY:Halloween Party XXL – Die Gruselnacht in der Stadtmühle
DESCRIPTION:Die legendäre Halloween-Party in der Stadtmühle Haltern ist zurück. Am Freitag\, 31. Oktober 2025\, verwandelt sich die Stadtmühle in eine „Gruselmühle“ voller schauriger Deko\, düsterer Beats und kreativer Kostüme. \nAb 21 Uhr wird gefeiert\, getanzt und erschreckt – bis tief in die Nacht. Die Halloween Party XXL gehört zu den festen Terminen im Partykalender und lockt jedes Jahr zahlreiche Gäste aus der Region an. \nEinlass ist ab 21 Uhr\, der Eintritt beträgt 10 Euro. Tickets gibt es an der Abendkasse. Der Vorverkauf läuft über die Veranstalterseite. \nHinweis: Die Stadtmühle ist bargeldlos – vor Ort kann nur mit Karte oder digital gezahlt werden.
URL:https://haltern-online.de/event/halloween-party-xxl-die-gruselnacht-in-der-stadtmuehle/
LOCATION:Stadtmühle Haltern\, Zu den Mühlen 60\, Haltern am See\, 45721\, Germany
CATEGORIES:Party
ATTACH;FMTTYPE=image/jpeg:https://haltern-online.de/wp-content/uploads/2025/10/halloween-haltern.jpg
END:VEVENT
BEGIN:VEVENT
DTSTART;TZID=Europe/Berlin:20251025T210000
DTEND;TZID=Europe/Berlin:20251025T210000
DTSTAMP:20260420T134012
CREATED:20251007T082918Z
LAST-MODIFIED:20251007T083048Z
UID:10000353-1761426000-1761426000@haltern-online.de
SUMMARY:XXL-Ü40-Party – Back to the Roots
DESCRIPTION:Am Samstag\, 25. Oktober 2025\, wird die Stadtmühle Haltern wieder zum Treffpunkt für alle Ü40-Partyfans: Unter dem Motto „Back to the Roots“ startet ab 21 Uhr die beliebte XXL-Ü40-Party. \nFreut euch auf die besten Hits der 80er\, 90er und 2000er\, tanzbare Klassiker und echtes Clubfeeling – in stilvollem Ambiente und mit Gleichgesinnten.Die Stadtmühle verspricht eine Nacht voller Erinnerungen\, guter Musik und ausgelassener Stimmung. \n🎟️ Tickets gibt’s im Vorverkauf für 15 € online unter:👉 www.stadtmuehle.app \nWichtig: Die Stadtmühle ist komplett bargeldlos. Vor Ort kann mit EC-Karte\, Kreditkarte\, Google Pay\, Apple Pay oder PayPal bezahlt werden.
URL:https://haltern-online.de/event/xxl-ue40-party-back-to-the-roots/
LOCATION:Stadtmühle Haltern\, Zu den Mühlen 60\, Haltern am See\, 45721\, Germany
CATEGORIES:Party
ATTACH;FMTTYPE=image/jpeg:https://haltern-online.de/wp-content/uploads/2025/10/Ue40-Party-Haltern.jpg
END:VEVENT
BEGIN:VEVENT
DTSTART;TZID=Europe/Berlin:20251018T210000
DTEND;TZID=Europe/Berlin:20251018T210000
DTSTAMP:20260420T134012
CREATED:20251007T093713Z
LAST-MODIFIED:20251007T093940Z
UID:10000354-1760821200-1760821200@haltern-online.de
SUMMARY:O’zapft is’ – Wiesn-Party in der Stadtmühle
DESCRIPTION:Am Samstag\, 18. Oktober 2025\, heißt es in der Stadtmühle Haltern: O’zapft is’! Ab 21 Uhr startet die große Wiesn-Party – mit allem\, was dazugehört: Dirndl\, Lederhose\, Wiesn-Hits und bester Stimmung. \nOb in Tracht oder ohne – gefeiert wird\, wie in München. DJ-Sounds treffen auf Klassiker aus dem Festzelt\, die Tanzfläche wird zur Gaudi-Arena. \nEinlass ist ab 18:30 Uhr\, der Eintritt kostet 10 Euro. Tickets gibt es an der Abendkasse. Ein Vorverkauf ist ebenfalls möglich.
URL:https://haltern-online.de/event/ozapft-is-wiesn-party-in-der-stadtmuehle/
LOCATION:Stadtmühle Haltern\, Zu den Mühlen 60\, Haltern am See\, 45721\, Germany
CATEGORIES:Party
ATTACH;FMTTYPE=image/jpeg:https://haltern-online.de/wp-content/uploads/2025/10/oktoberfest-haltern.jpg
END:VEVENT
END:VCALENDAR