BEGIN:VCALENDAR
VERSION:2.0
PRODID:-//Haltern-Online.de - ECPv6.15.20//NONSGML v1.0//EN
CALSCALE:GREGORIAN
METHOD:PUBLISH
X-WR-CALNAME:Haltern-Online.de
X-ORIGINAL-URL:https://haltern-online.de
X-WR-CALDESC:Veranstaltungen für Haltern-Online.de
REFRESH-INTERVAL;VALUE=DURATION:PT1H
X-Robots-Tag:noindex
X-PUBLISHED-TTL:PT1H
BEGIN:VTIMEZONE
TZID:Europe/Berlin
BEGIN:DAYLIGHT
TZOFFSETFROM:+0100
TZOFFSETTO:+0200
TZNAME:CEST
DTSTART:20230326T010000
END:DAYLIGHT
BEGIN:STANDARD
TZOFFSETFROM:+0200
TZOFFSETTO:+0100
TZNAME:CET
DTSTART:20231029T010000
END:STANDARD
BEGIN:DAYLIGHT
TZOFFSETFROM:+0100
TZOFFSETTO:+0200
TZNAME:CEST
DTSTART:20240331T010000
END:DAYLIGHT
BEGIN:STANDARD
TZOFFSETFROM:+0200
TZOFFSETTO:+0100
TZNAME:CET
DTSTART:20241027T010000
END:STANDARD
BEGIN:DAYLIGHT
TZOFFSETFROM:+0100
TZOFFSETTO:+0200
TZNAME:CEST
DTSTART:20250330T010000
END:DAYLIGHT
BEGIN:STANDARD
TZOFFSETFROM:+0200
TZOFFSETTO:+0100
TZNAME:CET
DTSTART:20251026T010000
END:STANDARD
END:VTIMEZONE
BEGIN:VEVENT
DTSTART;TZID=Europe/Berlin:20241207T180000
DTEND;TZID=Europe/Berlin:20241207T193000
DTSTAMP:20260420T134011
CREATED:20241125T112445Z
LAST-MODIFIED:20241125T112613Z
UID:10000158-1733594400-1733599800@haltern-online.de
SUMMARY:Nachtwächterführung durch die Innenstadt
DESCRIPTION:„Hört\, hört ihr Leute\, lasst euch sagen …“ So klang Jahrhunderte lang in den Abendstunden der Nachtwächter-Ruf in den Gassen der Altstadt. \nBegleiten Sie unseren Nachtwächter am 07.12.2024 von 18:00 Uhr bis 19:30 Uhr bei seinem Rundgang. Unterhaltsam erzählt er von Dingen\, die man in den nächtlichen Gassen Halterns erlebte\, von der Geschichte der Stadt\, ihren Straßen und Plätzen\, von ihren lokalen Originalen und Persönlichkeiten sowie Anekdoten\, mal spaßig\, mal geheimnisvoll\, aber immer urig und spannend aus einer Zeit\, die schon lange vorbei ist. \nTreffpunkt: Eingang Altes Rathaus. Tickets: 9\,00 Euro / Kinder bis 14 Jahre kostenlos. \nKarten gibt es vorab in der Tourist-Information oder bei Pretix.
URL:https://haltern-online.de/event/nachtwaechterfuehrung-durch-die-innenstadt-2/
LOCATION:Altes Rathaus\, Markt 1\, Haltern am See\, Nordrhein-Westfalen\, 45721\, Germany
CATEGORIES:Führung,Kultur,Wandern/Laufen
ATTACH;FMTTYPE=image/jpeg:https://haltern-online.de/wp-content/uploads/2024/10/Nachtwaechter.jpg
ORGANIZER;CN="Stadt Haltern am See":MAILTO:info@haltern-im-see.de
END:VEVENT
END:VCALENDAR