BEGIN:VCALENDAR
VERSION:2.0
PRODID:-//Haltern-Online.de - ECPv6.15.20//NONSGML v1.0//EN
CALSCALE:GREGORIAN
METHOD:PUBLISH
X-ORIGINAL-URL:https://haltern-online.de
X-WR-CALDESC:Veranstaltungen für Haltern-Online.de
REFRESH-INTERVAL;VALUE=DURATION:PT1H
X-Robots-Tag:noindex
X-PUBLISHED-TTL:PT1H
BEGIN:VTIMEZONE
TZID:Europe/Berlin
BEGIN:DAYLIGHT
TZOFFSETFROM:+0100
TZOFFSETTO:+0200
TZNAME:CEST
DTSTART:20240331T010000
END:DAYLIGHT
BEGIN:STANDARD
TZOFFSETFROM:+0200
TZOFFSETTO:+0100
TZNAME:CET
DTSTART:20241027T010000
END:STANDARD
BEGIN:DAYLIGHT
TZOFFSETFROM:+0100
TZOFFSETTO:+0200
TZNAME:CEST
DTSTART:20250330T010000
END:DAYLIGHT
BEGIN:STANDARD
TZOFFSETFROM:+0200
TZOFFSETTO:+0100
TZNAME:CET
DTSTART:20251026T010000
END:STANDARD
BEGIN:DAYLIGHT
TZOFFSETFROM:+0100
TZOFFSETTO:+0200
TZNAME:CEST
DTSTART:20260329T010000
END:DAYLIGHT
BEGIN:STANDARD
TZOFFSETFROM:+0200
TZOFFSETTO:+0100
TZNAME:CET
DTSTART:20261025T010000
END:STANDARD
END:VTIMEZONE
BEGIN:VEVENT
DTSTART;TZID=Europe/Berlin:20250809T140000
DTEND;TZID=Europe/Berlin:20250809T180000
DTSTAMP:20260420T105019
CREATED:20250611T173514Z
LAST-MODIFIED:20250611T175731Z
UID:10000275-1754748000-1754762400@haltern-online.de
SUMMARY:Große Poolparty mit Familien-Camp im Aquarell Haltern
DESCRIPTION:Am 9. August verwandelt sich das Freizeitbad Aquarell in Haltern in eine spritzige Spaßarena: Mit Action im Wasser\, Musik und fantasievollen Attraktionen begeistert das Zephyrus-Team kleine und große Gäste. Im Anschluss wartet das gemütliche Familien-Camp mit Lagerfeuer und Moonlightschwimmen. \nSpiel\, Spaß und Sommerhits am Beckenrand\nEin echtes Highlight erwartet alle Badegäste am 9. August im Freizeitbad Aquarell. Von 14 bis 18 Uhr sorgt das bekannte Zephyrus-Team mit einem kunterbunten Programm für beste Stimmung. \nNeben Moderator und DJ gibt es einen mobilen Wasser-Spielplatz mit fantasievollen Geräten wie Sea-Scootern\, einem Riesensalamander und einer Riesenschildkröte. Mit dabei sind auch „Shu-Shu“\, der Drache aus dem Morgenland\, und Biber „Justin“. Seifenblasen\, Twister und jede Menge Sommerhits sorgen für ein echtes Urlaubsgefühl. \nZelten\, Lagerfeuer und Moonlightschwimmen\nNach dem actionreichen Nachmittag ist der Tag noch lange nicht vorbei: Familien können direkt vor Ort ihre Zelte aufschlagen und die Nacht im Freibad verbringen. \nDas Familien-Camp bietet eine besondere Atmosphäre mit Lagerfeuer\, Stockbrotbacken und dem beliebten Moonlightschwimmen unterm Sternenhimmel. \nFür das leibliche Wohl empfiehlt sich das Verpflegungspaket\, das für 15 Euro Bratwurst\, Pommes\, Softgetränk sowie ein Frühstück mit Brötchen\, Kaffee\, Kakao und Saft beinhaltet. \nAuch bei Regen ein Erlebnis\nSollte das Wetter nicht mitspielen\, etwa bei Gewitter\, findet die Poolparty im Hallenbad statt. Das Zelten muss in diesem Fall leider entfallen. Dennoch bietet das Event auch dann viele Highlights für einen gelungenen Ferientag vor Ort. \nJetzt mehr erfahren\nAlle Infos zur Veranstaltung\, Anmeldung und Verpflegung gibt es online unter: www.freizeitbad-aquarell.de/service/familientag \nTitelbild: pixabay / Pexels
URL:https://haltern-online.de/event/grosse-poolparty-mit-familien-camp-im-aquarell-haltern/
LOCATION:Freizeitbad Aquarell\, Hullerner Straße 45-49\, Haltern\, 45721
CATEGORIES:Kinderfreundlich,Party,Sport
ATTACH;FMTTYPE=image/jpeg:https://haltern-online.de/wp-content/uploads/2025/06/Schwimmen-Kinder-Quelle-Pexel.jpg
ORGANIZER;CN="Stadtwerke Haltern am See":MAILTO:info@stadtwerke-haltern.de
END:VEVENT
BEGIN:VEVENT
DTSTART;TZID=Europe/Berlin:20250101T120000
DTEND;TZID=Europe/Berlin:20250101T170000
DTSTAMP:20260420T105019
CREATED:20241125T113455Z
LAST-MODIFIED:20241125T145506Z
UID:10000156-1735732800-1735750800@haltern-online.de
SUMMARY:6. Neujahrsschwimmen im Seebad
DESCRIPTION:6. Neujahrsschwimmen im Seebad Haltern am See! \nNach den Rekordzahlen in den Vorjahren freuen wir uns über eine rege Teilnahme und auf viele Neu- und Wiederholungstäter\, entweder als Zuschauer bei freiem Eintritt oder als unerschrockener Mitschwimmer\, die uns bei einem kühnen Satz ins kühle Nass begleiten! Auch in diesem Jahr werden wiederum die größte Teilnehmergruppe sowie die ausgefallenste Verkleidung prämiert! Die Erlöse des Neujahrsschwimmen ist wieder für einen caritativen Zweck bestimmt. Für das leibliche Wohl ist gesorgt! \nTeilnahmegebühr inkl. Starterpaket bestehend aus NJS-Jahresbutton und einen Verzehrgutschein: 5\,00 Euro (wenn Pudelmütze vorhanden)\, 10\,00 Euro (inkl. Pudelmütze). \nAnmeldung am 01.01. ab 12:00 Uhr. Für Zuschauer Eintritt frei.
URL:https://haltern-online.de/event/6-neujahrsschwimmen-im-seebad/
LOCATION:Seebad Haltern am See\, Hullerner Straße 52\, Haltern am See\, 45721\, Germany
CATEGORIES:Helfen & Spenden,Hobby,Sport
ATTACH;FMTTYPE=image/jpeg:https://haltern-online.de/wp-content/uploads/2024/11/schwimmen.jpg
ORGANIZER;CN="Stadt Haltern am See":MAILTO:info@haltern-im-see.de
END:VEVENT
END:VCALENDAR