BEGIN:VCALENDAR
VERSION:2.0
PRODID:-//Haltern-Online.de - ECPv6.15.20//NONSGML v1.0//EN
CALSCALE:GREGORIAN
METHOD:PUBLISH
X-WR-CALNAME:Haltern-Online.de
X-ORIGINAL-URL:https://haltern-online.de
X-WR-CALDESC:Veranstaltungen für Haltern-Online.de
REFRESH-INTERVAL;VALUE=DURATION:PT1H
X-Robots-Tag:noindex
X-PUBLISHED-TTL:PT1H
BEGIN:VTIMEZONE
TZID:Europe/Berlin
BEGIN:DAYLIGHT
TZOFFSETFROM:+0100
TZOFFSETTO:+0200
TZNAME:CEST
DTSTART:20240331T010000
END:DAYLIGHT
BEGIN:STANDARD
TZOFFSETFROM:+0200
TZOFFSETTO:+0100
TZNAME:CET
DTSTART:20241027T010000
END:STANDARD
BEGIN:DAYLIGHT
TZOFFSETFROM:+0100
TZOFFSETTO:+0200
TZNAME:CEST
DTSTART:20250330T010000
END:DAYLIGHT
BEGIN:STANDARD
TZOFFSETFROM:+0200
TZOFFSETTO:+0100
TZNAME:CET
DTSTART:20251026T010000
END:STANDARD
BEGIN:DAYLIGHT
TZOFFSETFROM:+0100
TZOFFSETTO:+0200
TZNAME:CEST
DTSTART:20260329T010000
END:DAYLIGHT
BEGIN:STANDARD
TZOFFSETFROM:+0200
TZOFFSETTO:+0100
TZNAME:CET
DTSTART:20261025T010000
END:STANDARD
END:VTIMEZONE
BEGIN:VEVENT
DTSTART;TZID=Europe/Berlin:20250426T180000
DTEND;TZID=Europe/Berlin:20250426T180000
DTSTAMP:20260420T195100
CREATED:20250318T094102Z
LAST-MODIFIED:20250318T094448Z
UID:10000237-1745690400-1745690400@haltern-online.de
SUMMARY:Königsehrenabend der Schützengilde Haltern am See
DESCRIPTION:Am Samstag\, den 26. April 2025\, lädt die Schützengilde Haltern am See zum traditionellen Königsehrenabend ein. \nAusgerichtet von der 3. Kompanie\, findet die feierliche Veranstaltung in der Aula des Schulzentrums statt. Ab 18:00 Uhr werden die Königspaare geehrt und ein geselliger Abend im Kreise der Schützen gefeiert. \nDatum: Samstag\, 26. April 2025Uhrzeit: 18:00 UhrOrt: Aula des Schulzentrums\, Haltern am SeeAusrichter: 3. Kompanie der Schützengilde Haltern am See \nFotoquelle: Schützengilde Haltern am See
URL:https://haltern-online.de/event/koenigsehrenabend-der-schuetzengilde-haltern-am-see/
LOCATION:Aula Des Schulzentrums\, Holtwicker Str. 5\, Haltern am See\, Nordrhein-Westfalen\, 45721\, Germany
CATEGORIES:Kultur
ATTACH;FMTTYPE=image/jpeg:https://haltern-online.de/wp-content/uploads/2025/03/Schuetzengilde.jpg
ORGANIZER;CN="Sch%C3%BCtzengilde Haltern":MAILTO:praesident@schuetzengilde-haltern.de
END:VEVENT
END:VCALENDAR