BEGIN:VCALENDAR
VERSION:2.0
PRODID:-//Haltern-Online.de - ECPv6.15.20//NONSGML v1.0//EN
CALSCALE:GREGORIAN
METHOD:PUBLISH
X-ORIGINAL-URL:https://haltern-online.de
X-WR-CALDESC:Veranstaltungen für Haltern-Online.de
REFRESH-INTERVAL;VALUE=DURATION:PT1H
X-Robots-Tag:noindex
X-PUBLISHED-TTL:PT1H
BEGIN:VTIMEZONE
TZID:Europe/Berlin
BEGIN:DAYLIGHT
TZOFFSETFROM:+0100
TZOFFSETTO:+0200
TZNAME:CEST
DTSTART:20240331T010000
END:DAYLIGHT
BEGIN:STANDARD
TZOFFSETFROM:+0200
TZOFFSETTO:+0100
TZNAME:CET
DTSTART:20241027T010000
END:STANDARD
BEGIN:DAYLIGHT
TZOFFSETFROM:+0100
TZOFFSETTO:+0200
TZNAME:CEST
DTSTART:20250330T010000
END:DAYLIGHT
BEGIN:STANDARD
TZOFFSETFROM:+0200
TZOFFSETTO:+0100
TZNAME:CET
DTSTART:20251026T010000
END:STANDARD
BEGIN:DAYLIGHT
TZOFFSETFROM:+0100
TZOFFSETTO:+0200
TZNAME:CEST
DTSTART:20260329T010000
END:DAYLIGHT
BEGIN:STANDARD
TZOFFSETFROM:+0200
TZOFFSETTO:+0100
TZNAME:CET
DTSTART:20261025T010000
END:STANDARD
END:VTIMEZONE
BEGIN:VEVENT
DTSTART;TZID=Europe/Berlin:20250705T110000
DTEND;TZID=Europe/Berlin:20250705T150000
DTSTAMP:20260421T043141
CREATED:20250621T155457Z
LAST-MODIFIED:20250621T155503Z
UID:10000281-1751713200-1751727600@haltern-online.de
SUMMARY:Segel-Club Haltern am See: Schnuppersegeln am Tag der offenen Tür
DESCRIPTION:HALTERN IST SEE- UND SEGELSTADT\nKurz vor den großen Sommerferien feiert der Segel-Club Haltern am See sein 75-jähriges Vereinsjubiläum und lädt am Samstag\, dem 5. Juli 2025\, die ganze Familie zum „Tag der offenen Tür“ ein. \nVon 11 bis 15 Uhr präsentiert sich der Traditionsverein auf dem Gelände an der Stadtmühle. Kinder und Jugendlich erhalten die Möglichkeit zum Schnupperpaddeln und Probesegeln! \nTermin: 5. Juli\, 11 bis 15 Uhr\, Ort: Segel-Club Haltern am See\, Zu den Mühlen 54 \nWeitere Informationen: https://sc-haltern.de/
URL:https://haltern-online.de/event/segel-club-haltern-am-see-schnuppersegeln-am-tag-der-offenen-tuer/
LOCATION:Segel-Club Haltern am See\, zu den Mühlen 54\, Haltern am See\, Nordrhein-Westfalen\, 45721\, Germany
CATEGORIES:Kinderfreundlich
ATTACH;FMTTYPE=image/jpeg:https://haltern-online.de/wp-content/uploads/2025/06/online-ferienspass.jpg
ORGANIZER;CN="Segel-Club Haltern am See":MAILTO:info@sc-haltern.de
END:VEVENT
END:VCALENDAR