BEGIN:VCALENDAR
VERSION:2.0
PRODID:-//Haltern-Online.de - ECPv6.15.20//NONSGML v1.0//EN
CALSCALE:GREGORIAN
METHOD:PUBLISH
X-ORIGINAL-URL:https://haltern-online.de
X-WR-CALDESC:Veranstaltungen für Haltern-Online.de
REFRESH-INTERVAL;VALUE=DURATION:PT1H
X-Robots-Tag:noindex
X-PUBLISHED-TTL:PT1H
BEGIN:VTIMEZONE
TZID:Europe/Berlin
BEGIN:DAYLIGHT
TZOFFSETFROM:+0100
TZOFFSETTO:+0200
TZNAME:CEST
DTSTART:20240331T010000
END:DAYLIGHT
BEGIN:STANDARD
TZOFFSETFROM:+0200
TZOFFSETTO:+0100
TZNAME:CET
DTSTART:20241027T010000
END:STANDARD
BEGIN:DAYLIGHT
TZOFFSETFROM:+0100
TZOFFSETTO:+0200
TZNAME:CEST
DTSTART:20250330T010000
END:DAYLIGHT
BEGIN:STANDARD
TZOFFSETFROM:+0200
TZOFFSETTO:+0100
TZNAME:CET
DTSTART:20251026T010000
END:STANDARD
BEGIN:DAYLIGHT
TZOFFSETFROM:+0100
TZOFFSETTO:+0200
TZNAME:CEST
DTSTART:20260329T010000
END:DAYLIGHT
BEGIN:STANDARD
TZOFFSETFROM:+0200
TZOFFSETTO:+0100
TZNAME:CET
DTSTART:20261025T010000
END:STANDARD
END:VTIMEZONE
BEGIN:VEVENT
DTSTART;TZID=Europe/Berlin:20250315T100000
DTEND;TZID=Europe/Berlin:20250315T120000
DTSTAMP:20260421T001546
CREATED:20250310T161013Z
LAST-MODIFIED:20250310T161051Z
UID:10000223-1742032800-1742040000@haltern-online.de
SUMMARY:NAJU-Abenteuer: Auf den Spuren von Robin Hood
DESCRIPTION:Die NAJU-Gruppen „Silbersandfreunde“ und „Heidelerchen“ laden Kinder im Vor- und Grundschulalter zu einem spannenden Draußen-Abenteuer ein. Am Samstag\, 15. März\, geht es von 10 bis 12 Uhr im NABU Habitat Kunterbunt auf Spurensuche nach Robin Hood. Gemeinsam mit Waldpädagogin Sabine Liedtke erleben die Kinder spielerisch die Geheimnisse des Waldes. \nKosten: NABU-Mitglieder kostenlos\, sonst 5 € pro Person zzgl. Materialkosten \nAnmeldung & Info: info@nabu-halternamsee.de oder 02364 935330 \nFoto: NABU Haltern am See
URL:https://haltern-online.de/event/naju-abenteuer-auf-den-spuren-von-robin-hood/
LOCATION:NABU Habitat Kunterbunt
CATEGORIES:Hobby,Natur
ATTACH;FMTTYPE=image/jpeg:https://haltern-online.de/wp-content/uploads/2025/03/Barbara-Lypen-Urginus-Heidelerchen-im-Wald-20240504_104841_conv.jpg
END:VEVENT
END:VCALENDAR