BEGIN:VCALENDAR
VERSION:2.0
PRODID:-//Haltern-Online.de - ECPv6.15.20//NONSGML v1.0//EN
CALSCALE:GREGORIAN
METHOD:PUBLISH
X-ORIGINAL-URL:https://haltern-online.de
X-WR-CALDESC:Veranstaltungen für Haltern-Online.de
REFRESH-INTERVAL;VALUE=DURATION:PT1H
X-Robots-Tag:noindex
X-PUBLISHED-TTL:PT1H
BEGIN:VTIMEZONE
TZID:Europe/Berlin
BEGIN:DAYLIGHT
TZOFFSETFROM:+0100
TZOFFSETTO:+0200
TZNAME:CEST
DTSTART:20240331T010000
END:DAYLIGHT
BEGIN:STANDARD
TZOFFSETFROM:+0200
TZOFFSETTO:+0100
TZNAME:CET
DTSTART:20241027T010000
END:STANDARD
BEGIN:DAYLIGHT
TZOFFSETFROM:+0100
TZOFFSETTO:+0200
TZNAME:CEST
DTSTART:20250330T010000
END:DAYLIGHT
BEGIN:STANDARD
TZOFFSETFROM:+0200
TZOFFSETTO:+0100
TZNAME:CET
DTSTART:20251026T010000
END:STANDARD
BEGIN:DAYLIGHT
TZOFFSETFROM:+0100
TZOFFSETTO:+0200
TZNAME:CEST
DTSTART:20260329T010000
END:DAYLIGHT
BEGIN:STANDARD
TZOFFSETFROM:+0200
TZOFFSETTO:+0100
TZNAME:CET
DTSTART:20261025T010000
END:STANDARD
END:VTIMEZONE
BEGIN:VEVENT
DTSTART;TZID=Europe/Berlin:20250803T110000
DTEND;TZID=Europe/Berlin:20250803T110000
DTSTAMP:20260420T150408
CREATED:20250716T081226Z
LAST-MODIFIED:20250716T081307Z
UID:10000321-1754218800-1754218800@haltern-online.de
SUMMARY:René Izquierdo bei den Sythener Gitarrentagen 2025
DESCRIPTION:Im Rahmen der Sythener Gitarrentage 2025 gastiert der international renommierte Gitarrist René Izquierdo in Haltern am See. \nDer gebürtige Kubaner gilt als einer der führenden klassischen Gitarrenvirtuosen seiner Generation. Seine musikalische Ausbildung absolvierte er in Havanna und an der renommierten Yale University. Heute ist er Professor für klassische Gitarre an der Wisconsin State University und weltweit als Solist und Kammermusiker gefragt.Das Konzert verspricht ein eindrucksvolles Musikerlebnis voller Tiefe\, Ausdruckskraft und technischer Brillanz. \nEintritt: 20\,00 € \nKartenvorverkauf: \n\nAb Anfang Juni bei der Stadtagentur\, Markt 1\, 45721 Haltern am See\nTelefonisch unter 02364 933366\nOnline über das Kontaktformular auf der Website\n\nTitelbild: Canva
URL:https://haltern-online.de/event/rene-izquierdo-bei-den-sythener-gitarrentagen-2025/
LOCATION:Schloss Sythen\, Stockwieser Damm 25\, Haltern am See\, 45721\, Germany
CATEGORIES:Konzert
ATTACH;FMTTYPE=image/jpeg:https://haltern-online.de/wp-content/uploads/2025/07/Sythener-Gitarrentage-Kopfbild.jpg
ORGANIZER;CN="KulturStiftung Masthoff":MAILTO:hm@kulturstiftung-masthoff.de
END:VEVENT
END:VCALENDAR