BEGIN:VCALENDAR
VERSION:2.0
PRODID:-//Haltern-Online.de - ECPv6.15.20//NONSGML v1.0//EN
CALSCALE:GREGORIAN
METHOD:PUBLISH
X-ORIGINAL-URL:https://haltern-online.de
X-WR-CALDESC:Veranstaltungen für Haltern-Online.de
REFRESH-INTERVAL;VALUE=DURATION:PT1H
X-Robots-Tag:noindex
X-PUBLISHED-TTL:PT1H
BEGIN:VTIMEZONE
TZID:Europe/Berlin
BEGIN:DAYLIGHT
TZOFFSETFROM:+0100
TZOFFSETTO:+0200
TZNAME:CEST
DTSTART:20230326T010000
END:DAYLIGHT
BEGIN:STANDARD
TZOFFSETFROM:+0200
TZOFFSETTO:+0100
TZNAME:CET
DTSTART:20231029T010000
END:STANDARD
BEGIN:DAYLIGHT
TZOFFSETFROM:+0100
TZOFFSETTO:+0200
TZNAME:CEST
DTSTART:20240331T010000
END:DAYLIGHT
BEGIN:STANDARD
TZOFFSETFROM:+0200
TZOFFSETTO:+0100
TZNAME:CET
DTSTART:20241027T010000
END:STANDARD
BEGIN:DAYLIGHT
TZOFFSETFROM:+0100
TZOFFSETTO:+0200
TZNAME:CEST
DTSTART:20250330T010000
END:DAYLIGHT
BEGIN:STANDARD
TZOFFSETFROM:+0200
TZOFFSETTO:+0100
TZNAME:CET
DTSTART:20251026T010000
END:STANDARD
END:VTIMEZONE
BEGIN:VEVENT
DTSTART;TZID=Europe/Berlin:20241220T170000
DTEND;TZID=Europe/Berlin:20241220T200000
DTSTAMP:20260420T102216
CREATED:20241125T120216Z
LAST-MODIFIED:20241125T120814Z
UID:10000153-1734714000-1734724800@haltern-online.de
SUMMARY:„Weihnachtssingen“ Freibad Sythen
DESCRIPTION:In diesem Jahr findet kurz vor Weihnachten wieder das traditionelle Weihnachtssingen im Freibad statt. \nAm Freitag\, 20.12.2024 wollen wir von 17:00 Uhr bis 20:00 Uhr in gemütlicher Runde das weihnachtliche Beisammensein genießen und mit ein paar Snacks und Getränken die Zeit bis zum großen Fest genießen und uns auf die Weihnachtstage einstimmen. Gut 25 Weihnachtslieder präsentieren Jutta Redlich und Markus Beck vor allen Dingen den vielen Familien. Am beliebtesten ist meistens Rolf Zuckowski’s ‚In der Weihnachtsbäckerei‘\, was oft nicht nur ein Mal gesungen wird. \nDer Eintritt ist frei\, das leibliche Wohl wird zu moderaten Preisen angeboten. Der Zugang erfolgt ganz normal über den Freibad-Eingang.
URL:https://haltern-online.de/event/weihnachtssingen-freibad-sythen/
LOCATION:Freibad Sythen\, Mosskamp 30\, Haltern am See\, 45721\, Germany
CATEGORIES:Essen&Trinken,Kinderfreundlich,Party
ATTACH;FMTTYPE=image/jpeg:https://haltern-online.de/wp-content/uploads/2024/11/weihnachtssingen.jpg
ORGANIZER;CN="Freibad Sythen":MAILTO:info@freibad-sythen.de
END:VEVENT
BEGIN:VEVENT
DTSTART;TZID=Europe/Berlin:20241218T150000
DTEND;TZID=Europe/Berlin:20241218T170000
DTSTAMP:20260420T102216
CREATED:20241125T120842Z
LAST-MODIFIED:20241125T120914Z
UID:10000152-1734534000-1734541200@haltern-online.de
SUMMARY:Gesprächskreis für Angehörige von Menschen mit Demenz
DESCRIPTION:Das Caritas Centrum lädt am 18.12.2024 von 15:00 Uhr bis 17:00 Uhr zum nächsten Angehörigengesprächskreis ein. \nDer Gesprächskreis richtet sich an Angehörige von Menschen mit Demenz\, die sich in einer herausfordernden Situation befinden und Tipps und Unterstützung von Gleichgesinnten suchen. Das Treffen wird von Fachkräften begleitet. Parallel kann bei Bedarf eine Betreuung des an Demenz erkrankten Angehörigen angeboten werden. \nUm vorherige Anmeldung wird gebeten bei Anja Korste unter 02364 – 10 90 21 oder a.korste@caritas-ostvest.de.
URL:https://haltern-online.de/event/gespraechskreis-fuer-angehoerige-von-menschen-mit-demenz/
LOCATION:Caritasverband Ostvest e.V.\, Sixtusstraße 39\, Haltern am See\, 45721\, Germany
CATEGORIES:Gesprächskreis
ATTACH;FMTTYPE=image/jpeg:https://haltern-online.de/wp-content/uploads/2024/11/Gespraechskreis.jpg
ORGANIZER;CN="Caritas Haltern am See":MAILTO:ah-haltern@caritas-ostvest.de
END:VEVENT
BEGIN:VEVENT
DTSTART;TZID=Europe/Berlin:20241217T153000
DTEND;TZID=Europe/Berlin:20241217T153000
DTSTAMP:20260420T102216
CREATED:20241125T120937Z
LAST-MODIFIED:20241125T122546Z
UID:10000171-1734449400-1734449400@haltern-online.de
SUMMARY:Trauercafé im Paul-Gerhardt-Haus
DESCRIPTION:Der ambulante Hospizdienst des Caritas Centrums Haltern am See lädt Trauernde herzlich am 17.12.2024 um 15:30 Uhr zu einem gemütlichen Austausch ins Paul-Gerhardt-Haus ein. Bei Kaffee und Kuchen besteht die Möglichkeit\, mit anderen Betroffenen ins Gespräch zu kommen. \nEine Anmeldung ist nicht erforderlich! \nWeitere Infos gibt es unter 02364-10 90 27 oder per E-Mail an ah-haltern@caritas-ostvest.de.
URL:https://haltern-online.de/event/trauercafe-im-paul-gerhardt-haus-2/
LOCATION:Paul-Gerhardt-Haus\, Reinhard-Freericks-Straße\, Haltern am See\, 45721\, Germany
CATEGORIES:Essen&Trinken
ATTACH;FMTTYPE=image/jpeg:https://haltern-online.de/wp-content/uploads/2024/11/kaffee.jpg
ORGANIZER;CN="Caritas Haltern am See":MAILTO:ah-haltern@caritas-ostvest.de
END:VEVENT
BEGIN:VEVENT
DTSTART;TZID=Europe/Berlin:20241215T140000
DTEND;TZID=Europe/Berlin:20241215T180000
DTSTAMP:20260420T102216
CREATED:20241125T111640Z
LAST-MODIFIED:20241125T111801Z
UID:10000162-1734271200-1734285600@haltern-online.de
SUMMARY:Adventskaffee im Heimathaus
DESCRIPTION:Der Heimatverein Lippramsdorf e.V. lädt am 15.12.2024 von 14:00 Uhr bis 18:00 Uhr zum Adventskaffee ins Heimathaus Lippramsdorf ein.
URL:https://haltern-online.de/event/adventskaffee-im-heimathaus/
LOCATION:Heimathaus Lippramsdorf\, Alter Lembecker Kirchweg\, Haltern am See\, 45721\, Germany
CATEGORIES:Essen&Trinken,Kultur
ATTACH;FMTTYPE=image/jpeg:https://haltern-online.de/wp-content/uploads/2024/11/kaffee.jpg
ORGANIZER;CN="Heimatverein Lippramsdorf e.V.":MAILTO:info@heimatverein-lippramsdorf.de
END:VEVENT
BEGIN:VEVENT
DTSTART;TZID=Europe/Berlin:20241208T140000
DTEND;TZID=Europe/Berlin:20241208T180000
DTSTAMP:20260420T102216
CREATED:20241125T111823Z
LAST-MODIFIED:20241125T111828Z
UID:10000161-1733666400-1733680800@haltern-online.de
SUMMARY:Adventskaffee im Heimathaus
DESCRIPTION:Der Heimatverein Lippramsdorf e.V. lädt am 08.12.2024 von 14:00 Uhr bis 18:00 Uhr zum Adventskaffee ins Heimathaus Lippramsdorf ein.
URL:https://haltern-online.de/event/adventskaffee-im-heimathaus-2/
LOCATION:Heimathaus Lippramsdorf\, Alter Lembecker Kirchweg\, Haltern am See\, 45721\, Germany
CATEGORIES:Essen&Trinken,Kultur
ATTACH;FMTTYPE=image/jpeg:https://haltern-online.de/wp-content/uploads/2024/11/kaffee.jpg
ORGANIZER;CN="Heimatverein Lippramsdorf e.V.":MAILTO:info@heimatverein-lippramsdorf.de
END:VEVENT
BEGIN:VEVENT
DTSTART;TZID=Europe/Berlin:20241120T150000
DTEND;TZID=Europe/Berlin:20241120T170000
DTSTAMP:20260420T102216
CREATED:20241107T185829Z
LAST-MODIFIED:20241112T102044Z
UID:10000100-1732114800-1732122000@haltern-online.de
SUMMARY:Gesprächskreis für Angehörige von Menschen mit Demenz in Haltern
DESCRIPTION:Am 20. November 2024 laden wir von 15:00 Uhr bis 17:00 Uhr zum nächsten Angehörigengesprächskreis ins Caritas Centrum Haltern am See ein. \nDer Gesprächskreis richtet sich an Angehörige von Menschen mit Demenz\, die sich in einer herausfordernden Situation befinden und Tipps und Unterstützung von Gleichgesinnten suchen. In regelmäßigen Treffen können die Teilnehmenden ihre Erfahrungen austauschen\, sich gegenseitig unterstützen und voneinander lernen. \nUm vorherige Anmeldung wird gebeten bei Anja Korste unter 02364 – 10 90 21 oder a.korste@caritas-ostvest.de.
URL:https://haltern-online.de/event/gespraechskreis-fuer-angehoerige-von-menschen-mit-demenz-in-haltern/
LOCATION:Caritasverband Ostvest e.V.\, Sixtusstraße 39\, Haltern am See\, 45721\, Germany
CATEGORIES:Senioren
ATTACH;FMTTYPE=image/jpeg:https://haltern-online.de/wp-content/uploads/2024/11/Gespraechskreis.jpg
ORGANIZER;CN="Caritas Haltern am See":MAILTO:ah-haltern@caritas-ostvest.de
END:VEVENT
BEGIN:VEVENT
DTSTART;TZID=Europe/Berlin:20241115T090000
DTEND;TZID=Europe/Berlin:20241115T110000
DTSTAMP:20260420T102216
CREATED:20241107T185813Z
LAST-MODIFIED:20241112T101421Z
UID:10000067-1731661200-1731668400@haltern-online.de
SUMMARY:Caritas-Frühstück im Josefshaus
DESCRIPTION:Caritas-Frühstück am 15. November 2024 von 09:00 Uhr bis 11:00 Uhr im Josefshaus.
URL:https://haltern-online.de/event/caritas-fruehstueck-im-josefshaus/
LOCATION:Josefshaus\, Richthof 18\, Haltern am See\, 45721\, Germany
CATEGORIES:Essen&Trinken
ATTACH;FMTTYPE=image/jpeg:https://haltern-online.de/wp-content/uploads/2024/11/Fruehstueck.jpg
ORGANIZER;CN="Caritas Haltern am See":MAILTO:ah-haltern@caritas-ostvest.de
END:VEVENT
BEGIN:VEVENT
DTSTART;TZID=Europe/Berlin:20241108T140000
DTEND;TZID=Europe/Berlin:20241108T180000
DTSTAMP:20260420T102216
CREATED:20241107T185756Z
LAST-MODIFIED:20241107T185756Z
UID:10000053-1731074400-1731088800@haltern-online.de
SUMMARY:„Letzte-Hilfe-Kurs“ im Pfarrheim St. Laurentius
DESCRIPTION:Am Ende wissen\, wie es geht.  In vier Stunden am 08. November 2024 von 14:00 Uhr  bis 18:00 Uhr\, wird von zwei zertifizierten Kursleiterinnen das „kleine 1×1 der Sterbebegleitung“ vermittelt. Die Teilnehmenden erfahren\, wie man Sterbenden auch ohne große Vorkenntnisse in der letzten Lebensphase beistehen und sie umsorgen kann. \nEs fällt eine Kursgebühr von 20 Euro an. \nEine Veranstaltung des ambulanten Hospizdienst Haltern am See. Auskunft und Anmeldung unter 02364 – 109027 oder \nah-haltern@caritas-ostvest.de.
URL:https://haltern-online.de/event/letzte-hilfe-kurs-im-pfarrheim-st-laurentius/
LOCATION:St. Lambertus Lippramsdorf\, Pastoratsweg 22\, Haltern am See\, 45721\, Germany
CATEGORIES:Kurs & Seminare
ORGANIZER;CN="Caritas Haltern am See":MAILTO:ah-haltern@caritas-ostvest.de
END:VEVENT
BEGIN:VEVENT
DTSTART;TZID=Europe/Berlin:20241028T140000
DTEND;TZID=Europe/Berlin:20241028T140000
DTSTAMP:20260420T102216
CREATED:20241014T112723Z
LAST-MODIFIED:20241014T112723Z
UID:10000042-1730124000-1730124000@haltern-online.de
SUMMARY:Rommé und Doppelkopf im Seniorentreffpunkt Josefshaus
DESCRIPTION:Rommé und Doppelkopf wird am 28. Oktober 2024 ab 14:00 Uhr im Seniorentreffpunkt im Josefshaus gespielt. Eine Veranstaltung der St. Sixtus in Haltern am See.
URL:https://haltern-online.de/event/romme-und-doppelkopf-im-seniorentreffpunkt-josefshaus/
LOCATION:Josefshaus\, Richthof 18\, Haltern am See\, 45721\, Germany
CATEGORIES:Hobby,Senioren
ATTACH;FMTTYPE=image/jpeg:https://haltern-online.de/wp-content/uploads/2024/10/Seniorenbeirat.jpg
ORGANIZER;CN="Katholische Pfarrei St. Sixtus Haltern am See":MAILTO:info@st-sixtus.de
END:VEVENT
END:VCALENDAR