BEGIN:VCALENDAR
VERSION:2.0
PRODID:-//Haltern-Online.de - ECPv6.15.20//NONSGML v1.0//EN
CALSCALE:GREGORIAN
METHOD:PUBLISH
X-WR-CALNAME:Haltern-Online.de
X-ORIGINAL-URL:https://haltern-online.de
X-WR-CALDESC:Veranstaltungen für Haltern-Online.de
REFRESH-INTERVAL;VALUE=DURATION:PT1H
X-Robots-Tag:noindex
X-PUBLISHED-TTL:PT1H
BEGIN:VTIMEZONE
TZID:Europe/Berlin
BEGIN:DAYLIGHT
TZOFFSETFROM:+0100
TZOFFSETTO:+0200
TZNAME:CEST
DTSTART:20240331T010000
END:DAYLIGHT
BEGIN:STANDARD
TZOFFSETFROM:+0200
TZOFFSETTO:+0100
TZNAME:CET
DTSTART:20241027T010000
END:STANDARD
BEGIN:DAYLIGHT
TZOFFSETFROM:+0100
TZOFFSETTO:+0200
TZNAME:CEST
DTSTART:20250330T010000
END:DAYLIGHT
BEGIN:STANDARD
TZOFFSETFROM:+0200
TZOFFSETTO:+0100
TZNAME:CET
DTSTART:20251026T010000
END:STANDARD
BEGIN:DAYLIGHT
TZOFFSETFROM:+0100
TZOFFSETTO:+0200
TZNAME:CEST
DTSTART:20260329T010000
END:DAYLIGHT
BEGIN:STANDARD
TZOFFSETFROM:+0200
TZOFFSETTO:+0100
TZNAME:CET
DTSTART:20261025T010000
END:STANDARD
END:VTIMEZONE
BEGIN:VEVENT
DTSTART;TZID=Europe/Berlin:20250119T111500
DTEND;TZID=Europe/Berlin:20250119T140000
DTSTAMP:20260420T150342
CREATED:20241125T111844Z
LAST-MODIFIED:20241125T111855Z
UID:10000160-1737285300-1737295200@haltern-online.de
SUMMARY:Neujahrsempfang & Neujahrskonzert
DESCRIPTION:Zu einem festlichen Neujahrsempfang mit Neujahrskonzert lädt die Stadt Haltern am See am 19.01.2025 von 11:15 Uhr bis 14:00 Uhr in Kooperation mit der Musikschule alle interessierten Bürgerinnen und Bürger in die Aula des Schulzentrums ein. \nAn der Eingangstür werden Bürgermeister Andreas Stegemann und seine Stellvertreterinnen die Gäste persönlich begrüßen. Herzstück der Veranstaltung ist die traditionelle Neujahrsansprache von Bürgermeister Andreas Stegemann\, die unter anderem Rückblicke auf das vergangene Jahr und Ausblicke auf zukünftige Projekte und Ereignisse beinhalten wird. \nDie Musikschule Haltern am See hat sich für das Neujahrskonzert ein vielfältiges Programm überlegt. Stadt und Musikschule freuen sich über zahlreiche Gäste. \nDer Eintritt ist frei.
URL:https://haltern-online.de/event/neujahrsempfang-neujahrskonzert/
LOCATION:Aula Des Schulzentrums\, Holtwicker Str. 5\, Haltern am See\, Nordrhein-Westfalen\, 45721\, Germany
CATEGORIES:Konzert,Kultur
ATTACH;FMTTYPE=image/jpeg:https://haltern-online.de/wp-content/uploads/2024/10/Theater.jpg
ORGANIZER;CN="Stadt Haltern am See":MAILTO:info@haltern-im-see.de
END:VEVENT
END:VCALENDAR