BEGIN:VCALENDAR
VERSION:2.0
PRODID:-//Haltern-Online.de - ECPv6.15.20//NONSGML v1.0//EN
CALSCALE:GREGORIAN
METHOD:PUBLISH
X-ORIGINAL-URL:https://haltern-online.de
X-WR-CALDESC:Veranstaltungen für Haltern-Online.de
REFRESH-INTERVAL;VALUE=DURATION:PT1H
X-Robots-Tag:noindex
X-PUBLISHED-TTL:PT1H
BEGIN:VTIMEZONE
TZID:Europe/Berlin
BEGIN:DAYLIGHT
TZOFFSETFROM:+0100
TZOFFSETTO:+0200
TZNAME:CEST
DTSTART:20240331T010000
END:DAYLIGHT
BEGIN:STANDARD
TZOFFSETFROM:+0200
TZOFFSETTO:+0100
TZNAME:CET
DTSTART:20241027T010000
END:STANDARD
BEGIN:DAYLIGHT
TZOFFSETFROM:+0100
TZOFFSETTO:+0200
TZNAME:CEST
DTSTART:20250330T010000
END:DAYLIGHT
BEGIN:STANDARD
TZOFFSETFROM:+0200
TZOFFSETTO:+0100
TZNAME:CET
DTSTART:20251026T010000
END:STANDARD
BEGIN:DAYLIGHT
TZOFFSETFROM:+0100
TZOFFSETTO:+0200
TZNAME:CEST
DTSTART:20260329T010000
END:DAYLIGHT
BEGIN:STANDARD
TZOFFSETFROM:+0200
TZOFFSETTO:+0100
TZNAME:CET
DTSTART:20261025T010000
END:STANDARD
END:VTIMEZONE
BEGIN:VEVENT
DTSTART;TZID=Europe/Berlin:20250508T200000
DTEND;TZID=Europe/Berlin:20250508T200000
DTSTAMP:20260420T123230
CREATED:20250409T134003Z
LAST-MODIFIED:20250409T134117Z
UID:10000243-1746734400-1746734400@haltern-online.de
SUMMARY:Akustiknacht in der Schänke Haltern mit Red at Night & Marc-Alan Prince
DESCRIPTION:Akustische Gitarren\, rauer Punkrock und internationale Gäste: Am Donnerstag\, den 8. Mai 2025\, wird es in der Schänke Haltern laut und zugleich unplugged. \nBei der beliebten Akustiknacht treten ab 20:00 Uhr gleich zwei besondere Acts auf: Red at Night aus Deutschland und Marc-Alan Prince aus den USA. \nDie beiden Musiker sind im Rahmen ihrer Europa-Tour unterwegs\, die sie durch acht Länder führt. Im Gepäck haben sie ihr neues\, gemeinsames Live-Album Deep In The Heart of Texas\, das exklusiv auf Vinyl erhältlich ist. Fans dürfen sich auf einen energiegeladenen Abend mit ehrlichem Akustik-Punkrock freuen. \nDer Eintritt ist frei\, eine Spende für die Künstler ist jedoch ausdrücklich erwünscht. Vinyl-Fans aufgepasst: Die neue Platte gibt’s direkt vor Ort! \nFoto: Red At Night
URL:https://haltern-online.de/event/akustiknacht-in-der-schaenke-haltern-mit-red-at-night-marc-alan-prince/
LOCATION:Schänke\, Lippstraße 36\, Haltern am See\, Nordrhein-Westfalen\, 45721\, Germany
CATEGORIES:Konzert
ATTACH;FMTTYPE=image/jpeg:https://haltern-online.de/wp-content/uploads/2025/04/red-at-night.jpg
ORGANIZER;CN="Sch%C3%A4nke":MAILTO:schaenkehaltern@outlook.de
END:VEVENT
END:VCALENDAR