BEGIN:VCALENDAR
VERSION:2.0
PRODID:-//Haltern-Online.de - ECPv6.15.20//NONSGML v1.0//EN
CALSCALE:GREGORIAN
METHOD:PUBLISH
X-ORIGINAL-URL:https://haltern-online.de
X-WR-CALDESC:Veranstaltungen für Haltern-Online.de
REFRESH-INTERVAL;VALUE=DURATION:PT1H
X-Robots-Tag:noindex
X-PUBLISHED-TTL:PT1H
BEGIN:VTIMEZONE
TZID:Europe/Berlin
BEGIN:DAYLIGHT
TZOFFSETFROM:+0100
TZOFFSETTO:+0200
TZNAME:CEST
DTSTART:20240331T010000
END:DAYLIGHT
BEGIN:STANDARD
TZOFFSETFROM:+0200
TZOFFSETTO:+0100
TZNAME:CET
DTSTART:20241027T010000
END:STANDARD
BEGIN:DAYLIGHT
TZOFFSETFROM:+0100
TZOFFSETTO:+0200
TZNAME:CEST
DTSTART:20250330T010000
END:DAYLIGHT
BEGIN:STANDARD
TZOFFSETFROM:+0200
TZOFFSETTO:+0100
TZNAME:CET
DTSTART:20251026T010000
END:STANDARD
BEGIN:DAYLIGHT
TZOFFSETFROM:+0100
TZOFFSETTO:+0200
TZNAME:CEST
DTSTART:20260329T010000
END:DAYLIGHT
BEGIN:STANDARD
TZOFFSETFROM:+0200
TZOFFSETTO:+0100
TZNAME:CET
DTSTART:20261025T010000
END:STANDARD
END:VTIMEZONE
BEGIN:VEVENT
DTSTART;TZID=Europe/Berlin:20251231T190000
DTEND;TZID=Europe/Berlin:20251231T190000
DTSTAMP:20260420T194948
CREATED:20251020T143923Z
LAST-MODIFIED:20251020T144110Z
UID:10000360-1767207600-1767207600@haltern-online.de
SUMMARY:Große Silvesterparty in der Seestadthalle Haltern
DESCRIPTION:Die Seestadthalle wird zum Hotspot der Silvesternacht: Unter dem Motto „Haltern feiert – Silvester und zwar richtig!“ lädt Festwerk Genuss & Events zur großen Jahresabschlussparty ein. \nAm 31. Dezember 2025 ab 19 Uhr erwartet die Gäste ein stilvoller Abend mit Livemusik\, DJs\, Food & Drinks sowie einer stimmungsvollen Lightshow zum Jahreswechsel. \nOb auf der Tanzfläche oder an der Bar – die Location bietet mit drei Bereichen reichlich Platz zum Feiern. Ein hochwertiges Getränkeangebot und kulinarische Highlights runden das Event ab. \nTickets im Vorverkauf: Der Vorverkauf läuft bereits auf www.festwerk-haltern.de. Früh buchen lohnt sich – die Plätze sind limitiert. \nHALTERN FEIERT SILVESTER – UND ZWAR RICHTIG
URL:https://haltern-online.de/event/grosse-silvesterparty-in-der-seestadthalle-haltern/
LOCATION:Seestadthalle\, Lippspieker 25\, Haltern am See\, Nordrhein-Westfalen\, 45721\, Germany
CATEGORIES:Party
ATTACH;FMTTYPE=image/jpeg:https://haltern-online.de/wp-content/uploads/1925/10/Festwerk-Silvesterparty-Kopfbild-1.jpg
ORGANIZER;CN="Festwerk Genuss & Events GmbH i.G.":MAILTO:info@festwerk-haltern.de
END:VEVENT
END:VCALENDAR