BEGIN:VCALENDAR
VERSION:2.0
PRODID:-//Haltern-Online.de - ECPv6.15.20//NONSGML v1.0//EN
CALSCALE:GREGORIAN
METHOD:PUBLISH
X-ORIGINAL-URL:https://haltern-online.de
X-WR-CALDESC:Veranstaltungen für Haltern-Online.de
REFRESH-INTERVAL;VALUE=DURATION:PT1H
X-Robots-Tag:noindex
X-PUBLISHED-TTL:PT1H
BEGIN:VTIMEZONE
TZID:Europe/Berlin
BEGIN:DAYLIGHT
TZOFFSETFROM:+0100
TZOFFSETTO:+0200
TZNAME:CEST
DTSTART:20240331T010000
END:DAYLIGHT
BEGIN:STANDARD
TZOFFSETFROM:+0200
TZOFFSETTO:+0100
TZNAME:CET
DTSTART:20241027T010000
END:STANDARD
BEGIN:DAYLIGHT
TZOFFSETFROM:+0100
TZOFFSETTO:+0200
TZNAME:CEST
DTSTART:20250330T010000
END:DAYLIGHT
BEGIN:STANDARD
TZOFFSETFROM:+0200
TZOFFSETTO:+0100
TZNAME:CET
DTSTART:20251026T010000
END:STANDARD
BEGIN:DAYLIGHT
TZOFFSETFROM:+0100
TZOFFSETTO:+0200
TZNAME:CEST
DTSTART:20260329T010000
END:DAYLIGHT
BEGIN:STANDARD
TZOFFSETFROM:+0200
TZOFFSETTO:+0100
TZNAME:CET
DTSTART:20261025T010000
END:STANDARD
END:VTIMEZONE
BEGIN:VEVENT
DTSTART;TZID=Europe/Berlin:20250430T190000
DTEND;TZID=Europe/Berlin:20250430T190000
DTSTAMP:20260421T084944
CREATED:20250327T155424Z
LAST-MODIFIED:20250327T155510Z
UID:10000240-1746039600-1746039600@haltern-online.de
SUMMARY:HenSeDö Revivalparty
DESCRIPTION:Die legendäre HenSeDö Revivalparty feiert ihr 20-jähriges Jubiläum unter dem Motto „JUST DANCE!“ – und bringt die Kult-Atmosphäre der 2000er zurück nach Dorsten. Am Mittwoch\, den 30. April\, verwandelt sich die Sunset Beach Bar ab 19 Uhr in eine Tanzfläche für alle Ü30-Fans. \nDatum: Mittwoch\, 30. April 2025Uhrzeit: 19:00 Uhr (Outdoorbereich ab 18:00 Uhr)Ort: Sunset Beach Bar\, Haltern am SeeEintritt: 12 Euro – Vorverkauf im Modehaus van BuerVeranstalter: HenSeDö RevivalpartyDJs: DJ Dölfi\, DJ Sepp und DJ Felti (Outdoor) \nFür den passenden Sound sorgen die bekannten DJs Dölfi und Sepp\, die mit Partyklassikern und unvergesslichen HenSeDö-Momenten das Lebensgefühl früherer Jahre wieder aufleben lassen. Bereits ab 18 Uhr lädt der Outdoorbereich – bei gutem Wetter – zum Einstimmen ein. Dort sorgt DJ Felti mit sommerlichen Beats für den perfekten Start in den Abend. \nEintrittskarten sind für 12 Euro im Vorverkauf im Modehaus van Buer erhältlich. Wer die HenSeDö-Zeit kennt\, weiß: Diese Party darf man nicht verpassen.
URL:https://haltern-online.de/event/hensedoe-revivalparty/
LOCATION:Sunset Beach Bar\, Hullerner Str. 52\, Haltern am See\, Nordrhein-Westfalen\, 45721\, Germany
CATEGORIES:Party
ATTACH;FMTTYPE=image/jpeg:https://haltern-online.de/wp-content/uploads/2025/03/revial-party.jpg
ORGANIZER;CN="Sunset Beach Bar":MAILTO:info@sunset-beach-bar.de
END:VEVENT
END:VCALENDAR