BEGIN:VCALENDAR
VERSION:2.0
PRODID:-//Haltern-Online.de - ECPv6.15.20//NONSGML v1.0//EN
CALSCALE:GREGORIAN
METHOD:PUBLISH
X-WR-CALNAME:Haltern-Online.de
X-ORIGINAL-URL:https://haltern-online.de
X-WR-CALDESC:Veranstaltungen für Haltern-Online.de
REFRESH-INTERVAL;VALUE=DURATION:PT1H
X-Robots-Tag:noindex
X-PUBLISHED-TTL:PT1H
BEGIN:VTIMEZONE
TZID:Europe/Berlin
BEGIN:DAYLIGHT
TZOFFSETFROM:+0100
TZOFFSETTO:+0200
TZNAME:CEST
DTSTART:20240331T010000
END:DAYLIGHT
BEGIN:STANDARD
TZOFFSETFROM:+0200
TZOFFSETTO:+0100
TZNAME:CET
DTSTART:20241027T010000
END:STANDARD
BEGIN:DAYLIGHT
TZOFFSETFROM:+0100
TZOFFSETTO:+0200
TZNAME:CEST
DTSTART:20250330T010000
END:DAYLIGHT
BEGIN:STANDARD
TZOFFSETFROM:+0200
TZOFFSETTO:+0100
TZNAME:CET
DTSTART:20251026T010000
END:STANDARD
BEGIN:DAYLIGHT
TZOFFSETFROM:+0100
TZOFFSETTO:+0200
TZNAME:CEST
DTSTART:20260329T010000
END:DAYLIGHT
BEGIN:STANDARD
TZOFFSETFROM:+0200
TZOFFSETTO:+0100
TZNAME:CET
DTSTART:20261025T010000
END:STANDARD
END:VTIMEZONE
BEGIN:VEVENT
DTSTART;TZID=Europe/Berlin:20250831T140000
DTEND;TZID=Europe/Berlin:20250831T170000
DTSTAMP:20260422T150019
CREATED:20250623T092817Z
LAST-MODIFIED:20250623T093722Z
UID:10000301-1756648800-1756659600@haltern-online.de
SUMMARY:Sommer am See: Cookies Friends mit Mennana Ennaoui
DESCRIPTION:Am 6. Juli startet Sommer am See in seine zehnte Runde. Jeden Sonntag im Juli und August gibt es Live-Musik an der Kajüte in der Stadtmühlenbucht. Erstmals beginnt das Open-Air-Event schon am Nachmittag. \nVon 14 bis 17 Uhr spielen verschiedene Bands direkt am Wasser. Der Eintritt ist frei. Die Kajüte bietet dazu kühle Getränke und Seeblick. Sommer am See steht für entspannte Stimmung\, gute Musik und einen perfekten Start in den Sonntag. \n31.08.2025 – Cookies Friends mit Mennana Ennaoui \nMennana Ennaoui kehrt für ein besonderes Revival-Konzert an die Kajüte zurück. Gemeinsam mit Cookies Friends erinnert sie an ihren musikalischen Weggefährten Cookie. Einmal im Jahr entsteht dabei ein emotionaler und intensiver Auftritt. Die Musik lebt\, berührt und bleibt im Ohr.
URL:https://haltern-online.de/event/sommer-am-see-cookies-friends-mit-mennana-ennaoui/
LOCATION:Zur Kajüte\, Strandallee 6\, Haltern am See\, Nordrhein-Westfalen\, 45721\, Germany
CATEGORIES:Sommer am See
ATTACH;FMTTYPE=image/jpeg:https://haltern-online.de/wp-content/uploads/2025/06/Sommer-am-See-2025-1.jpg
ORGANIZER;CN="Stadt Haltern am See":MAILTO:info@haltern-im-see.de
END:VEVENT
BEGIN:VEVENT
DTSTART;TZID=Europe/Berlin:20250824T140000
DTEND;TZID=Europe/Berlin:20250824T170000
DTSTAMP:20260422T150019
CREATED:20250623T091609Z
LAST-MODIFIED:20250623T091824Z
UID:10000300-1756044000-1756054800@haltern-online.de
SUMMARY:Sommer am See: Jär
DESCRIPTION:Am 6. Juli startet Sommer am See in seine zehnte Runde. Jeden Sonntag im Juli und August gibt es Live-Musik an der Kajüte in der Stadtmühlenbucht. Erstmals beginnt das Open-Air-Event schon am Nachmittag. \nVon 14 bis 17 Uhr spielen verschiedene Bands direkt am Wasser. Der Eintritt ist frei. Die Kajüte bietet dazu kühle Getränke und Seeblick. Sommer am See steht für entspannte Stimmung\, gute Musik und einen perfekten Start in den Sonntag. \n24.08.2025 – Jär \nJär bringt entspannte Cover-Songs an den See. Altbekanntes trifft auf frische Interpretationen mit eigener Note. Die Musik lädt zum Zurücklehnen und Genießen ein. Ein stimmungsvoller Ausklang für den Sommersonntag.
URL:https://haltern-online.de/event/sommer-am-see-jaer/
LOCATION:Zur Kajüte\, Strandallee 6\, Haltern am See\, Nordrhein-Westfalen\, 45721\, Germany
CATEGORIES:Sommer am See
ATTACH;FMTTYPE=image/jpeg:https://haltern-online.de/wp-content/uploads/2025/06/Sommer-am-See-2025-1.jpg
ORGANIZER;CN="Stadt Haltern am See":MAILTO:info@haltern-im-see.de
END:VEVENT
BEGIN:VEVENT
DTSTART;TZID=Europe/Berlin:20250817T140000
DTEND;TZID=Europe/Berlin:20250817T170000
DTSTAMP:20260422T150019
CREATED:20250623T074458Z
LAST-MODIFIED:20250623T074508Z
UID:10000299-1755439200-1755450000@haltern-online.de
SUMMARY:Sommer am See: Motel
DESCRIPTION:Am 6. Juli startet Sommer am See in seine zehnte Runde. Jeden Sonntag im Juli und August gibt es Live-Musik an der Kajüte in der Stadtmühlenbucht. Erstmals beginnt das Open-Air-Event schon am Nachmittag. \nVon 14 bis 17 Uhr spielen verschiedene Bands direkt am Wasser. Der Eintritt ist frei. Die Kajüte bietet dazu kühle Getränke und Seeblick. Sommer am See steht für entspannte Stimmung\, gute Musik und einen perfekten Start in den Sonntag. \n17.08.2025 – Motel \nMotel kommt aus Haltern am See und gehört seit Beginn zur Reihe. Das Duo spielt Acoustic Cover mit Herz und klarer Stimme. Bekannte Songs bekommen hier eine ganz eigene Note. Motel steht für Stimmung\, Nähe und echte Musik.
URL:https://haltern-online.de/event/sommer-am-see-motel/
LOCATION:Zur Kajüte\, Strandallee 6\, Haltern am See\, Nordrhein-Westfalen\, 45721\, Germany
CATEGORIES:Sommer am See
ATTACH;FMTTYPE=image/jpeg:https://haltern-online.de/wp-content/uploads/2025/06/Sommer-am-See-2025-1.jpg
ORGANIZER;CN="Stadt Haltern am See":MAILTO:info@haltern-im-see.de
END:VEVENT
BEGIN:VEVENT
DTSTART;TZID=Europe/Berlin:20250810T140000
DTEND;TZID=Europe/Berlin:20250810T170000
DTSTAMP:20260422T150019
CREATED:20250623T073841Z
LAST-MODIFIED:20250623T073951Z
UID:10000298-1754834400-1754845200@haltern-online.de
SUMMARY:Sommer am See: Double Bass Blues Band
DESCRIPTION:Am 6. Juli startet Sommer am See in seine zehnte Runde. Jeden Sonntag im Juli und August gibt es Live-Musik an der Kajüte in der Stadtmühlenbucht. Erstmals beginnt das Open-Air-Event schon am Nachmittag. \nVon 14 bis 17 Uhr spielen verschiedene Bands direkt am Wasser. Der Eintritt ist frei. Die Kajüte bietet dazu kühle Getränke und Seeblick. Sommer am See steht für entspannte Stimmung\, gute Musik und einen perfekten Start in den Sonntag. \n10.08.2025 – Double Bass Blues Band \nDie Double Bass Blues Band steht für echten Blues-Rock mit Seele. Die Band spielt kraftvoll\, ehrlich und mit viel Gefühl. Ihr Sound verzaubert das Publikum und geht direkt unter die Haut. Ein Muss für alle Fans handgemachter Musik.
URL:https://haltern-online.de/event/sommer-am-see-double-bass-blues-band/
LOCATION:Zur Kajüte\, Strandallee 6\, Haltern am See\, Nordrhein-Westfalen\, 45721\, Germany
CATEGORIES:Sommer am See
ATTACH;FMTTYPE=image/jpeg:https://haltern-online.de/wp-content/uploads/2025/06/Sommer-am-See-2025-1.jpg
ORGANIZER;CN="Stadt Haltern am See":MAILTO:info@haltern-im-see.de
END:VEVENT
BEGIN:VEVENT
DTSTART;TZID=Europe/Berlin:20250803T140000
DTEND;TZID=Europe/Berlin:20250803T170000
DTSTAMP:20260422T150019
CREATED:20250623T073516Z
LAST-MODIFIED:20250623T073531Z
UID:10000297-1754229600-1754240400@haltern-online.de
SUMMARY:Sommer am See: TeaJäy
DESCRIPTION:Am 6. Juli startet Sommer am See in seine zehnte Runde. Jeden Sonntag im Juli und August gibt es Live-Musik an der Kajüte in der Stadtmühlenbucht. Erstmals beginnt das Open-Air-Event schon am Nachmittag. \nVon 14 bis 17 Uhr spielen verschiedene Bands direkt am Wasser. Der Eintritt ist frei. Die Kajüte bietet dazu kühle Getränke und Seeblick. Sommer am See steht für entspannte Stimmung\, gute Musik und einen perfekten Start in den Sonntag. \n03.08.2025 – TeaJäy \nTeaJäy bringt eine mitreißende One-Man-Show auf die Bühne. Sein Programm mischt kölsche Lieder\, Rock\, Trash-Pop und Schlager. Alles ist dabei\, was Spaß macht und zum Mitsingen einlädt. Mit viel Humor und Energie reißt er das Publikum mit.
URL:https://haltern-online.de/event/sommer-am-see-teajaey-2/
LOCATION:Zur Kajüte\, Strandallee 6\, Haltern am See\, Nordrhein-Westfalen\, 45721\, Germany
CATEGORIES:Sommer am See
ATTACH;FMTTYPE=image/jpeg:https://haltern-online.de/wp-content/uploads/2025/06/Sommer-am-See-2025-1.jpg
ORGANIZER;CN="Stadt Haltern am See":MAILTO:info@haltern-im-see.de
END:VEVENT
BEGIN:VEVENT
DTSTART;TZID=Europe/Berlin:20250803T140000
DTEND;TZID=Europe/Berlin:20250803T140000
DTSTAMP:20260422T150019
CREATED:20250716T095840Z
LAST-MODIFIED:20250716T095931Z
UID:10000326-1754229600-1754229600@haltern-online.de
SUMMARY:HONO LULU Open Air am Maui Beach Club
DESCRIPTION:Elektronische Klänge\, sommerliche Atmosphäre und feinster Sandstrand: Das HONO LULU Open Air bringt mit MOGUAI und JC ZELLER zwei hochkarätige Acts an den Maui Beach in Haltern. \nDirekt am Wasser gelegen\, bietet die Location das perfekte Ambiente für ein ausgelassenes Festivalerlebnis. Besucher erwartet ein Mix aus House\, Electro und Club-Sounds – live\, open air und mitten im Sommer. \nEintritt: 19\,00 € \nHinweis zur Anreise:Für Pkw wird ein Parkticket für den bewachten Parkplatz am Silbersee 2 benötigt.→ Der Link zum Ticketshop wird in Kürze veröffentlicht. \nTipp: Beim Einlass am Maui Beach erhältst du gegen Vorlage des Parktickets einen 7\,50 € Getränke-Verzehrgutschein. \nVeranstalter: Maui Beach ClubVeranstaltungsort: Maui Beach Club\, Silbersee 2\, 45721 Haltern am See
URL:https://haltern-online.de/event/hono-lulu-open-air-am-maui-beach-club/
LOCATION:Maui Beach Club\, Zum Vogelsberg\, Haltern am See\, Nordrhein-Westfalen\, 45721\, Germany
CATEGORIES:Party
ATTACH;FMTTYPE=image/jpeg:https://haltern-online.de/wp-content/uploads/2025/07/maui-beach-latina-1.jpg
ORGANIZER;CN="Maui Beach Club":MAILTO:info@mauibeach.de
END:VEVENT
BEGIN:VEVENT
DTSTART;TZID=Europe/Berlin:20250727T140000
DTEND;TZID=Europe/Berlin:20250727T170000
DTSTAMP:20260422T150019
CREATED:20250620T135104Z
LAST-MODIFIED:20250620T135150Z
UID:10000296-1753624800-1753635600@haltern-online.de
SUMMARY:Sommer am See: The Cable Bugs
DESCRIPTION:Am 6. Juli startet Sommer am See in seine zehnte Runde. Jeden Sonntag im Juli und August gibt es Live-Musik an der Kajüte in der Stadtmühlenbucht. Erstmals beginnt das Open-Air-Event schon am Nachmittag. \nVon 14 bis 17 Uhr spielen verschiedene Bands direkt am Wasser. Der Eintritt ist frei. Die Kajüte bietet dazu kühle Getränke und Seeblick. Sommer am See steht für entspannte Stimmung\, gute Musik und einen perfekten Start in den Sonntag. \n27.07.2025 – The Cable Bugs \nThe Cable Bugs bringen Rockabilly vom Feinsten an den See. Die Band kommt aus dem Dreiländereck und sorgt mit ihrem Sound für echte Partystimmung. Schnelle Rhythmen\, Kontrabass und ein Hauch Retro machen den Auftritt zum Erlebnis. Hier wird getanzt\, gelacht und mitgewippt.
URL:https://haltern-online.de/event/sommer-am-see-the-cable-bugs/
LOCATION:Zur Kajüte\, Strandallee 6\, Haltern am See\, Nordrhein-Westfalen\, 45721\, Germany
CATEGORIES:Sommer am See
ATTACH;FMTTYPE=image/jpeg:https://haltern-online.de/wp-content/uploads/2025/06/Sommer-am-See-2025-1.jpg
ORGANIZER;CN="Stadt Haltern am See":MAILTO:info@haltern-im-see.de
END:VEVENT
BEGIN:VEVENT
DTSTART;TZID=Europe/Berlin:20250727T140000
DTEND;TZID=Europe/Berlin:20250727T140000
DTSTAMP:20260422T150019
CREATED:20250716T094651Z
LAST-MODIFIED:20250716T094706Z
UID:10000325-1753624800-1753624800@haltern-online.de
SUMMARY:Latina Loca Open Air am Maui Beach Club
DESCRIPTION:Heiße Beats und Sommerstimmung direkt am Wasser: Beim Latina Loca Open Air erwartet die Gäste ein energiegeladener Mix aus Reggaeton\, Dembow und Latin Hits. \nUnter freiem Himmel\, mit Sand unter den Füßen und direktem Blick auf den Silbersee. Der Maui Beach Club in Haltern am See wird zum Treffpunkt für alle\, die den Sommer feiern wollen. \nEintritt: 15\,00 €Parkticket erforderlich:Für die Anreise mit dem Auto ist ein Pkw-Parkticket für den bewachten Parkplatz am Silbersee 2 notwendig. Das Ticket kann vorab online erworben werden[PARKTICKET Silbersee 2 – 27.07.2025] \nTipp: Beim Einlass am Maui Beach erhältst du gegen Vorlage des Parktickets einen 7\,50 € Getränke-Verzehrgutschein. \nVeranstalter: Maui Beach ClubVeranstaltungsort: Maui Beach Club\, Silbersee 2\, 45721 Haltern am See
URL:https://haltern-online.de/event/latina-loca-open-air-am-maui-beach-club/
LOCATION:Maui Beach Club\, Zum Vogelsberg\, Haltern am See\, Nordrhein-Westfalen\, 45721\, Germany
CATEGORIES:Party
ATTACH;FMTTYPE=image/jpeg:https://haltern-online.de/wp-content/uploads/2025/07/maui-beach-latina.jpg
ORGANIZER;CN="Maui Beach Club":MAILTO:info@mauibeach.de
END:VEVENT
BEGIN:VEVENT
DTSTART;TZID=Europe/Berlin:20250720T140000
DTEND;TZID=Europe/Berlin:20250720T170000
DTSTAMP:20260422T150019
CREATED:20250620T134656Z
LAST-MODIFIED:20250620T134705Z
UID:10000295-1753020000-1753030800@haltern-online.de
SUMMARY:Sommer am See: String
DESCRIPTION:Am 6. Juli startet Sommer am See in seine zehnte Runde. Jeden Sonntag im Juli und August gibt es Live-Musik an der Kajüte in der Stadtmühlenbucht. Erstmals beginnt das Open-Air-Event schon am Nachmittag. \nVon 14 bis 17 Uhr spielen verschiedene Bands direkt am Wasser. Der Eintritt ist frei. Die Kajüte bietet dazu kühle Getränke und Seeblick. Sommer am See steht für entspannte Stimmung\, gute Musik und einen perfekten Start in den Sonntag. \n20.07.2025 – StringString nimmt das Publikum mit auf eine musikalische Zeitreise. Die Band spielt bekannte Hits aus mehreren Jahrzehnten. Dazu gibt es eine sympathische Bühnenperformance mit viel Charme. Musik zum Mitsingen\, Mitwippen und Genießen.
URL:https://haltern-online.de/event/sommer-am-see-string/
LOCATION:Zur Kajüte\, Strandallee 6\, Haltern am See\, Nordrhein-Westfalen\, 45721\, Germany
CATEGORIES:Sommer am See
ATTACH;FMTTYPE=image/jpeg:https://haltern-online.de/wp-content/uploads/2025/06/Sommer-am-See-2025-1.jpg
ORGANIZER;CN="Stadt Haltern am See":MAILTO:info@haltern-im-see.de
END:VEVENT
BEGIN:VEVENT
DTSTART;TZID=Europe/Berlin:20250713T140000
DTEND;TZID=Europe/Berlin:20250713T170000
DTSTAMP:20260422T150019
CREATED:20250620T124753Z
LAST-MODIFIED:20250620T124811Z
UID:10000294-1752415200-1752426000@haltern-online.de
SUMMARY:Sommer am See: Kenitra Band
DESCRIPTION:Am 6. Juli startet Sommer am See in seine zehnte Runde. Jeden Sonntag im Juli und August gibt es Live-Musik an der Kajüte in der Stadtmühlenbucht. Erstmals beginnt das Open-Air-Event schon am Nachmittag. \nVon 14 bis 17 Uhr spielen verschiedene Bands direkt am Wasser. Der Eintritt ist frei. Die Kajüte bietet dazu kühle Getränke und Seeblick. Sommer am See steht für entspannte Stimmung\, gute Musik und einen perfekten Start in den Sonntag. \n13.07.2025 – Kenitra Band \nDie Kenitra Band kommt in voller Besetzung an den See. Das Duo\, das bei der White Night für Furore sorgte\, bringt jetzt die ganze Band mit. Freut euch auf kraftvolle Grooves\, warme Stimmen und abwechslungsreiche Songs. Die Band steht für Überraschungen und gute Laune.
URL:https://haltern-online.de/event/sommer-am-see-kenitra-band/
LOCATION:Zur Kajüte\, Strandallee 6\, Haltern am See\, Nordrhein-Westfalen\, 45721\, Germany
CATEGORIES:Sommer am See
ATTACH;FMTTYPE=image/jpeg:https://haltern-online.de/wp-content/uploads/2025/06/Sommer-am-See-2025-1.jpg
ORGANIZER;CN="Stadt Haltern am See":MAILTO:info@haltern-im-see.de
END:VEVENT
BEGIN:VEVENT
DTSTART;TZID=Europe/Berlin:20250706T140000
DTEND;TZID=Europe/Berlin:20250706T170000
DTSTAMP:20260422T150019
CREATED:20250618T122438Z
LAST-MODIFIED:20250618T122635Z
UID:10000293-1751810400-1751821200@haltern-online.de
SUMMARY:Sommer am See: Take Two
DESCRIPTION:Am 6. Juli startet Sommer am See in seine zehnte Runde. Jeden Sonntag im Juli und August gibt es Live-Musik an der Kajüte in der Stadtmühlenbucht. Erstmals beginnt das Open-Air-Event schon am Nachmittag.  \nVon 14 bis 17 Uhr spielen verschiedene Bands direkt am Wasser. Der Eintritt ist frei. Die Kajüte bietet dazu kühle Getränke und Seeblick. Sommer am See steht für entspannte Stimmung\, gute Musik und einen perfekten Start in den Sonntag. \n\n\n\n\n\n\n\n\n\n06.07.2025 – Take Two \nTake Two eröffnen die Reihe mit rockigem Sound. Das Power-Duo bringt viel Energie auf die Bühne. Gitarre\, Gesang und starke Präsenz sorgen für Stimmung. Die beiden machen aus jedem Song ein Erlebnis. \n\n\n\n\n\n\n\n\n\n 
URL:https://haltern-online.de/event/sommer-am-see-take-two/
LOCATION:Zur Kajüte\, Strandallee 6\, Haltern am See\, Nordrhein-Westfalen\, 45721\, Germany
CATEGORIES:Sommer am See
ATTACH;FMTTYPE=image/jpeg:https://haltern-online.de/wp-content/uploads/2025/06/Sommer-am-See-2025-1.jpg
ORGANIZER;CN="Stadt Haltern am See":MAILTO:info@haltern-im-see.de
END:VEVENT
BEGIN:VEVENT
DTSTART;TZID=Europe/Berlin:20250628T150000
DTEND;TZID=Europe/Berlin:20250628T150000
DTSTAMP:20260422T150019
CREATED:20250520T150130Z
LAST-MODIFIED:20250520T150142Z
UID:10000274-1751122800-1751122800@haltern-online.de
SUMMARY:Sunset Beach Festival 2025 – Samstag mit Alle Farben\, BUNT\, David Puentez
DESCRIPTION:Der Festival-Samstag am See verspricht zwölf Stunden elektronische Musik\, Beachfeeling und pures Sommerglück! \nDas Line-up: \n\nAlle Farben\nBUNT.\nDavid Puentez\nAvaion\nYouNotUs\nPhil Fuldner B2B Ante Perry\nSalvatore Mancuso\n\nDie Bühne steht direkt am Wasser\, dazu gibt’s Drinks\, Foodtrucks\, Lichter und Beats – das Sunset Beach Festival verwandelt das Seebad Haltern in eine einzigartige Open-Air-Partyzone. Tanzen bis in den Sonnenuntergang inklusive! \nJetzt Tickets sichern unter: www.sunset-beach-festival.de \nTickets:Vorverkauf im Modewerk Haltern (keine VIP-Tickets)Online unter www.sunset-beach-festival.de \nFoto: Canva
URL:https://haltern-online.de/event/sunset-beach-festival-2025-samstag-mit-alle-farben-bunt-david-puentez/
LOCATION:Seebad Haltern am See\, Hullerner Straße 52\, Haltern am See\, 45721\, Germany
CATEGORIES:Party
ATTACH;FMTTYPE=image/jpeg:https://haltern-online.de/wp-content/uploads/2025/05/festival-stock-bild.jpg
ORGANIZER;CN="Stadt Haltern am See":MAILTO:info@haltern-im-see.de
END:VEVENT
BEGIN:VEVENT
DTSTART;TZID=Europe/Berlin:20250627T173000
DTEND;TZID=Europe/Berlin:20250627T173000
DTSTAMP:20260422T150019
CREATED:20250520T141129Z
LAST-MODIFIED:20250520T141145Z
UID:10000273-1751045400-1751045400@haltern-online.de
SUMMARY:Sunset Beach Festival 2025: Festivalfreitag mit Jazeek\, Lune & Frizzo
DESCRIPTION:Der Festivalfreitag beim Sunset Beach bringt eine Mischung aus urbanem Sound und gefühlvollen Pop-Vibes an den Halterner See: Jazeek sorgt mit Hits wie „Diamond Ring“ für Stimmung\, Lune begeistert mit emotionalem Deutschpop und Ohrwurm-Melodien\, während Frizzo die Crowd mit seinen treibenden Beats durch den Abend trägt. \nFeiern am Strand\, tanzen mit Sonnenuntergang im Hintergrund und Festivalatmosphäre unter freiem Himmel – das Sunset Beach Festival bietet ein unvergessliches Musik- und Sommererlebnis direkt am Wasser. \nJetzt Tickets sichern unter: www.sunset-beach-festival.de \nFoto: Canva
URL:https://haltern-online.de/event/sunset-beach-festival-2025-festivalfreitag-mit-jazeek-lune-frizzo/
LOCATION:Seebad Haltern am See\, Hullerner Straße 52\, Haltern am See\, 45721\, Germany
CATEGORIES:Konzert
ATTACH;FMTTYPE=image/jpeg:https://haltern-online.de/wp-content/uploads/2025/05/festival-stock-bild.jpg
ORGANIZER;CN="Stadt Haltern am See":MAILTO:info@haltern-im-see.de
END:VEVENT
BEGIN:VEVENT
DTSTART;TZID=Europe/Berlin:20250626T173000
DTEND;TZID=Europe/Berlin:20250626T173000
DTSTAMP:20260422T150019
CREATED:20250520T111908Z
LAST-MODIFIED:20250520T130422Z
UID:10000272-1750959000-1750959000@haltern-online.de
SUMMARY:Sunset-Beach-Festival mit NENA & Alphaville
DESCRIPTION:Zwei Kult-Acts an einem Abend – vor der einzigartigen Kulisse des Halterner Stausees! Beim Sunset-Beach-Festival 2025 stehen gleich zwei Musiklegenden auf der Bühne: NENA bringt ihre größten Hits von „99 Luftballons“ bis „Irgendwie\, irgendwo\, irgendwann“ mit\, während Alphaville mit Klassikern wie „Forever Young“ und „Big in Japan“ für Gänsehautmomente sorgt. \nDirekt am Wasser\, mit Sand unter den Füßen und der Sonne im Rücken\, erwartet die Besucher ein atmosphärisches Konzerterlebnis der besonderen Art. Foodtrucks\, Strandbars und Lichteffekte runden den Festivalabend ab. \nJetzt Tickets sichern unter: www.sunset-beach-festival.de \nFoto: Canva
URL:https://haltern-online.de/event/sunset-beach-festival-mit-nena-alphaville/
LOCATION:Seebad Haltern am See\, Hullerner Straße 52\, Haltern am See\, 45721\, Germany
CATEGORIES:Konzert
ATTACH;FMTTYPE=image/jpeg:https://haltern-online.de/wp-content/uploads/2025/05/festival-stock-bild.jpg
ORGANIZER;CN="Stadt Haltern am See":MAILTO:info@haltern-im-see.de
END:VEVENT
END:VCALENDAR