BEGIN:VCALENDAR
VERSION:2.0
PRODID:-//Haltern-Online.de - ECPv6.15.20//NONSGML v1.0//EN
CALSCALE:GREGORIAN
METHOD:PUBLISH
X-ORIGINAL-URL:https://haltern-online.de
X-WR-CALDESC:Veranstaltungen für Haltern-Online.de
REFRESH-INTERVAL;VALUE=DURATION:PT1H
X-Robots-Tag:noindex
X-PUBLISHED-TTL:PT1H
BEGIN:VTIMEZONE
TZID:Europe/Berlin
BEGIN:DAYLIGHT
TZOFFSETFROM:+0100
TZOFFSETTO:+0200
TZNAME:CEST
DTSTART:20240331T010000
END:DAYLIGHT
BEGIN:STANDARD
TZOFFSETFROM:+0200
TZOFFSETTO:+0100
TZNAME:CET
DTSTART:20241027T010000
END:STANDARD
BEGIN:DAYLIGHT
TZOFFSETFROM:+0100
TZOFFSETTO:+0200
TZNAME:CEST
DTSTART:20250330T010000
END:DAYLIGHT
BEGIN:STANDARD
TZOFFSETFROM:+0200
TZOFFSETTO:+0100
TZNAME:CET
DTSTART:20251026T010000
END:STANDARD
BEGIN:DAYLIGHT
TZOFFSETFROM:+0100
TZOFFSETTO:+0200
TZNAME:CEST
DTSTART:20260329T010000
END:DAYLIGHT
BEGIN:STANDARD
TZOFFSETFROM:+0200
TZOFFSETTO:+0100
TZNAME:CET
DTSTART:20261025T010000
END:STANDARD
END:VTIMEZONE
BEGIN:VEVENT
DTSTART;TZID=Europe/Berlin:20251205T170000
DTEND;TZID=Europe/Berlin:20251205T190000
DTSTAMP:20260420T200105
CREATED:20251124T091326Z
LAST-MODIFIED:20251124T091423Z
UID:10000387-1764954000-1764961200@haltern-online.de
SUMMARY:Nikolausumzug in Flaesheim
DESCRIPTION:Am 5. Dezember lädt der Bürgerschützenverein Flaesheim alle kleinen und großen Besucher zum traditionellen Nikolausumzug ein.  \nTreffpunkt ist um 17 Uhr an der Heideschule. Von dort zieht der Laternenumzug\, musikalisch begleitet vom Spielmannszug der Freiwilligen Feuerwehr Flaesheim\, zunächst zum Ehrenmal. \nDort erwartet die Kinder ein festlicher Empfang durch den Nikolaus und Knecht Ruprecht. Im Anschluss geht es weiter zum Feuerwehrhaus\, wo die beliebten Nikolaustüten ausgegeben werden. \nWichtig: Gutscheine für die Nikolaustüten sind vom 15. bis 28. November 2025 bei den angegebenen Schützenbrüdern erhältlich. Danach ist kein Erwerb mehr möglich.
URL:https://haltern-online.de/event/nikolausumzug-in-flaesheim/
CATEGORIES:Helfen & Spenden
ATTACH;FMTTYPE=image/jpeg:https://haltern-online.de/wp-content/uploads/2025/11/nikolausumzug-flaesheim-2025.jpg
END:VEVENT
END:VCALENDAR