BEGIN:VCALENDAR
VERSION:2.0
PRODID:-//Haltern-Online.de - ECPv6.15.20//NONSGML v1.0//EN
CALSCALE:GREGORIAN
METHOD:PUBLISH
X-ORIGINAL-URL:https://haltern-online.de
X-WR-CALDESC:Veranstaltungen für Haltern-Online.de
REFRESH-INTERVAL;VALUE=DURATION:PT1H
X-Robots-Tag:noindex
X-PUBLISHED-TTL:PT1H
BEGIN:VTIMEZONE
TZID:Europe/Berlin
BEGIN:DAYLIGHT
TZOFFSETFROM:+0100
TZOFFSETTO:+0200
TZNAME:CEST
DTSTART:20240331T010000
END:DAYLIGHT
BEGIN:STANDARD
TZOFFSETFROM:+0200
TZOFFSETTO:+0100
TZNAME:CET
DTSTART:20241027T010000
END:STANDARD
BEGIN:DAYLIGHT
TZOFFSETFROM:+0100
TZOFFSETTO:+0200
TZNAME:CEST
DTSTART:20250330T010000
END:DAYLIGHT
BEGIN:STANDARD
TZOFFSETFROM:+0200
TZOFFSETTO:+0100
TZNAME:CET
DTSTART:20251026T010000
END:STANDARD
BEGIN:DAYLIGHT
TZOFFSETFROM:+0100
TZOFFSETTO:+0200
TZNAME:CEST
DTSTART:20260329T010000
END:DAYLIGHT
BEGIN:STANDARD
TZOFFSETFROM:+0200
TZOFFSETTO:+0100
TZNAME:CET
DTSTART:20261025T010000
END:STANDARD
END:VTIMEZONE
BEGIN:VEVENT
DTSTART;TZID=Europe/Berlin:20251128T170000
DTEND;TZID=Europe/Berlin:20251214T210000
DTSTAMP:20260420T094529
CREATED:20251126T131635Z
LAST-MODIFIED:20251126T131635Z
UID:10000390-1764349200-1765746000@haltern-online.de
SUMMARY:Nikolausmarkt mit Schlittschuhbahn Haltern am See
DESCRIPTION:Zur Adventszeit verwandelt sich der Marktplatz in Haltern am See wieder in ein festlich geschmücktes Winterdorf. \nDer Nikolausmarkt startet traditionell am ersten Adventswochenende. Bürgermeister Andreas Stegemann eröffnet den Markt am Freitag\, 28.11.2025 um 18 Uhr offiziell. \nZwischen stimmungsvoll beleuchteten Hütten und dem funkelnden LED-Lichtervorhang lädt der Markt zum Bummeln\, Genießen und Verweilen ein. Ob weihnachtliche Musik\, Kunsthandwerk oder kulinarische Leckereien\, hier ist für die ganze Familie etwas dabei. \nBesonderes Highlight: Die Erlebnis-Schlittschuhbahn der Stadtwerke Haltern am See lädt zu sportlich-winterlichem Vergnügen mitten auf dem Platz ein. \nEin Höhepunkt für Kinder: Am 6. Dezember kommt der Nikolaus über den See gefahren und zieht anschließend durch die Innenstadt. \nAm Sonntag\, 7. Dezember findet von 13–18 Uhr ein verkaufsoffener Sonntag unter dem Motto „Einkaufen\, wo andere Urlaub machen!“ statt. \nGlücksfee im Advent: An allen Advents-Samstagen um 15 Uhr findet die beliebte Glücksthaler-Ziehung statt.
URL:https://haltern-online.de/event/nikolausmarkt-mit-schlittschuhbahn-haltern-am-see/
LOCATION:Marktplatz\, Markt 1\, Haltern am See\, 45721
CATEGORIES:Stadtfeste
ATTACH;FMTTYPE=image/jpeg:https://haltern-online.de/wp-content/uploads/2025/11/Nikolausmarkt-haltern.jpg
ORGANIZER;CN="Stadt Haltern am See":MAILTO:info@haltern-im-see.de
END:VEVENT
END:VCALENDAR