BEGIN:VCALENDAR
VERSION:2.0
PRODID:-//Haltern-Online.de - ECPv6.15.20//NONSGML v1.0//EN
CALSCALE:GREGORIAN
METHOD:PUBLISH
X-ORIGINAL-URL:https://haltern-online.de
X-WR-CALDESC:Veranstaltungen für Haltern-Online.de
REFRESH-INTERVAL;VALUE=DURATION:PT1H
X-Robots-Tag:noindex
X-PUBLISHED-TTL:PT1H
BEGIN:VTIMEZONE
TZID:Europe/Berlin
BEGIN:DAYLIGHT
TZOFFSETFROM:+0100
TZOFFSETTO:+0200
TZNAME:CEST
DTSTART:20240331T010000
END:DAYLIGHT
BEGIN:STANDARD
TZOFFSETFROM:+0200
TZOFFSETTO:+0100
TZNAME:CET
DTSTART:20241027T010000
END:STANDARD
BEGIN:DAYLIGHT
TZOFFSETFROM:+0100
TZOFFSETTO:+0200
TZNAME:CEST
DTSTART:20250330T010000
END:DAYLIGHT
BEGIN:STANDARD
TZOFFSETFROM:+0200
TZOFFSETTO:+0100
TZNAME:CET
DTSTART:20251026T010000
END:STANDARD
BEGIN:DAYLIGHT
TZOFFSETFROM:+0100
TZOFFSETTO:+0200
TZNAME:CEST
DTSTART:20260329T010000
END:DAYLIGHT
BEGIN:STANDARD
TZOFFSETFROM:+0200
TZOFFSETTO:+0100
TZNAME:CET
DTSTART:20261025T010000
END:STANDARD
END:VTIMEZONE
BEGIN:VEVENT
DTSTART;TZID=Europe/Berlin:20250529T110000
DTEND;TZID=Europe/Berlin:20250529T110000
DTSTAMP:20260423T052512
CREATED:20250506T095116Z
LAST-MODIFIED:20250506T095914Z
UID:10000257-1748516400-1748516400@haltern-online.de
SUMMARY:LWL-Römermuseum: Alltagsleben römischer Legionäre
DESCRIPTION:Was mussten römische Legionäre auf ihren langen Märschen mit sich tragen? Wie sah ihre Unterkunft aus\, und was kam auf den Tisch? Bei dieser Familienführung steht das Alltagsleben römischer Soldaten im Mittelpunkt – praxisnah und anschaulich vermittelt. \nDie Teilnehmenden lernen eine originalgetreue Rekonstruktion des römischen Marschgepäcks kennen und dürfen selbst ausprobieren\, wie es getragen wurde. Auch eine typische Tagesration wird unter die Lupe genommen – inklusive der Möglichkeit\, Getreide auf einer nachgebauten Handmühle zu mahlen. \nHinweis: Die Führung richtet sich an Familien mit Kindern ab 10 Jahren. Eine Anmeldung ist erforderlich. \nFoto: Canva
URL:https://haltern-online.de/event/lwl-roemermuseum-alltagsleben-roemischer-legionaere-2/
LOCATION:LWL-Römermuseum\, Weseler Straße 100\, Haltern am See\, Nordrhein-Westfalen\, 45721\, Germany
CATEGORIES:Führung
ATTACH;FMTTYPE=image/jpeg:https://haltern-online.de/wp-content/uploads/2024/10/Roemermuseum.jpg
ORGANIZER;CN="LWL-R%C3%B6mermuseum":MAILTO:lwl-roemermuseum@lwl.org
END:VEVENT
END:VCALENDAR