BEGIN:VCALENDAR
VERSION:2.0
PRODID:-//Haltern-Online.de - ECPv6.15.20//NONSGML v1.0//EN
CALSCALE:GREGORIAN
METHOD:PUBLISH
X-ORIGINAL-URL:https://haltern-online.de
X-WR-CALDESC:Veranstaltungen für Haltern-Online.de
REFRESH-INTERVAL;VALUE=DURATION:PT1H
X-Robots-Tag:noindex
X-PUBLISHED-TTL:PT1H
BEGIN:VTIMEZONE
TZID:Europe/Berlin
BEGIN:DAYLIGHT
TZOFFSETFROM:+0100
TZOFFSETTO:+0200
TZNAME:CEST
DTSTART:20240331T010000
END:DAYLIGHT
BEGIN:STANDARD
TZOFFSETFROM:+0200
TZOFFSETTO:+0100
TZNAME:CET
DTSTART:20241027T010000
END:STANDARD
BEGIN:DAYLIGHT
TZOFFSETFROM:+0100
TZOFFSETTO:+0200
TZNAME:CEST
DTSTART:20250330T010000
END:DAYLIGHT
BEGIN:STANDARD
TZOFFSETFROM:+0200
TZOFFSETTO:+0100
TZNAME:CET
DTSTART:20251026T010000
END:STANDARD
BEGIN:DAYLIGHT
TZOFFSETFROM:+0100
TZOFFSETTO:+0200
TZNAME:CEST
DTSTART:20260329T010000
END:DAYLIGHT
BEGIN:STANDARD
TZOFFSETFROM:+0200
TZOFFSETTO:+0100
TZNAME:CET
DTSTART:20261025T010000
END:STANDARD
END:VTIMEZONE
BEGIN:VEVENT
DTSTART;TZID=Europe/Berlin:20251130T140000
DTEND;TZID=Europe/Berlin:20251130T170000
DTSTAMP:20260420T122145
CREATED:20251126T105757Z
LAST-MODIFIED:20251126T105757Z
UID:10000389-1764511200-1764522000@haltern-online.de
SUMMARY:Weihnachtsgeschenke bei den Römern? – Überraschungsführung im Römermuseum
DESCRIPTION:Wie feierten die alten Römer eigentlich Weihnachten – oder etwas Vergleichbares? \nDas LWL-Römermuseum lädt Familien mit Kindern ab 8 Jahren zu einer spannenden Überraschungsführung rund um die Saturnalien\, das römische Winterfest\, ein. Dabei dreht sich alles um Bräuche\, Geschenke und Festlichkeiten im alten Rom. \nIm Anschluss an die Führung gestalten die Kinder ihre eigene Adventskerze – eine kreative Mitmachaktion\, die das Erlebte vertieft. Es können ggf. geringe Materialkosten anfallen. \nFoto: Canva
URL:https://haltern-online.de/event/weihnachtsgeschenke-bei-den-roemern-ueberraschungsfuehrung-im-roemermuseum/
LOCATION:LWL-Römermuseum\, Weseler Straße 100\, Haltern am See\, Nordrhein-Westfalen\, 45721\, Germany
CATEGORIES:Kinderfreundlich
ATTACH;FMTTYPE=image/jpeg:https://haltern-online.de/wp-content/uploads/2024/10/Roemermuseum.jpg
ORGANIZER;CN="LWL-R%C3%B6mermuseum":MAILTO:lwl-roemermuseum@lwl.org
END:VEVENT
BEGIN:VEVENT
DTSTART;TZID=Europe/Berlin:20251026T100000
DTEND;TZID=Europe/Berlin:20251026T180000
DTSTAMP:20260420T122145
CREATED:20251007T112820Z
LAST-MODIFIED:20251007T112834Z
UID:10000356-1761472800-1761501600@haltern-online.de
SUMMARY:LWL-Römermuseum: Saisonabschluss auf der Römerbaustelle Aliso
DESCRIPTION:Am Sonntag\, 26. Oktober 2025\, lädt das LWL-Römermuseum in Haltern am See von 10 bis 18 Uhr zum großen Saisonabschluss auf der Römerbaustelle Aliso ein. \nBeim Familiensonntag erwartet die Besucherinnen und Besucher ein spannendes Programm mit Führungen\, Mitmachaktionen und Einblicken in das römische Leben vor 2.000 Jahren. Kinder können selbst aktiv werden\, während Erwachsene faszinierende Fakten über das antike Militärlager Aliso erfahren. \nDer Saisonabschluss bietet die letzte Gelegenheit des Jahres\, das Freigelände mit seinen rekonstruierten Bauten zu erleben\, bevor es in die Winterpause geht. \nEin Ausflug\, der Geschichte lebendig werden lässt – ideal für Familien und Geschichtsinteressierte.
URL:https://haltern-online.de/event/lwl-roemermuseum-saisonabschluss-auf-der-roemerbaustelle-aliso/
LOCATION:LWL-Römermuseum\, Weseler Straße 100\, Haltern am See\, Nordrhein-Westfalen\, 45721\, Germany
CATEGORIES:Kinderfreundlich
ATTACH;FMTTYPE=image/jpeg:https://haltern-online.de/wp-content/uploads/2024/10/Roemermuseum.jpg
ORGANIZER;CN="LWL-R%C3%B6mermuseum":MAILTO:lwl-roemermuseum@lwl.org
END:VEVENT
BEGIN:VEVENT
DTSTART;TZID=Europe/Berlin:20250823T100000
DTEND;TZID=Europe/Berlin:20250824T180000
DTSTAMP:20260420T122145
CREATED:20250715T141513Z
LAST-MODIFIED:20250715T141513Z
UID:10000317-1755943200-1756058400@haltern-online.de
SUMMARY:LWL-Römermuseum: Die Imperien kehren zurück
DESCRIPTION:Wenn Antike auf Science-Fiction trifft: Am Wochenende des 23. und 24. August 2025 lädt das LWL-Römermuseum Haltern jeweils von 10 bis 18 Uhr zum Familienevent „Die Imperien kehren zurück“ ein. \nLegionäre der Römerzeit begegnen ikonischen Sternenkriegern aus einer weit entfernten Galaxis – und das mitten im Münsterland. \nDas Aktionswochenende bietet ein vielfältiges Programm für alle Generationen: historische und fantasievolle Kostüme\, interaktive Mitmachangebote\, Fotospots\, Vorführungen\, Workshops und spannende Ausstellungen. Kinder und Erwachsene erleben das Römermuseum einmal ganz anders – zwischen Vergangenheit und Zukunft. \nEintrittskarten sind vor Ort erhältlich. \nFür wen: Familien\, Film- und Geschichtsinteressierte jeden AltersWann: Samstag\, 23.08. und Sonntag\, 24.08.2025\, jeweils 10:00 – 18:00 UhrWo: LWL-Römermuseum Haltern\, Weseler Str. 100\, 45721 Haltern am SeeEintritt: 7 Euro pro PersonWeitere Infos: www.lwl-roemermuseum.de
URL:https://haltern-online.de/event/lwl-roemermuseum-die-imperien-kehren-zurueck/
LOCATION:LWL-Römermuseum\, Weseler Straße 100\, Haltern am See\, Nordrhein-Westfalen\, 45721\, Germany
CATEGORIES:Kinderfreundlich
ATTACH;FMTTYPE=image/jpeg:https://haltern-online.de/wp-content/uploads/2024/10/Roemermuseum.jpg
ORGANIZER;CN="LWL-R%C3%B6mermuseum":MAILTO:lwl-roemermuseum@lwl.org
END:VEVENT
BEGIN:VEVENT
DTSTART;TZID=Europe/Berlin:20250813T100000
DTEND;TZID=Europe/Berlin:20250813T123000
DTSTAMP:20260420T122145
CREATED:20250715T121940Z
LAST-MODIFIED:20250715T121940Z
UID:10000314-1755079200-1755088200@haltern-online.de
SUMMARY:Auf die Grabung\, fertig\, los! – LWL-Römermuseum
DESCRIPTION:Archäologie live erleben – das können Kinder im Alter von 8 bis 12 Jahren bei der Sommerferienaktion „Auf die Grabung\, fertig\, los!“ des LWL-Römermuseums Haltern. \nVon Mittwoch\, 13. August\, bis Freitag\, 15. August 2025\, jeweils von 10 bis 12:30 Uhr\, nehmen die Teilnehmenden an einer echten Ausgrabung teil – ausgestattet mit Kelle\, Pinsel und fachkundiger Anleitung. \nAuf dem Gelände des Römermuseums warten mehrere Kubikmeter Erde darauf\, untersucht zu werden. So lernen die Kinder spielerisch\, wie Archäologen vorgehen\, um Spuren der Vergangenheit sichtbar zu machen. Die Aktion eignet sich besonders für neugierige Entdeckerinnen und Entdecker zwischen 8 und 12 Jahren. \nBitte an wettergerechte Kleidung\, Sonnenschutz und feste Schuhe denken. \nFür wen: Kinder von 8 bis 12 JahrenWann: Mittwoch\, 13.08. bis Freitag\, 15.08.2025\, jeweils 10:00 bis 12:30 UhrWo: Treffpunkt wird bei Anmeldung bekannt gegeben (LWL-Römermuseum Haltern)Kosten: 7 Euro Materialkosten pro Kind und TagAnmeldung: erforderlich unter www.lwl-roemermuseum-haltern.de
URL:https://haltern-online.de/event/auf-die-grabung-fertig-los-lwl-roemermuseum/
LOCATION:LWL-Römermuseum\, Weseler Straße 100\, Haltern am See\, Nordrhein-Westfalen\, 45721\, Germany
CATEGORIES:Kinderfreundlich
ATTACH;FMTTYPE=image/jpeg:https://haltern-online.de/wp-content/uploads/2024/10/Roemermuseum.jpg
ORGANIZER;CN="LWL-R%C3%B6mermuseum":MAILTO:lwl-roemermuseum@lwl.org
END:VEVENT
BEGIN:VEVENT
DTSTART;TZID=Europe/Berlin:20250810T110000
DTEND;TZID=Europe/Berlin:20250810T110000
DTSTAMP:20260420T122145
CREATED:20250715T115509Z
LAST-MODIFIED:20250715T115541Z
UID:10000313-1754823600-1754823600@haltern-online.de
SUMMARY:Auf dem Holzweg? – Überraschungsführung im LWL-Römermuseum
DESCRIPTION:Was hat Holz mit der römischen Geschichte zu tun? Bei der Überraschungsführung „Auf dem Holzweg?“ am Sonntag\, 10. August 2025\, um 11 Uhr\, dreht sich auf der Römerbaustelle Aliso alles um diesen vielseitigen Werkstoff – und darum\, wie er einst im römischen Lageralltag eingesetzt wurde. \nFamilien mit Kindern ab 8 Jahren erwartet eine besondere Führung\, bei der nicht alles vorhersehbar ist. Der Weg durch die Baustelle ergibt sich spontan – je nachdem\, welche Themen die Teilnehmenden mitbringen und welchen Pfad der Zufall vorgibt. Dabei geht es mal ins Detail\, mal in die Breite: vom römischen Werkzeug bis zur Holzkonstruktion ganzer Gebäude. \nFür wen: Familien mit Kindern ab 8 JahrenWann: Sonntag\, 10.08.2025\, 11:00 UhrWo: Römerbaustelle Aliso am LWL-Römermuseum Haltern\, Weseler Str. 100\, 45721 Haltern am SeeKosten: 2 Euro pro Person zzgl. Museumseintritt(Kinder und Jugendliche bis 17 Jahre haben freien Eintritt)Anmeldung: erforderlich unter www.lwl-roemermuseum-haltern.de \nTitelbild: Canva
URL:https://haltern-online.de/event/auf-dem-holzweg-ueberraschungsfuehrung-im-lwl-roemermuseum/
LOCATION:LWL-Römermuseum\, Weseler Straße 100\, Haltern am See\, Nordrhein-Westfalen\, 45721\, Germany
CATEGORIES:Kinderfreundlich
ATTACH;FMTTYPE=image/jpeg:https://haltern-online.de/wp-content/uploads/2024/10/Roemermuseum.jpg
ORGANIZER;CN="LWL-R%C3%B6mermuseum":MAILTO:lwl-roemermuseum@lwl.org
END:VEVENT
BEGIN:VEVENT
DTSTART;TZID=Europe/Berlin:20250803T140000
DTEND;TZID=Europe/Berlin:20250803T140000
DTSTAMP:20260420T122145
CREATED:20250715T114809Z
LAST-MODIFIED:20250715T114822Z
UID:10000312-1754229600-1754229600@haltern-online.de
SUMMARY:Spuren im Sand – Öffentliche Führung im LWL-Römermuseum Haltern
DESCRIPTION:Die römischen Militärlager entlang der Lippe bestanden aus vergänglichen Materialien wie Holz\, Lehm und Erde – und doch haben sie bis heute Spuren hinterlassen. \nIn der Führung „Spuren im Sand“ am Sonntag\, 3. August 2025\, um 14 Uhr\, erfahren Erwachsene und Jugendliche ab 15 Jahren\, wie Archäologinnen und Archäologen diese Spuren sichtbar machen. \nWas heute nur noch als Erdverfärbung im Boden erscheint\, war einst Teil römischer Geschichte. Der berühmte Satz von R. Pörtner aus dem Jahr 1959 bringt es auf den Punkt: „Seit Haltern weiß man\, dass nichts so dauerhaft ist wie ein Loch.“ Die Teilnehmenden lernen\, wie sorgfältige Grabungen und moderne Methoden die römische Vergangenheit Stück für Stück rekonstruieren. \nFür wen: Erwachsene und Jugendliche ab 15 JahrenWann: Sonntag\, 03.08.2025\, 14:00 UhrWo: LWL-Römermuseum Haltern\, Weseler Str. 100\, 45721 Haltern am SeeKosten: 2 Euro pro Person zzgl. Museumseintritt(Jugendliche bis 17 Jahre haben freien Eintritt)Anmeldung: erforderlich unter www.lwl-roemermuseum-haltern.de \nTitelbild: Canva
URL:https://haltern-online.de/event/spuren-im-sand-oeffentliche-fuehrung-im-lwl-roemermuseum-haltern/
LOCATION:LWL-Römermuseum\, Weseler Straße 100\, Haltern am See\, Nordrhein-Westfalen\, 45721\, Germany
CATEGORIES:Kinderfreundlich
ATTACH;FMTTYPE=image/jpeg:https://haltern-online.de/wp-content/uploads/2024/10/Roemermuseum.jpg
ORGANIZER;CN="LWL-R%C3%B6mermuseum":MAILTO:lwl-roemermuseum@lwl.org
END:VEVENT
BEGIN:VEVENT
DTSTART;TZID=Europe/Berlin:20250803T110000
DTEND;TZID=Europe/Berlin:20250803T110000
DTSTAMP:20260420T122145
CREATED:20250715T113404Z
LAST-MODIFIED:20250715T114059Z
UID:10000311-1754218800-1754218800@haltern-online.de
SUMMARY:Mit Asterix durchs Römerlager – Familienführung im LWL-Römermuseum
DESCRIPTION:Was haben Asterix und Obelix mit der realen Römerzeit zu tun? Bei der Familienführung „Mit Asterix durchs Römerlager Haltern“ am Sonntag\, 3. August 2025\, um 11 Uhr entdecken Kinder ab 9 Jahren und ihre Familien\, wie nah sich Comic und Geschichte manchmal kommen. \nDie öffentliche Führung im LWL-Römermuseum vergleicht die witzige Comicwelt mit der historischen Wirklichkeit im römischen Haltern. Viele der Gegenstände\, die in den Asterix-Heften auftauchen\, lassen sich als echte archäologische Funde im Museum wiederfinden. Spielerisch und anschaulich lernen die Teilnehmenden\, was an Asterix erfunden ist – und was tatsächlich historisch belegt. \nFür wen: Familien mit Kindern ab 9 JahrenWann: Sonntag\, 03.08.2025\, 11:00 UhrWo: LWL-Römermuseum Haltern\, Weseler Str. 100\, 45721 Haltern am SeeKosten: 2 Euro pro Person zzgl. Museumseintritt(Kinder und Jugendliche bis 17 Jahre haben freien Eintritt)Anmeldung: erforderlich unter www.lwl-roemermuseum-haltern.de \nTitelbild: Canva
URL:https://haltern-online.de/event/mit-asterix-durchs-roemerlager-familienfuehrung-im-lwl-roemermuseum/
LOCATION:LWL-Römermuseum\, Weseler Straße 100\, Haltern am See\, Nordrhein-Westfalen\, 45721\, Germany
CATEGORIES:Kinderfreundlich
ATTACH;FMTTYPE=image/jpeg:https://haltern-online.de/wp-content/uploads/2024/10/Roemermuseum.jpg
ORGANIZER;CN="LWL-R%C3%B6mermuseum":MAILTO:lwl-roemermuseum@lwl.org
END:VEVENT
BEGIN:VEVENT
DTSTART;TZID=Europe/Berlin:20250801T100000
DTEND;TZID=Europe/Berlin:20250801T123000
DTSTAMP:20260420T122145
CREATED:20250715T105417Z
LAST-MODIFIED:20250715T110224Z
UID:10000310-1754042400-1754051400@haltern-online.de
SUMMARY:Auf die Grabung\, fertig\, los! – Sommerferienaktion beim LWL-Römermuseum
DESCRIPTION:Archäologie zum Mitmachen: Bei der Sommerferienaktion „Auf die Grabung\, fertig\, los!“ können Kinder im Alter von 8 bis 12 Jahren selbst zu kleinen Archäologinnen und Archäologen werden. \nAm Freitag\, 1. August 2025\, lädt das LWL-Römermuseum Haltern von 10 bis 12:30 Uhr zu einer echten Ausgrabung ein. Mehrere Kubikmeter Erde warten darauf\, systematisch durchsucht zu werden – ganz wie bei den Profis. \nDie Teilnehmenden erleben hautnah\, wie Geschichte sichtbar wird und wie spannend die Arbeit mit Kelle und Pinsel sein kann. Fachkundige Anleitung und echtes Grabungsmaterial machen den Vormittag zu einem besonderen Ferienerlebnis. \nBitte an feste Schuhe\, wetterfeste Kleidung und Sonnenschutz denken. \nFür wen: Kinder von 8 bis 12 JahrenWann: Freitag\, 01.08.2025\, 10:00 bis 12:30 UhrWo: Treffpunkt wird nach Anmeldung bekannt gegebenKosten: 7 Euro Materialkosten pro KindAnmeldung: erforderlich unter www.lwl-roemermuseum-haltern.de \nTitelbild: Canva
URL:https://haltern-online.de/event/auf-die-grabung-fertig-los-sommerferienaktion-beim-lwl-roemermuseum/
LOCATION:LWL-Römermuseum\, Weseler Straße 100\, Haltern am See\, Nordrhein-Westfalen\, 45721\, Germany
CATEGORIES:Kinderfreundlich
ATTACH;FMTTYPE=image/jpeg:https://haltern-online.de/wp-content/uploads/2024/10/Roemermuseum.jpg
ORGANIZER;CN="LWL-R%C3%B6mermuseum":MAILTO:lwl-roemermuseum@lwl.org
END:VEVENT
BEGIN:VEVENT
DTSTART;TZID=Europe/Berlin:20250525T140000
DTEND;TZID=Europe/Berlin:20250525T140000
DTSTAMP:20260420T122145
CREATED:20250506T092226Z
LAST-MODIFIED:20250506T092244Z
UID:10000256-1748181600-1748181600@haltern-online.de
SUMMARY:LWL-Römermuseum: Überraschungsführung auf der Römerbaustelle
DESCRIPTION:Holz war im römischen Militärlager ein unverzichtbarer Baustoff – von der Umwehrung bis zum Werkzeug. Die Familienführung „Auf dem Holzweg?“ im LWL-Römermuseum auf der Römerbaustelle Aliso macht das Thema lebendig und begreifbar. \nDas Besondere: Die Route steht nicht fest. Stattdessen bestimmen die Teilnehmenden und der Zufall\, welche Stationen auf dem Gelände erkundet werden. Dabei steht das Material Holz im Mittelpunkt – mit spannenden Fakten zu antiken Bauweisen\, Werkzeugen und Techniken. \nEin Mitmachangebot für Familien mit Kindern ab 8 Jahren\, das Wissen mit Bewegung und Erlebnis verbindet. \nHinweis: Eine Anmeldung ist erforderlich.
URL:https://haltern-online.de/event/lwl-roemermuseum-ueberraschungsfuehrung-auf-der-roemerbaustelle/
LOCATION:LWL-Römermuseum\, Weseler Straße 100\, Haltern am See\, Nordrhein-Westfalen\, 45721\, Germany
CATEGORIES:Führung
ATTACH;FMTTYPE=image/jpeg:https://haltern-online.de/wp-content/uploads/2024/10/Roemermuseum.jpg
ORGANIZER;CN="LWL-R%C3%B6mermuseum":MAILTO:lwl-roemermuseum@lwl.org
END:VEVENT
BEGIN:VEVENT
DTSTART;TZID=Europe/Berlin:20250525T110000
DTEND;TZID=Europe/Berlin:20250525T110000
DTSTAMP:20260420T122145
CREATED:20250506T090741Z
LAST-MODIFIED:20250506T091337Z
UID:10000255-1748170800-1748170800@haltern-online.de
SUMMARY:LWL-Römermuseum: Führung mit M. Crassus Fenestela
DESCRIPTION:Ein Legionär auf Abschiedstour: Kurz vor seiner ehrenhaften Entlassung lädt M. Crassus Fenestela am 25. Mai zu einem besonderen Rundgang durch das LWL-Römermuseum ein. In voller Ausrüstung und mit echtem Lagerwissen ausgestattet führt der „echte Römer“ durch das historische Aliso. \nDie Führung bietet einen lebendigen Einblick in den Alltag eines Berufssoldaten im römischen Heer – und macht Geschichte erfahrbar. Besucherinnen und Besucher können Fragen stellen\, Ausrüstung aus nächster Nähe betrachten und erfahren\, warum sich ein Leben als Legionär lohnen konnte. \nHinweis: Die Führung richtet sich an Erwachsene und Kinder ab 6 Jahren. Eine Anmeldung ist erforderlich.
URL:https://haltern-online.de/event/lwl-roemermuseum-fuehrung-mit-m-crassus-fenestela/
LOCATION:LWL-Römermuseum\, Weseler Straße 100\, Haltern am See\, Nordrhein-Westfalen\, 45721\, Germany
CATEGORIES:Führung
ATTACH;FMTTYPE=image/jpeg:https://haltern-online.de/wp-content/uploads/2024/10/Roemermuseum.jpg
ORGANIZER;CN="LWL-R%C3%B6mermuseum":MAILTO:lwl-roemermuseum@lwl.org
END:VEVENT
BEGIN:VEVENT
DTSTART;TZID=Europe/Berlin:20250518T100000
DTEND;TZID=Europe/Berlin:20250518T180000
DTSTAMP:20260420T122145
CREATED:20250506T085458Z
LAST-MODIFIED:20250506T085627Z
UID:10000254-1747562400-1747591200@haltern-online.de
SUMMARY:LWL-Römermuseum: Milites venite
DESCRIPTION:Am Internationalen Museumstag öffnet das LWL-Römermuseum seine Tore zu einem besonderen Aktionstag für Groß und Klein: Unter dem Motto „Milites venite – Legionäre angetreten!“ erwartet die Besucherinnen und Besucher ein abwechslungsreiches Programm rund um die Ausbildung römischer Rekruten. \nKinder und Familien können an Mitmachstationen selbst aktiv werden – etwa beim Hindernislauf oder Gepäckmarsch. Wer will\, schlüpft in die Rolle eines römischen Soldaten und testet Mut\, Ausdauer und Geschick. \nErgänzt wird das Programm durch die Edutainment-Filmreihe „Rom in Westfalen“\, die ganztägig im Museumskino gezeigt wird. Ein idealer Tag\, um Geschichte spielerisch zu entdecken. \nHinweis: Der Eintritt ist am Internationalen Museumstag für alle Besucherinnen und Besucher frei.
URL:https://haltern-online.de/event/lwl-roemermuseum-milites-venite/
LOCATION:LWL-Römermuseum\, Weseler Straße 100\, Haltern am See\, Nordrhein-Westfalen\, 45721\, Germany
CATEGORIES:Kultur
ATTACH;FMTTYPE=image/jpeg:https://haltern-online.de/wp-content/uploads/2024/10/Roemermuseum.jpg
ORGANIZER;CN="LWL-R%C3%B6mermuseum":MAILTO:lwl-roemermuseum@lwl.org
END:VEVENT
BEGIN:VEVENT
DTSTART;TZID=Europe/Berlin:20250511T140000
DTEND;TZID=Europe/Berlin:20250511T140000
DTSTAMP:20260420T122145
CREATED:20250506T083753Z
LAST-MODIFIED:20250506T084143Z
UID:10000253-1746972000-1746972000@haltern-online.de
SUMMARY:LWL-Römermuseum: Vor Ort in Aliso
DESCRIPTION:Wo einst die Schaltzentrale römischer Macht im rechtsrheinischen Germanien stand\, vermittelt heute die größte Rekonstruktion einer römischen Umwehrung in Holz-Erde-Bauweise einen lebendigen Eindruck vom antiken Lagerleben. \nDie Führung „Vor Ort in Aliso“ im LWL-Römermuseum richtet sich an Familien mit Kindern ab 8 Jahren und führt durch das imposante Westtor des ehemaligen Lagers. Im Mittelpunkt stehen römische Bau-\, Vermessungs- und Handwerkstechniken\, die altersgerecht vermittelt und direkt vor Ort anschaulich gemacht werden. \nEin spannender Ausflug in die Geschichte für Groß und Klein – mit der Möglichkeit\, archäologische Erkenntnisse an einem außergewöhnlichen Ort zu erleben. \nHinweis: Eine Anmeldung ist erforderlich. \nFoto: Canva
URL:https://haltern-online.de/event/lwl-roemermuseum-vor-ort-in-aliso/
LOCATION:LWL-Römermuseum\, Weseler Straße 100\, Haltern am See\, Nordrhein-Westfalen\, 45721\, Germany
CATEGORIES:Führung
ATTACH;FMTTYPE=image/jpeg:https://haltern-online.de/wp-content/uploads/2024/10/Roemermuseum.jpg
ORGANIZER;CN="LWL-R%C3%B6mermuseum":MAILTO:lwl-roemermuseum@lwl.org
END:VEVENT
BEGIN:VEVENT
DTSTART;TZID=Europe/Berlin:20250511T110000
DTEND;TZID=Europe/Berlin:20250511T110000
DTSTAMP:20260420T122145
CREATED:20250506T083259Z
LAST-MODIFIED:20250506T083309Z
UID:10000252-1746961200-1746961200@haltern-online.de
SUMMARY:LWL-Römermuseum: Alltag im Römerlager
DESCRIPTION:Wie lebten die Legionäre im Römerlager Aliso? Was gehörte zu ihrem Alltag\, und welche Aufgaben prägten das Leben am Rand des Imperiums? Bei der Überraschungsführung „Alltagstauglich?“ im LWL-Römermuseum gehen Familien mit Kindern ab 8 Jahren diesen Fragen auf spielerische Weise nach. \nDer Rundgang folgt keiner festen Route: Die Teilnehmenden und der Zufall bestimmen\, wohin es geht. So entsteht ein interaktives Erlebnis\, das Einblicke in den römischen Alltag bietet – spannend und kindgerecht aufbereitet. \nHinweis: Eine Anmeldung ist erforderlich.Kosten: 2\,00 € pro Person (ab 6 Jahre) zzgl. Museumseintritt. Kinder und Jugendliche unter 18 Jahren haben freien Eintritt ins Museum. \nFoto: Canva
URL:https://haltern-online.de/event/lwl-roemermuseum-alltag-im-roemerlager/
LOCATION:LWL-Römermuseum\, Weseler Straße 100\, Haltern am See\, Nordrhein-Westfalen\, 45721\, Germany
CATEGORIES:Führung
ATTACH;FMTTYPE=image/jpeg:https://haltern-online.de/wp-content/uploads/2024/10/Roemermuseum.jpg
ORGANIZER;CN="LWL-R%C3%B6mermuseum":MAILTO:lwl-roemermuseum@lwl.org
END:VEVENT
END:VCALENDAR