BEGIN:VCALENDAR
VERSION:2.0
PRODID:-//Haltern-Online.de - ECPv6.15.20//NONSGML v1.0//EN
CALSCALE:GREGORIAN
METHOD:PUBLISH
X-ORIGINAL-URL:https://haltern-online.de
X-WR-CALDESC:Veranstaltungen für Haltern-Online.de
REFRESH-INTERVAL;VALUE=DURATION:PT1H
X-Robots-Tag:noindex
X-PUBLISHED-TTL:PT1H
BEGIN:VTIMEZONE
TZID:Europe/Berlin
BEGIN:DAYLIGHT
TZOFFSETFROM:+0100
TZOFFSETTO:+0200
TZNAME:CEST
DTSTART:20230326T010000
END:DAYLIGHT
BEGIN:STANDARD
TZOFFSETFROM:+0200
TZOFFSETTO:+0100
TZNAME:CET
DTSTART:20231029T010000
END:STANDARD
BEGIN:DAYLIGHT
TZOFFSETFROM:+0100
TZOFFSETTO:+0200
TZNAME:CEST
DTSTART:20240331T010000
END:DAYLIGHT
BEGIN:STANDARD
TZOFFSETFROM:+0200
TZOFFSETTO:+0100
TZNAME:CET
DTSTART:20241027T010000
END:STANDARD
BEGIN:DAYLIGHT
TZOFFSETFROM:+0100
TZOFFSETTO:+0200
TZNAME:CEST
DTSTART:20250330T010000
END:DAYLIGHT
BEGIN:STANDARD
TZOFFSETFROM:+0200
TZOFFSETTO:+0100
TZNAME:CET
DTSTART:20251026T010000
END:STANDARD
BEGIN:DAYLIGHT
TZOFFSETFROM:+0100
TZOFFSETTO:+0200
TZNAME:CEST
DTSTART:20260329T010000
END:DAYLIGHT
BEGIN:STANDARD
TZOFFSETFROM:+0200
TZOFFSETTO:+0100
TZNAME:CET
DTSTART:20261025T010000
END:STANDARD
END:VTIMEZONE
BEGIN:VEVENT
DTSTART;TZID=Europe/Berlin:20251116T100000
DTEND;TZID=Europe/Berlin:20251116T180000
DTSTAMP:20260422T104629
CREATED:20251028T151936Z
LAST-MODIFIED:20251028T151936Z
UID:10000378-1763287200-1763316000@haltern-online.de
SUMMARY:Töpfern wie die Römer – Familiensonntag im LWL-Römermuseum
DESCRIPTION:Antike Handwerkskunst erleben und selbst ausprobieren \nAm Sonntag\, 16. November 2025\, lädt das LWL-Römermuseum Haltern am See von 10:00 bis 18:00 Uhr zu einem besonderen Familiensonntag ein. Unter dem Motto „Töpfern wie die Römer“ entdecken kleine und große Besucher\, wie in der Antike Gefäße und Schalen geformt wurden – und dürfen natürlich selbst mit Ton arbeiten! \nMitmachstationen\, Vorführungen und kindgerechte Erklärungen bringen römisches Handwerk auf lebendige Weise näher. Die Veranstaltung richtet sich an Familien mit Kindern\, ist aber auch für kulturinteressierte Erwachsene spannend. \nFoto: Canva
URL:https://haltern-online.de/event/toepfern-wie-die-roemer-familiensonntag-im-lwl-roemermuseum/
LOCATION:LWL-Römermuseum\, Weseler Straße 100\, Haltern am See\, Nordrhein-Westfalen\, 45721\, Germany
CATEGORIES:Kinderfreundlich
ATTACH;FMTTYPE=image/jpeg:https://haltern-online.de/wp-content/uploads/2024/10/Roemermuseum.jpg
ORGANIZER;CN="LWL-R%C3%B6mermuseum":MAILTO:lwl-roemermuseum@lwl.org
END:VEVENT
BEGIN:VEVENT
DTSTART;TZID=Europe/Berlin:20251112T190000
DTEND;TZID=Europe/Berlin:20251112T220000
DTSTAMP:20260422T104629
CREATED:20251028T145629Z
LAST-MODIFIED:20251028T145629Z
UID:10000377-1762974000-1762984800@haltern-online.de
SUMMARY:Musik im Römermuseum: Klavierkonzert mit Gabriel Yeo
DESCRIPTION:Klassische Klänge im besonderen Ambiente des LWL-Römermuseums \nIm Rahmen der Konzertreihe „Musik im Römermuseum“ gastiert am Mittwoch\, 12. November 2025\, der vielfach ausgezeichnete Pianist Gabriel Yeo im LWL-Römermuseum Haltern am See. Das Konzert beginnt um 19:00 Uhr. \nGabriel Yeo ist bekannt für seine virtuose Technik und seine feinfühlige Interpretation klassischer und zeitgenössischer Werke. Inmitten der eindrucksvollen Kulisse des Museums entsteht ein besonderes Zusammenspiel von Klang und Raum – ein Abend für Musikliebhaber und Kulturgäste gleichermaßen. \nFoto: Canva
URL:https://haltern-online.de/event/musik-im-roemermuseum-klavierkonzert-mit-gabriel-yeo/
LOCATION:LWL-Römermuseum\, Weseler Straße 100\, Haltern am See\, Nordrhein-Westfalen\, 45721\, Germany
CATEGORIES:Konzert
ATTACH;FMTTYPE=image/jpeg:https://haltern-online.de/wp-content/uploads/2024/10/Roemermuseum.jpg
ORGANIZER;CN="LWL-R%C3%B6mermuseum":MAILTO:lwl-roemermuseum@lwl.org
END:VEVENT
BEGIN:VEVENT
DTSTART;TZID=Europe/Berlin:20251109T140000
DTEND;TZID=Europe/Berlin:20251109T170000
DTSTAMP:20260422T104629
CREATED:20251021T150154Z
LAST-MODIFIED:20251021T150154Z
UID:10000366-1762696800-1762707600@haltern-online.de
SUMMARY:Alltagstauglich? – Überraschungsführung im LWL-Römermuseum
DESCRIPTION:Am Samstag\, 9. November\, um 14 Uhr bietet das LWL-Römermuseum eine besondere Führung mit Überraschungseffekt an. \n„Alltagstauglich?“ richtet sich an Familien mit Kindern ab 8 Jahren und stellt auf unterhaltsame Weise den römischen Alltag auf die Probe. \nWie praktisch war eigentlich eine Toga? Womit kochte man in römischer Zeit? Und was davon wäre heute noch alltagstauglich? Diese und andere Fragen stehen im Mittelpunkt der Führung – spannend und kindgerecht präsentiert\, mit überraschenden Momenten für Groß und Klein. \nMitmachen\, entdecken und staunen – Anmeldung erforderlich!Kosten: 2 € zzgl. Museumseintritt
URL:https://haltern-online.de/event/alltagstauglich-ueberraschungsfuehrung-im-lwl-roemermuseum-2/
LOCATION:LWL-Römermuseum\, Weseler Straße 100\, Haltern am See\, Nordrhein-Westfalen\, 45721\, Germany
CATEGORIES:Kinderfreundlich
ATTACH;FMTTYPE=image/jpeg:https://haltern-online.de/wp-content/uploads/2024/10/Roemermuseum.jpg
ORGANIZER;CN="LWL-R%C3%B6mermuseum":MAILTO:lwl-roemermuseum@lwl.org
END:VEVENT
BEGIN:VEVENT
DTSTART;TZID=Europe/Berlin:20251109T110000
DTEND;TZID=Europe/Berlin:20251109T150000
DTSTAMP:20260422T104629
CREATED:20251021T143213Z
LAST-MODIFIED:20251021T143213Z
UID:10000365-1762686000-1762700400@haltern-online.de
SUMMARY:Erfolgreicher Feldherr gesucht – Familienführung im LWL-Römermuseum
DESCRIPTION:Am Samstag\, 9. November\, startet um 11 Uhr im LWL-Römermuseum eine spannende Führung für Familien mit Kindern ab 10 Jahren. \nBei „Erfolgreicher Feldherr gesucht“ dreht sich alles um Strategie\, Mut und das Leben der Legionäre im römischen Militäralltag. \nGemeinsam erkunden Groß und Klein das Museum\, entdecken römische Ausrüstungsgegenstände und stellen sich der Frage: Was machte einen erfolgreichen Kommandeur in der Antike aus? \nEine lebendige und interaktive Führung\, die historische Inhalte altersgerecht und unterhaltsam vermittelt. \nTeilnahme: 2 € zzgl. Museumseintritt – Anmeldung erforderlich! \nFoto: Canva
URL:https://haltern-online.de/event/erfolgreicher-feldherr-gesucht-familienfuehrung-im-lwl-roemermuseum/
LOCATION:LWL-Römermuseum\, Weseler Straße 100\, Haltern am See\, Nordrhein-Westfalen\, 45721\, Germany
CATEGORIES:Kinderfreundlich
ATTACH;FMTTYPE=image/jpeg:https://haltern-online.de/wp-content/uploads/2024/10/Roemermuseum.jpg
ORGANIZER;CN="LWL-R%C3%B6mermuseum":MAILTO:lwl-roemermuseum@lwl.org
END:VEVENT
BEGIN:VEVENT
DTSTART;TZID=Europe/Berlin:20251106T200000
DTEND;TZID=Europe/Berlin:20251106T220000
DTSTAMP:20260422T104629
CREATED:20251028T120757Z
LAST-MODIFIED:20251028T120757Z
UID:10000373-1762459200-1762466400@haltern-online.de
SUMMARY:Kulturboitel: „Radikale Spaßmaßnahmen“ mit René Steinberg
DESCRIPTION:Kabarett trifft Kultur – ein Abend voller Humor im LWL-Römermuseum \nAm Donnerstag\, 6. November 2025\, wird es im LWL-Römermuseum Haltern am See ab 20:00 Uhr wortgewandt und urkomisch: Kabarettist René Steinberg präsentiert sein Programm „Radikale Spaßmaßnahmen“ – ein Aufruf zum gemeinsamen Lachen in ernsten Zeiten. \nMit seinem ganz eigenen Stil verbindet Steinberg Gesellschaftskritik\, Alltagsbeobachtungen und absurde Pointen zu einem kurzweiligen Abend\, der sowohl zum Schmunzeln als auch zum Nachdenken anregt. Im Rahmen des Kulturboitel kommt die Veranstaltung in einem besonderen Ambiente zur Geltung – zwischen römischer Geschichte und kabarettistischem Zeitgeist. \nFoto: Canva
URL:https://haltern-online.de/event/kulturboitel-radikale-spassmassnahmen-mit-rene-steinberg/
LOCATION:LWL-Römermuseum\, Weseler Straße 100\, Haltern am See\, Nordrhein-Westfalen\, 45721\, Germany
CATEGORIES:Kinderfreundlich
ATTACH;FMTTYPE=image/jpeg:https://haltern-online.de/wp-content/uploads/2024/10/Roemermuseum.jpg
ORGANIZER;CN="LWL-R%C3%B6mermuseum":MAILTO:lwl-roemermuseum@lwl.org
END:VEVENT
BEGIN:VEVENT
DTSTART;TZID=Europe/Berlin:20251102T140000
DTEND;TZID=Europe/Berlin:20251102T170000
DTSTAMP:20260422T104629
CREATED:20251021T125637Z
LAST-MODIFIED:20251021T125637Z
UID:10000363-1762092000-1762102800@haltern-online.de
SUMMARY:Julia Fortuna Minor – Ein Rundgang durch das Römerlager
DESCRIPTION:Am Sonntag\, 2. November\, um 14 Uhr nimmt Julia Fortuna Minor Besucherinnen und Besucher im LWL-Römermuseum mit auf einen besonderen Rundgang durch das Römerlager. \nDie Darstellerin schlüpft in die Rolle einer römischen Frau und erzählt spannend\, wie das Leben in der römischen Provinz wirklich aussah – aus weiblicher Perspektive und mit einem Augenzwinkern. \nDiese interaktive Führung richtet sich an Erwachsene sowie Kinder ab 8 Jahren. Authentische Kleidung\, spannende Geschichten und anschauliche Details machen den Besuch zu einem Erlebnis für die ganze Familie. \nDer Eintritt beträgt 2 Euro zuzüglich Museumseintritt. Eine Anmeldung ist erforderlich. \nFoto: Canva
URL:https://haltern-online.de/event/julia-fortuna-minor-ein-rundgang-durch-das-roemerlager/
LOCATION:LWL-Römermuseum\, Weseler Straße 100\, Haltern am See\, Nordrhein-Westfalen\, 45721\, Germany
CATEGORIES:Kinderfreundlich
ATTACH;FMTTYPE=image/jpeg:https://haltern-online.de/wp-content/uploads/2024/10/Roemermuseum.jpg
ORGANIZER;CN="LWL-R%C3%B6mermuseum":MAILTO:lwl-roemermuseum@lwl.org
END:VEVENT
BEGIN:VEVENT
DTSTART;TZID=Europe/Berlin:20251102T110000
DTEND;TZID=Europe/Berlin:20251102T150000
DTSTAMP:20260422T104629
CREATED:20251021T125223Z
LAST-MODIFIED:20251021T125223Z
UID:10000362-1762081200-1762095600@haltern-online.de
SUMMARY:Mit Asterix durchs Römerlager Haltern – Familienführung im LWL-Römermuseum
DESCRIPTION:Am Sonntag\, 2. November\, um 11 Uhr begeben sich Familien mit Kindern ab 9 Jahren im LWL-Römermuseum auf eine besondere Reise durch das Römerlager Haltern. \nDie Führung „Mit Asterix durchs Römerlager“ verbindet spannende historische Fakten mit dem Charme der beliebten Comicfiguren. \nWer waren eigentlich die Römer\, und wie lebten sie im Lager? Mit viel Wissen\, Humor und Mitmachmomenten gibt diese Tour kindgerechte Einblicke in den Alltag der Legionäre – unterhaltsam für Groß und Klein. \nDie Teilnahme kostet 2 Euro zzgl. Eintritt ins Museum. Eine Anmeldung ist erforderlich\, da die Plätze begrenzt sind. \nFoto: Canva
URL:https://haltern-online.de/event/mit-asterix-durchs-roemerlager-haltern-familienfuehrung-im-lwl-roemermuseum/
LOCATION:LWL-Römermuseum\, Weseler Straße 100\, Haltern am See\, Nordrhein-Westfalen\, 45721\, Germany
CATEGORIES:Kinderfreundlich
ATTACH;FMTTYPE=image/jpeg:https://haltern-online.de/wp-content/uploads/2024/10/Roemermuseum.jpg
ORGANIZER;CN="LWL-R%C3%B6mermuseum":MAILTO:lwl-roemermuseum@lwl.org
END:VEVENT
BEGIN:VEVENT
DTSTART;TZID=Europe/Berlin:20251101T140000
DTEND;TZID=Europe/Berlin:20251101T170000
DTSTAMP:20260422T104629
CREATED:20251021T124914Z
LAST-MODIFIED:20251021T124914Z
UID:10000361-1762005600-1762016400@haltern-online.de
SUMMARY:Als die Römer frech geworden – Öffentliche Führung im LWL-Römermuseum
DESCRIPTION:Unter dem Titel „Als die Römer frech geworden“ lädt das LWL-Römermuseum am Samstag\, 1. November\, um 14 Uhr zu einer öffentlichen Führung ein. \nErwachsene und Jugendliche ab 15 Jahren erfahren auf spannende Weise mehr über das Leben\, die Konflikte und das Selbstverständnis der Römer am Niederrhein. \nDie rund einstündige Führung nimmt Besucherinnen und Besucher mit auf eine Zeitreise voller überraschender Einblicke – unterhaltsam\, informativ und mit viel historischem Hintergrundwissen. \nDie Teilnahme kostet 2 Euro zzgl. Eintritt ins Museum. Eine vorherige Anmeldung ist erforderlich. \nFoto: Canva
URL:https://haltern-online.de/event/als-die-roemer-frech-geworden-oeffentliche-fuehrung-im-lwl-roemermuseum/
LOCATION:LWL-Römermuseum\, Weseler Straße 100\, Haltern am See\, Nordrhein-Westfalen\, 45721\, Germany
CATEGORIES:Kinderfreundlich
ATTACH;FMTTYPE=image/jpeg:https://haltern-online.de/wp-content/uploads/2024/10/Roemermuseum.jpg
ORGANIZER;CN="LWL-R%C3%B6mermuseum":MAILTO:lwl-roemermuseum@lwl.org
END:VEVENT
BEGIN:VEVENT
DTSTART;TZID=Europe/Berlin:20251026T100000
DTEND;TZID=Europe/Berlin:20251026T180000
DTSTAMP:20260422T104629
CREATED:20251007T112820Z
LAST-MODIFIED:20251007T112834Z
UID:10000356-1761472800-1761501600@haltern-online.de
SUMMARY:LWL-Römermuseum: Saisonabschluss auf der Römerbaustelle Aliso
DESCRIPTION:Am Sonntag\, 26. Oktober 2025\, lädt das LWL-Römermuseum in Haltern am See von 10 bis 18 Uhr zum großen Saisonabschluss auf der Römerbaustelle Aliso ein. \nBeim Familiensonntag erwartet die Besucherinnen und Besucher ein spannendes Programm mit Führungen\, Mitmachaktionen und Einblicken in das römische Leben vor 2.000 Jahren. Kinder können selbst aktiv werden\, während Erwachsene faszinierende Fakten über das antike Militärlager Aliso erfahren. \nDer Saisonabschluss bietet die letzte Gelegenheit des Jahres\, das Freigelände mit seinen rekonstruierten Bauten zu erleben\, bevor es in die Winterpause geht. \nEin Ausflug\, der Geschichte lebendig werden lässt – ideal für Familien und Geschichtsinteressierte.
URL:https://haltern-online.de/event/lwl-roemermuseum-saisonabschluss-auf-der-roemerbaustelle-aliso/
LOCATION:LWL-Römermuseum\, Weseler Straße 100\, Haltern am See\, Nordrhein-Westfalen\, 45721\, Germany
CATEGORIES:Kinderfreundlich
ATTACH;FMTTYPE=image/jpeg:https://haltern-online.de/wp-content/uploads/2024/10/Roemermuseum.jpg
ORGANIZER;CN="LWL-R%C3%B6mermuseum":MAILTO:lwl-roemermuseum@lwl.org
END:VEVENT
BEGIN:VEVENT
DTSTART;TZID=Europe/Berlin:20250420T100000
DTEND;TZID=Europe/Berlin:20250420T180000
DTSTAMP:20260422T104629
CREATED:20250318T085022Z
LAST-MODIFIED:20250318T085406Z
UID:10000236-1745143200-1745172000@haltern-online.de
SUMMARY:Familiensonntag im LWL-Römermuseum: Auf die Grabung\, fertig\, los!
DESCRIPTION:Am Sonntag\, den 20. April 2025\, lädt das LWL-Römermuseum in Haltern am See von 10:00 bis 18:00 Uhr zu einem besonderen Familiensonntag ein. Unter dem Motto „Auf die Grabung\, fertig\, los!“ können kleine und große Entdeckerinnen und Entdecker selbst aktiv werden und in die spannende Welt der Archäologie eintauchen. Mit interaktiven Mitmachstationen\, spannenden Führungen und echten Grabungserlebnissen wird Geschichte lebendig. \nDatum: Sonntag\, 20. April 2025Uhrzeit: 10:00 – 18:00 UhrOrt: LWL-Römermuseum\, Haltern am SeeEintritt: 7 €Mehr Infos: www.lwl-roemermuseum.de \nEin erlebnisreicher Tag für die ganze Familie. \nFotoquelle: Canva
URL:https://haltern-online.de/event/familiensonntag-im-lwl-roemermuseum-auf-die-grabung-fertig-los/
LOCATION:LWL-Römermuseum\, Weseler Straße 100\, Haltern am See\, Nordrhein-Westfalen\, 45721\, Germany
CATEGORIES:Kinderfreundlich
ATTACH;FMTTYPE=image/jpeg:https://haltern-online.de/wp-content/uploads/2024/10/Roemermuseum.jpg
ORGANIZER;CN="LWL-R%C3%B6mermuseum":MAILTO:lwl-roemermuseum@lwl.org
END:VEVENT
BEGIN:VEVENT
DTSTART;TZID=Europe/Berlin:20241113T190000
DTEND;TZID=Europe/Berlin:20241113T210000
DTSTAMP:20260422T104629
CREATED:20241009T095721Z
LAST-MODIFIED:20241014T123928Z
UID:10000021-1731524400-1731531600@haltern-online.de
SUMMARY:MUSIK im RÖMERmuseum
DESCRIPTION:MUSIK IM RÖMERmuseum bietet hochkarätige Konzerte in einem einzigartigen Ambiente. \nSeit 2003 findet diese Konzertreihe im Winter statt und lädt junge Musiker ein\, die als Preisträger renommierter Wettbewerbe bereits beeindruckende künstlerische Leistungen gezeigt haben. Diese talentierten Virtuosen verwandeln die Konzerte in unvergessliche Musikerlebnisse. Die Begeisterung und Loyalität des Publikums haben MUSIK IM RÖMERmuseum zu einer etablierten kulturellen Institution gemacht. Die Konzertreihe wird finanziell unterstützt und organisiert von der KulturStiftung Masthoff\, dem Westfälischen Römermuseum sowie der Gesellschaft zur Förderung der Westfälischen Kulturarbeit.
URL:https://haltern-online.de/event/musik-im-roemermuseum/
LOCATION:LWL-Römermuseum\, Weseler Straße 100\, Haltern am See\, Nordrhein-Westfalen\, 45721\, Germany
CATEGORIES:Konzert
ATTACH;FMTTYPE=image/jpeg:https://haltern-online.de/wp-content/uploads/2024/10/Roemermuseum.jpg
END:VEVENT
BEGIN:VEVENT
DTSTART;TZID=Europe/Berlin:20241020T110000
DTEND;TZID=Europe/Berlin:20241020T110000
DTSTAMP:20260422T104629
CREATED:20241009T132912Z
LAST-MODIFIED:20241009T133859Z
UID:10000023-1729422000-1729422000@haltern-online.de
SUMMARY:Im Schatten der Legion: Frauen und Kinder
DESCRIPTION:Obwohl sie eigentlich in einem Römischen Lager nichts zu suchen hatten\, hinterließen Frauen und Kinder dennoch ihre Spuren. \nDas Programm beleuchtet die römischen Legionäre von ihrer privaten Seite und erforscht das Leben ihrer Familien. Ein besonderer Schwerpunkt liegt auf dem Spielzeug der Kinder. \nAuskunft unter: 02364 93760
URL:https://haltern-online.de/event/im-schatten-der-legion-frauen-und-kinder/
LOCATION:LWL-Römermuseum\, Weseler Straße 100\, Haltern am See\, Nordrhein-Westfalen\, 45721\, Germany
CATEGORIES:Kinderfreundlich
ATTACH;FMTTYPE=image/jpeg:https://haltern-online.de/wp-content/uploads/2024/10/Roemermuseum.jpg
END:VEVENT
BEGIN:VEVENT
DTSTART;TZID=Europe/Berlin:20241010T193000
DTEND;TZID=Europe/Berlin:20241010T233000
DTSTAMP:20260422T104629
CREATED:20241007T123829Z
LAST-MODIFIED:20241007T141813Z
UID:10000008-1728588600-1728603000@haltern-online.de
SUMMARY:LWL-Römermuseum: Glück auf\, der Gallier kommt
DESCRIPTION:
URL:https://haltern-online.de/event/lwl-roemermuseum-glueck-auf-der-gallier-kommt/
LOCATION:LWL-Römermuseum\, Weseler Straße 100\, Haltern am See\, Nordrhein-Westfalen\, 45721\, Germany
CATEGORIES:Kultur
ATTACH;FMTTYPE=image/jpeg:https://haltern-online.de/wp-content/uploads/2024/10/Roemermuseum.jpg
END:VEVENT
END:VCALENDAR