BEGIN:VCALENDAR
VERSION:2.0
PRODID:-//Haltern-Online.de - ECPv6.15.20//NONSGML v1.0//EN
CALSCALE:GREGORIAN
METHOD:PUBLISH
X-ORIGINAL-URL:https://haltern-online.de
X-WR-CALDESC:Veranstaltungen für Haltern-Online.de
REFRESH-INTERVAL;VALUE=DURATION:PT1H
X-Robots-Tag:noindex
X-PUBLISHED-TTL:PT1H
BEGIN:VTIMEZONE
TZID:Europe/Berlin
BEGIN:DAYLIGHT
TZOFFSETFROM:+0100
TZOFFSETTO:+0200
TZNAME:CEST
DTSTART:20250330T010000
END:DAYLIGHT
BEGIN:STANDARD
TZOFFSETFROM:+0200
TZOFFSETTO:+0100
TZNAME:CET
DTSTART:20251026T010000
END:STANDARD
BEGIN:DAYLIGHT
TZOFFSETFROM:+0100
TZOFFSETTO:+0200
TZNAME:CEST
DTSTART:20260329T010000
END:DAYLIGHT
BEGIN:STANDARD
TZOFFSETFROM:+0200
TZOFFSETTO:+0100
TZNAME:CET
DTSTART:20261025T010000
END:STANDARD
BEGIN:DAYLIGHT
TZOFFSETFROM:+0100
TZOFFSETTO:+0200
TZNAME:CEST
DTSTART:20270328T010000
END:DAYLIGHT
BEGIN:STANDARD
TZOFFSETFROM:+0200
TZOFFSETTO:+0100
TZNAME:CET
DTSTART:20271031T010000
END:STANDARD
END:VTIMEZONE
BEGIN:VEVENT
DTSTART;TZID=Europe/Berlin:20260313T200000
DTEND;TZID=Europe/Berlin:20260313T220000
DTSTAMP:20260422T104502
CREATED:20260126T102131Z
LAST-MODIFIED:20260126T102131Z
UID:10000416-1773432000-1773439200@haltern-online.de
SUMMARY:Kings of Floyd - Dark Side Tour
DESCRIPTION:Die Kings of Floyd zählen zu den bekannten Pink Floyd Tribute-Bands und gastieren mit ihrer Dark Side Tour in Haltern. \nDie Musiker widmen sich seit vielen Jahren intensiv dem Werk von Pink Floyd und präsentieren auf der Dark Side Tour eine Auswahl klassischer Titel aus verschiedenen Schaffensphasen der britischen Rockband. \nIm Mittelpunkt der Dark Side Tour steht eine originalgetreue Umsetzung der Musik\, ergänzt durch eine sorgfältig abgestimmte Bühnen- und Lichtgestaltung. Visuelle Elemente unterstützen die Atmosphäre und greifen die für Pink Floyd typischen Klang- und Themenwelten auf. \nDie Dark Side Tour der Kings of Floyd richtet sich an Fans der Band ebenso wie an Besucherinnen und Besucher\, die sich für Progressive Rock und aufwändig inszenierte Live-Musik interessieren. \nDie Tickets sind HIER erhältlich. \nBildquelle: KI-generiert/Heimatmedien
URL:https://haltern-online.de/event/kings-of-floyd-dark-side-tour/
LOCATION:Aula Des Schulzentrums\, Holtwicker Str. 5\, Haltern am See\, Nordrhein-Westfalen\, 45721\, Germany
CATEGORIES:Konzert,Lifestyle,Party
ATTACH;FMTTYPE=image/jpeg:https://haltern-online.de/wp-content/uploads/2026/01/Kings-of-Floyd-Haltern.jpg
END:VEVENT
END:VCALENDAR