BEGIN:VCALENDAR
VERSION:2.0
PRODID:-//Haltern-Online.de - ECPv6.15.20//NONSGML v1.0//EN
CALSCALE:GREGORIAN
METHOD:PUBLISH
X-WR-CALNAME:Haltern-Online.de
X-ORIGINAL-URL:https://haltern-online.de
X-WR-CALDESC:Veranstaltungen für Haltern-Online.de
REFRESH-INTERVAL;VALUE=DURATION:PT1H
X-Robots-Tag:noindex
X-PUBLISHED-TTL:PT1H
BEGIN:VTIMEZONE
TZID:Europe/Berlin
BEGIN:DAYLIGHT
TZOFFSETFROM:+0100
TZOFFSETTO:+0200
TZNAME:CEST
DTSTART:20240331T010000
END:DAYLIGHT
BEGIN:STANDARD
TZOFFSETFROM:+0200
TZOFFSETTO:+0100
TZNAME:CET
DTSTART:20241027T010000
END:STANDARD
BEGIN:DAYLIGHT
TZOFFSETFROM:+0100
TZOFFSETTO:+0200
TZNAME:CEST
DTSTART:20250330T010000
END:DAYLIGHT
BEGIN:STANDARD
TZOFFSETFROM:+0200
TZOFFSETTO:+0100
TZNAME:CET
DTSTART:20251026T010000
END:STANDARD
BEGIN:DAYLIGHT
TZOFFSETFROM:+0100
TZOFFSETTO:+0200
TZNAME:CEST
DTSTART:20260329T010000
END:DAYLIGHT
BEGIN:STANDARD
TZOFFSETFROM:+0200
TZOFFSETTO:+0100
TZNAME:CET
DTSTART:20261025T010000
END:STANDARD
END:VTIMEZONE
BEGIN:VEVENT
DTSTART;TZID=Europe/Berlin:20251102T160000
DTEND;TZID=Europe/Berlin:20251102T190000
DTSTAMP:20260422T164838
CREATED:20251028T113934Z
LAST-MODIFIED:20251028T114247Z
UID:10000372-1762099200-1762110000@haltern-online.de
SUMMARY:Irish Smiles – Irish Folk mit Fragile Matt
DESCRIPTION:Lebendige Klänge aus Irland im Lea-Drüppel-Theater Haltern am See \nAm Sonntag\, 2. November 2025\, bringt die Band Fragile Matt ab 16:00 Uhr echte Pub-Atmosphäre und mitreißende Rhythmen ins Lea-Drüppel-Theater. Mit traditionellen Instrumenten\, mehrstimmigem Gesang und viel Charme präsentieren die Musiker eine Mischung aus Irish Folk\, Balladen und temporeichen Tunes. \nOb Klassiker wie „Whiskey in the Jar“ oder feinfühlige Eigenkompositionen – das Repertoire von Fragile Matt steht für musikalische Vielfalt und irische Lebensfreude. Ein Nachmittag voller Musik\, Emotionen und handgemachtem Sound erwartet das Publikum. \nFoto: Canva
URL:https://haltern-online.de/event/irish-smiles-irish-folk-mit-fragile-matt/
LOCATION:Lea Drüppel Theater\, Zaunstraße 2\, Haltern am See\, Nordrhein-Westfalen\, 45721\, Germany
CATEGORIES:Kinderfreundlich
ATTACH;FMTTYPE=image/jpeg:https://haltern-online.de/wp-content/uploads/2024/10/Theater.jpg
ORGANIZER;CN="Lea-Dr%C3%BCppel-Theater":MAILTO:vorstand@lea-drueppel-theater.de
END:VEVENT
BEGIN:VEVENT
DTSTART;TZID=Europe/Berlin:20251122T200000
DTEND;TZID=Europe/Berlin:20251122T230000
DTSTAMP:20260422T164838
CREATED:20251028T152233Z
LAST-MODIFIED:20251028T152233Z
UID:10000379-1763841600-1763852400@haltern-online.de
SUMMARY:Captain Twang feat. Franz & Nils – Rockkonzert in der Schänke
DESCRIPTION:Surf-Rock\, Twang-Gitarre und gute Laune bei freiem Eintritt \nAm Samstag\, 22. November 2025\, um 20:00 Uhr wird es wieder laut und lässig in der Schänke Haltern: Captain Twang steht mit Franz & Nils auf der Bühne – und bringt jede Menge Rock’n’Roll\, Surf-Elemente und instrumentalen Twang-Sound mit. \nDas Trio liefert handgemachte Musik mit Ecken\, Kanten und einer ordentlichen Portion Humor. Fans von ehrlicher Gitarrenmusik dürfen sich auf ein energiegeladenes Live-Set freuen – stilecht und ohne Schnörkel. Das Beste: Der Eintritt ist frei! \nFoto: Frank Schürmann
URL:https://haltern-online.de/event/captain-twang-feat-franz-nils-rockkonzert-in-der-schaenke/
LOCATION:Schänke\, Lippstraße 36\, Haltern am See\, Nordrhein-Westfalen\, 45721\, Germany
CATEGORIES:Konzert
ATTACH;FMTTYPE=image/jpeg:https://haltern-online.de/wp-content/uploads/2025/10/Schaenke-Haltern-Kopfbild.jpg
ORGANIZER;CN="Sch%C3%A4nke":MAILTO:schaenkehaltern@outlook.de
END:VEVENT
BEGIN:VEVENT
DTSTART;TZID=Europe/Berlin:20251129T200000
DTEND;TZID=Europe/Berlin:20251129T230000
DTSTAMP:20260422T164838
CREATED:20251028T152753Z
LAST-MODIFIED:20251028T152753Z
UID:10000380-1764446400-1764457200@haltern-online.de
SUMMARY:Sustained Fire & Wildheart – Rockkonzert in der Schänke Haltern
DESCRIPTION:Zwei Bands\, ein Abend: Gitarrenpower und gute Stimmung bei freiem Eintritt \nAm Samstag\, 29. November 2025\, heißt es wieder Rock pur in der Schänke Haltern: Ab 20:00 Uhr stehen Sustained Fire und Wildheart auf der Bühne und bringen das Haus zum Beben – mit kraftvollem Sound\, druckvollen Riffs und viel Leidenschaft für handgemachte Musik. \nDer Eintritt ist frei – wer Rock liebt\, sollte diesen Abend nicht verpassen. \nFoto: Frank Schürmann
URL:https://haltern-online.de/event/sustained-fire-wildheart-rockkonzert-in-der-schaenke-haltern/
LOCATION:Schänke\, Lippstraße 36\, Haltern am See\, Nordrhein-Westfalen\, 45721\, Germany
CATEGORIES:Konzert
ATTACH;FMTTYPE=image/jpeg:https://haltern-online.de/wp-content/uploads/2025/10/Schaenke-Haltern-Kopfbild.jpg
ORGANIZER;CN="Sch%C3%A4nke":MAILTO:schaenkehaltern@outlook.de
END:VEVENT
END:VCALENDAR