BEGIN:VCALENDAR
VERSION:2.0
PRODID:-//Haltern-Online.de - ECPv6.15.20//NONSGML v1.0//EN
CALSCALE:GREGORIAN
METHOD:PUBLISH
X-ORIGINAL-URL:https://haltern-online.de
X-WR-CALDESC:Veranstaltungen für Haltern-Online.de
REFRESH-INTERVAL;VALUE=DURATION:PT1H
X-Robots-Tag:noindex
X-PUBLISHED-TTL:PT1H
BEGIN:VTIMEZONE
TZID:Europe/Berlin
BEGIN:DAYLIGHT
TZOFFSETFROM:+0100
TZOFFSETTO:+0200
TZNAME:CEST
DTSTART:20240331T010000
END:DAYLIGHT
BEGIN:STANDARD
TZOFFSETFROM:+0200
TZOFFSETTO:+0100
TZNAME:CET
DTSTART:20241027T010000
END:STANDARD
BEGIN:DAYLIGHT
TZOFFSETFROM:+0100
TZOFFSETTO:+0200
TZNAME:CEST
DTSTART:20250330T010000
END:DAYLIGHT
BEGIN:STANDARD
TZOFFSETFROM:+0200
TZOFFSETTO:+0100
TZNAME:CET
DTSTART:20251026T010000
END:STANDARD
BEGIN:DAYLIGHT
TZOFFSETFROM:+0100
TZOFFSETTO:+0200
TZNAME:CEST
DTSTART:20260329T010000
END:DAYLIGHT
BEGIN:STANDARD
TZOFFSETFROM:+0200
TZOFFSETTO:+0100
TZNAME:CET
DTSTART:20261025T010000
END:STANDARD
END:VTIMEZONE
BEGIN:VEVENT
DTSTART;TZID=Europe/Berlin:20250626T173000
DTEND;TZID=Europe/Berlin:20250626T173000
DTSTAMP:20260423T003202
CREATED:20250520T111908Z
LAST-MODIFIED:20250520T130422Z
UID:10000272-1750959000-1750959000@haltern-online.de
SUMMARY:Sunset-Beach-Festival mit NENA & Alphaville
DESCRIPTION:Zwei Kult-Acts an einem Abend – vor der einzigartigen Kulisse des Halterner Stausees! Beim Sunset-Beach-Festival 2025 stehen gleich zwei Musiklegenden auf der Bühne: NENA bringt ihre größten Hits von „99 Luftballons“ bis „Irgendwie\, irgendwo\, irgendwann“ mit\, während Alphaville mit Klassikern wie „Forever Young“ und „Big in Japan“ für Gänsehautmomente sorgt. \nDirekt am Wasser\, mit Sand unter den Füßen und der Sonne im Rücken\, erwartet die Besucher ein atmosphärisches Konzerterlebnis der besonderen Art. Foodtrucks\, Strandbars und Lichteffekte runden den Festivalabend ab. \nJetzt Tickets sichern unter: www.sunset-beach-festival.de \nFoto: Canva
URL:https://haltern-online.de/event/sunset-beach-festival-mit-nena-alphaville/
LOCATION:Seebad Haltern am See\, Hullerner Straße 52\, Haltern am See\, 45721\, Germany
CATEGORIES:Konzert
ATTACH;FMTTYPE=image/jpeg:https://haltern-online.de/wp-content/uploads/2025/05/festival-stock-bild.jpg
ORGANIZER;CN="Stadt Haltern am See":MAILTO:info@haltern-im-see.de
END:VEVENT
END:VCALENDAR