BEGIN:VCALENDAR
VERSION:2.0
PRODID:-//Haltern-Online.de - ECPv6.15.20//NONSGML v1.0//EN
CALSCALE:GREGORIAN
METHOD:PUBLISH
X-ORIGINAL-URL:https://haltern-online.de
X-WR-CALDESC:Veranstaltungen für Haltern-Online.de
REFRESH-INTERVAL;VALUE=DURATION:PT1H
X-Robots-Tag:noindex
X-PUBLISHED-TTL:PT1H
BEGIN:VTIMEZONE
TZID:Europe/Berlin
BEGIN:DAYLIGHT
TZOFFSETFROM:+0100
TZOFFSETTO:+0200
TZNAME:CEST
DTSTART:20240331T010000
END:DAYLIGHT
BEGIN:STANDARD
TZOFFSETFROM:+0200
TZOFFSETTO:+0100
TZNAME:CET
DTSTART:20241027T010000
END:STANDARD
BEGIN:DAYLIGHT
TZOFFSETFROM:+0100
TZOFFSETTO:+0200
TZNAME:CEST
DTSTART:20250330T010000
END:DAYLIGHT
BEGIN:STANDARD
TZOFFSETFROM:+0200
TZOFFSETTO:+0100
TZNAME:CET
DTSTART:20251026T010000
END:STANDARD
BEGIN:DAYLIGHT
TZOFFSETFROM:+0100
TZOFFSETTO:+0200
TZNAME:CEST
DTSTART:20260329T010000
END:DAYLIGHT
BEGIN:STANDARD
TZOFFSETFROM:+0200
TZOFFSETTO:+0100
TZNAME:CET
DTSTART:20261025T010000
END:STANDARD
END:VTIMEZONE
BEGIN:VEVENT
DTSTART;TZID=Europe/Berlin:20250109T080000
DTEND;TZID=Europe/Berlin:20250109T170000
DTSTAMP:20260423T081746
CREATED:20250109T085244Z
LAST-MODIFIED:20250109T085403Z
UID:10000188-1736409600-1736442000@haltern-online.de
SUMMARY:Cover Night Vol. II im Trigon Haltern
DESCRIPTION:Im Februar wird es rockig: Die zweite Rock-Cover Night im Trigon Haltern steht an! Freut euch auf eine energiegeladene Show von gleich drei erstklassigen Bands aus dem Ruhrgebiet. Rysedown\, Sustained Fire und Fools of Rock heizen mit ihren besten Cover-Songs so richtig ein und machen den Abend zu einem Highlight für alle Rockfans. \nWeitere Infos: \n\nRysedown auf Facebook\nFools of Rock auf Facebook\nSustained Fire auf Facebook\n\nBild: Trigon Haltern
URL:https://haltern-online.de/event/cover-night-vol-ii-im-trigon-haltern/
LOCATION:Trigon Haltern\, Weseler Straße 131\, Haltern\, 45721
CATEGORIES:Konzert
ATTACH;FMTTYPE=image/jpeg:https://haltern-online.de/wp-content/uploads/2025/01/Cover-Night-Trigon-2025.jpg
END:VEVENT
END:VCALENDAR