BEGIN:VCALENDAR
VERSION:2.0
PRODID:-//Haltern-Online.de - ECPv6.15.20//NONSGML v1.0//EN
CALSCALE:GREGORIAN
METHOD:PUBLISH
X-ORIGINAL-URL:https://haltern-online.de
X-WR-CALDESC:Veranstaltungen für Haltern-Online.de
REFRESH-INTERVAL;VALUE=DURATION:PT1H
X-Robots-Tag:noindex
X-PUBLISHED-TTL:PT1H
BEGIN:VTIMEZONE
TZID:Europe/Berlin
BEGIN:DAYLIGHT
TZOFFSETFROM:+0100
TZOFFSETTO:+0200
TZNAME:CEST
DTSTART:20240331T010000
END:DAYLIGHT
BEGIN:STANDARD
TZOFFSETFROM:+0200
TZOFFSETTO:+0100
TZNAME:CET
DTSTART:20241027T010000
END:STANDARD
BEGIN:DAYLIGHT
TZOFFSETFROM:+0100
TZOFFSETTO:+0200
TZNAME:CEST
DTSTART:20250330T010000
END:DAYLIGHT
BEGIN:STANDARD
TZOFFSETFROM:+0200
TZOFFSETTO:+0100
TZNAME:CET
DTSTART:20251026T010000
END:STANDARD
BEGIN:DAYLIGHT
TZOFFSETFROM:+0100
TZOFFSETTO:+0200
TZNAME:CEST
DTSTART:20260329T010000
END:DAYLIGHT
BEGIN:STANDARD
TZOFFSETFROM:+0200
TZOFFSETTO:+0100
TZNAME:CET
DTSTART:20261025T010000
END:STANDARD
BEGIN:DAYLIGHT
TZOFFSETFROM:+0100
TZOFFSETTO:+0200
TZNAME:CEST
DTSTART:20270328T010000
END:DAYLIGHT
BEGIN:STANDARD
TZOFFSETFROM:+0200
TZOFFSETTO:+0100
TZNAME:CET
DTSTART:20271031T010000
END:STANDARD
END:VTIMEZONE
BEGIN:VEVENT
DTSTART;TZID=Europe/Berlin:20260419T140000
DTEND;TZID=Europe/Berlin:20260419T235900
DTSTAMP:20260420T110330
CREATED:20260223T155659Z
LAST-MODIFIED:20260223T155659Z
UID:10000437-1776607200-1776643140@haltern-online.de
SUMMARY:Kanu-Erlebnistour auf der Lippe
DESCRIPTION:Die Stadtagentur Haltern am See bietet in Zusammenarbeit mit Lippe-Kanu-Tours aus Dorsten auch in diesem Frühjahr und Sommer wieder eine spannende Kanu-Erlebnistour auf der Lippe an. \nDie rund 10 km lange Strecke führt durch das Naturschutzgebiet zwischen Datteln-Ahsen und Haltern-Flaesheim und eröffnet Einblicke in die sich windende Flusslandschaft mit ihren naturbelassenen Ufern. \nGestartet wird um 11 Uhr am Treffpunkt in Haltern-Flaesheim\, die Tour dauert insgesamt etwa vier Stunden. \nDer Preis für die Kanu-Erlebnistour auf der Lippe inklusive Bustransfer beträgt 36 Euro für Erwachsene und 24 Euro für Kinder bis 17 Jahre. Im Preis enthalten sind die Nutzung von 3er- und 4er-Canadiern\, Schwimmwesten\, ein wasserdichter Packsack\, die Begleitung durch erfahrene Tourenleiter\, der Bustransfer sowie der Transport der Boote. \nZur offiziellen Website der Lippe-Kanu-Tours geht es HIER. \nBildquelle: KI-generiert/Heimatmedien
URL:https://haltern-online.de/event/kanu-erlebnistour-auf-der-lippe/
LOCATION:Parkplatz Stiftskirche\, Flaesheimer Straße 357\, Haltern am See\, 46284\, Germany
CATEGORIES:Kinderfreundlich,Lifestyle,Natur,Sport
ATTACH;FMTTYPE=image/jpeg:https://haltern-online.de/wp-content/uploads/2025/09/Kanu-Tour-Lippe-in-Haltern.jpg
END:VEVENT
BEGIN:VEVENT
DTSTART;TZID=Europe/Berlin:20250914T110000
DTEND;TZID=Europe/Berlin:20250914T150000
DTSTAMP:20260420T110330
CREATED:20250623T072932Z
LAST-MODIFIED:20250623T072940Z
UID:10000284-1757847600-1757862000@haltern-online.de
SUMMARY:Sunny Sunday: Kanu-Erlebnistouren auf der Lippe
DESCRIPTION:In dieser Saison bietet die Stadtagentur in Kooperation mit LIPPE KANU-TOUREN wieder Kanu-Touren an. Erwachsene und Kinder genießen 4 Stunden voller Natur und Abenteuer und paddeln durch die wunderschöne Flusslandschaft. \nIm Teilnehmerpreis sind ein Bustransfer zum Ausgangspunkt\, die Nutzung von 3er- und/oder 4er-Canadiern\, Schwimmwesten\, ein wasserdichter Packsack sowie eine Begleitung während der Tour und der Transport der Boote enthalten. Erlebe die kurvenreiche Lippe aus einer neuen Perspektive und genieße ein einzigartiges Naturerlebnis. Der Fluss schlängelt sich über ca. 10 km durch das Naturschutzgebiet zwischen Datteln-Ahsen und Haltern-Flaesheim und bietet atemberaubende Ausblicke auf die Auenlandschaft. \nTermine: \n\nSonntag\, 20. Juli 2025\nSonntag\, 17. August 2025\nSonntag\, 14. September 2025\n\nKosten: Erwachsene 36\,00 €\, Kinder bis 17 Jahre zahlen 24\,00 €. \nEs besteht eine Mindestpersonenzahl von 13 Personen. Info und Anmeldung bis 3 Tage vor der Tour: Stadtagentur/Tourist-Information\, Markt 1\, 45721 Haltern am See\,\nTelefon 02364/933-365/-366\,\nE-Mail: stadtagentur@haltern.de oder\nwww.pretix.eu/tourismus
URL:https://haltern-online.de/event/sunny-sunday-kanu-erlebnistouren-auf-der-lippe-2/
LOCATION:Seeblick Haltern\, Strandallee 6\, Haltern am See\, Nordrhein-Westfalen\, 45721\, Germany
CATEGORIES:Kinderfreundlich
ATTACH;FMTTYPE=image/jpeg:https://haltern-online.de/wp-content/uploads/2025/06/online-ferienspass.jpg
ORGANIZER;CN="Stadt Haltern am See":MAILTO:info@haltern-im-see.de
END:VEVENT
BEGIN:VEVENT
DTSTART;TZID=Europe/Berlin:20250817T110000
DTEND;TZID=Europe/Berlin:20250817T150000
DTSTAMP:20260420T110330
CREATED:20250623T072959Z
LAST-MODIFIED:20250623T073004Z
UID:10000283-1755428400-1755442800@haltern-online.de
SUMMARY:Sunny Sunday: Kanu-Erlebnistouren auf der Lippe
DESCRIPTION:In dieser Saison bietet die Stadtagentur in Kooperation mit LIPPE KANU-TOUREN wieder Kanu-Touren an. Erwachsene und Kinder genießen 4 Stunden voller Natur und Abenteuer und paddeln durch die wunderschöne Flusslandschaft. \nIm Teilnehmerpreis sind ein Bustransfer zum Ausgangspunkt\, die Nutzung von 3er- und/oder 4er-Canadiern\, Schwimmwesten\, ein wasserdichter Packsack sowie eine Begleitung während der Tour und der Transport der Boote enthalten. Erlebe die kurvenreiche Lippe aus einer neuen Perspektive und genieße ein einzigartiges Naturerlebnis. Der Fluss schlängelt sich über ca. 10 km durch das Naturschutzgebiet zwischen Datteln-Ahsen und Haltern-Flaesheim und bietet atemberaubende Ausblicke auf die Auenlandschaft. \nTermine: \n\nSonntag\, 20. Juli 2025\nSonntag\, 17. August 2025\nSonntag\, 14. September 2025\n\nKosten: Erwachsene 36\,00 €\, Kinder bis 17 Jahre zahlen 24\,00 €. \nEs besteht eine Mindestpersonenzahl von 13 Personen. Info und Anmeldung bis 3 Tage vor der Tour: Stadtagentur/Tourist-Information\, Markt 1\, 45721 Haltern am See\,\nTelefon 02364/933-365/-366\,\nE-Mail: stadtagentur@haltern.de oder\nwww.pretix.eu/tourismus
URL:https://haltern-online.de/event/sunny-sunday-kanu-erlebnistouren-auf-der-lippe-3/
LOCATION:Seeblick Haltern\, Strandallee 6\, Haltern am See\, Nordrhein-Westfalen\, 45721\, Germany
CATEGORIES:Kinderfreundlich
ATTACH;FMTTYPE=image/jpeg:https://haltern-online.de/wp-content/uploads/2025/06/online-ferienspass.jpg
ORGANIZER;CN="Stadt Haltern am See":MAILTO:info@haltern-im-see.de
END:VEVENT
BEGIN:VEVENT
DTSTART;TZID=Europe/Berlin:20250720T110000
DTEND;TZID=Europe/Berlin:20250720T150000
DTSTAMP:20260420T110330
CREATED:20250623T073023Z
LAST-MODIFIED:20250623T073037Z
UID:10000282-1753009200-1753023600@haltern-online.de
SUMMARY:Sunny Sunday: Kanu-Erlebnistouren auf der Lippe
DESCRIPTION:In dieser Saison bietet die Stadtagentur in Kooperation mit LIPPE KANU-TOUREN wieder Kanu-Touren an. Erwachsene und Kinder genießen 4 Stunden voller Natur und Abenteuer und paddeln durch die wunderschöne Flusslandschaft. \nIm Teilnehmerpreis sind ein Bustransfer zum Ausgangspunkt\, die Nutzung von 3er- und/oder 4er-Canadiern\, Schwimmwesten\, ein wasserdichter Packsack sowie eine Begleitung während der Tour und der Transport der Boote enthalten. Erlebe die kurvenreiche Lippe aus einer neuen Perspektive und genieße ein einzigartiges Naturerlebnis. Der Fluss schlängelt sich über ca. 10 km durch das Naturschutzgebiet zwischen Datteln-Ahsen und Haltern-Flaesheim und bietet atemberaubende Ausblicke auf die Auenlandschaft. \nTermine: \n\nSonntag\, 20. Juli 2025\nSonntag\, 17. August 2025\nSonntag\, 14. September 2025\n\nKosten: Erwachsene 36\,00 €\, Kinder bis 17 Jahre zahlen 24\,00 €. \nEs besteht eine Mindestpersonenzahl von 13 Personen. Info und Anmeldung bis 3 Tage vor der Tour: Stadtagentur/Tourist-Information\, Markt 1\, 45721 Haltern am See\,\nTelefon 02364/933-365/-366\,\nE-Mail: stadtagentur@haltern.de oder\nwww.pretix.eu/tourismus
URL:https://haltern-online.de/event/sunny-sunday-kanu-erlebnistouren-auf-der-lippe-4/
LOCATION:Seeblick Haltern\, Strandallee 6\, Haltern am See\, Nordrhein-Westfalen\, 45721\, Germany
CATEGORIES:Kinderfreundlich
ATTACH;FMTTYPE=image/jpeg:https://haltern-online.de/wp-content/uploads/2025/06/online-ferienspass.jpg
ORGANIZER;CN="Stadt Haltern am See":MAILTO:info@haltern-im-see.de
END:VEVENT
BEGIN:VEVENT
DTSTART;TZID=Europe/Berlin:20250518T110000
DTEND;TZID=Europe/Berlin:20250518T150000
DTSTAMP:20260420T110330
CREATED:20250506T103913Z
LAST-MODIFIED:20250506T104038Z
UID:10000259-1747566000-1747580400@haltern-online.de
SUMMARY:Sunny Sunday: Kanu-Erlebnistouren auf der Lippe
DESCRIPTION:Mit dem Canadier auf Entdeckungstour: Bei der geführten Kanu-Erlebnistour „Sunny Sunday“ geht es auf etwa 10 Kilometern flussabwärts durch die beeindruckende Landschaft zwischen Datteln-Ahsen und Haltern-Flaesheim. \nIn kleinen Gruppen erleben die Teilnehmenden die Lippe aus der einzigartigen Perspektive des Bootes – naturbelassene Ufer\, stille Auen und ein sich windender Fluss mit vielen Gesichtern inklusive. \nZum Paket gehören: 3er/4er Canadier\, Schwimmwesten\, Packsäcke\, erfahrene Begleitung\, Bustransfer sowie Bootstransport. Die Teilnahme setzt eine Anmeldung voraus\, die spätestens bis Mittwoch vor der Tour erfolgen muss – direkt bei der Stadtagentur oder online. \nMindestteilnehmerzahl: 13 Personen \nEintritt/Teilnahmegebühr:Erwachsene: 36\,00 €Kinder bis 17 Jahre: 24\,00 €(inkl. Bustransfer\, Bootsmiete\, Ausrüstung und Tourenbegleitung) \nAnmeldung erforderlich bis Mittwoch vor der Tour:Tourist-Info Haltern\, Markt 1\, Tel. 02364 933-365/-366\, E-Mail: stadtagentur@haltern.de \nWeitere Termine:22.06. · 20.07. · 17.08. · 14.09.2025
URL:https://haltern-online.de/event/sunny-sunday-kanu-erlebnistouren-auf-der-lippe/
LOCATION:Seeblick Haltern\, Strandallee 6\, Haltern am See\, Nordrhein-Westfalen\, 45721\, Germany
CATEGORIES:Sport
ATTACH;FMTTYPE=image/jpeg:https://haltern-online.de/wp-content/uploads/2025/05/kanu.jpg
ORGANIZER;CN="Stadt Haltern am See":MAILTO:info@haltern-im-see.de
END:VEVENT
END:VCALENDAR