BEGIN:VCALENDAR
VERSION:2.0
PRODID:-//Haltern-Online.de - ECPv6.15.20//NONSGML v1.0//EN
CALSCALE:GREGORIAN
METHOD:PUBLISH
X-ORIGINAL-URL:https://haltern-online.de
X-WR-CALDESC:Veranstaltungen für Haltern-Online.de
REFRESH-INTERVAL;VALUE=DURATION:PT1H
X-Robots-Tag:noindex
X-PUBLISHED-TTL:PT1H
BEGIN:VTIMEZONE
TZID:Europe/Berlin
BEGIN:DAYLIGHT
TZOFFSETFROM:+0100
TZOFFSETTO:+0200
TZNAME:CEST
DTSTART:20240331T010000
END:DAYLIGHT
BEGIN:STANDARD
TZOFFSETFROM:+0200
TZOFFSETTO:+0100
TZNAME:CET
DTSTART:20241027T010000
END:STANDARD
BEGIN:DAYLIGHT
TZOFFSETFROM:+0100
TZOFFSETTO:+0200
TZNAME:CEST
DTSTART:20250330T010000
END:DAYLIGHT
BEGIN:STANDARD
TZOFFSETFROM:+0200
TZOFFSETTO:+0100
TZNAME:CET
DTSTART:20251026T010000
END:STANDARD
BEGIN:DAYLIGHT
TZOFFSETFROM:+0100
TZOFFSETTO:+0200
TZNAME:CEST
DTSTART:20260329T010000
END:DAYLIGHT
BEGIN:STANDARD
TZOFFSETFROM:+0200
TZOFFSETTO:+0100
TZNAME:CET
DTSTART:20261025T010000
END:STANDARD
END:VTIMEZONE
BEGIN:VEVENT
DTSTART;TZID=Europe/Berlin:20250213T193000
DTEND;TZID=Europe/Berlin:20250213T213000
DTSTAMP:20260423T060709
CREATED:20250119T111732Z
LAST-MODIFIED:20250119T111732Z
UID:10000191-1739475000-1739482200@haltern-online.de
SUMMARY:Lesung „Bin fast fertig\, muss nur noch anfangen“
DESCRIPTION:Lesung mit Nicole Staudinger „Bin fast fertig\, muss nur noch anfangen“ \nNicole Staudinger verrät uns am 13.02.2025 um 19:30 Uhr in der Buchhandlung Kortenkamp\, wie wir die Dinge auf unserer „Ich muss“-Liste entspannt und motiviert erledigen\, wie wir herausfinden\, was wir auf unsere „Ich will“-Liste setzen und wie wir beides aus Überzeugung und mit Freude tun. Mit ihrem persönlichen\, unterhaltsamen und alltagspraktischen Buch hilft sie uns dabei\, endlich in die Umsetzung zu kommen für ein erfülltes und selbstbestimmtes Leben. \nTickets für 20\,00 Euro sind in der Buchhandlung Kortenkamp erhältlich.
URL:https://haltern-online.de/event/lesung-bin-fast-fertig-muss-nur-noch-anfangen/
LOCATION:Buchhandlung Kortenkamp\, Lippstraße 2\, Haltern am See\, Nordrhein-Westfalen\, 45721\, Germany
CATEGORIES:Kultur,Lesung / Vortrag
ATTACH;FMTTYPE=image/jpeg:https://haltern-online.de/wp-content/uploads/2024/10/Literatur.jpg
ORGANIZER;CN="Buchhandlung Kortenkamp":MAILTO:service@kortenkamp.de
END:VEVENT
END:VCALENDAR