BEGIN:VCALENDAR
VERSION:2.0
PRODID:-//Haltern-Online.de - ECPv6.15.20//NONSGML v1.0//EN
CALSCALE:GREGORIAN
METHOD:PUBLISH
X-WR-CALNAME:Haltern-Online.de
X-ORIGINAL-URL:https://haltern-online.de
X-WR-CALDESC:Veranstaltungen für Haltern-Online.de
REFRESH-INTERVAL;VALUE=DURATION:PT1H
X-Robots-Tag:noindex
X-PUBLISHED-TTL:PT1H
BEGIN:VTIMEZONE
TZID:Europe/Berlin
BEGIN:DAYLIGHT
TZOFFSETFROM:+0100
TZOFFSETTO:+0200
TZNAME:CEST
DTSTART:20240331T010000
END:DAYLIGHT
BEGIN:STANDARD
TZOFFSETFROM:+0200
TZOFFSETTO:+0100
TZNAME:CET
DTSTART:20241027T010000
END:STANDARD
BEGIN:DAYLIGHT
TZOFFSETFROM:+0100
TZOFFSETTO:+0200
TZNAME:CEST
DTSTART:20250330T010000
END:DAYLIGHT
BEGIN:STANDARD
TZOFFSETFROM:+0200
TZOFFSETTO:+0100
TZNAME:CET
DTSTART:20251026T010000
END:STANDARD
BEGIN:DAYLIGHT
TZOFFSETFROM:+0100
TZOFFSETTO:+0200
TZNAME:CEST
DTSTART:20260329T010000
END:DAYLIGHT
BEGIN:STANDARD
TZOFFSETFROM:+0200
TZOFFSETTO:+0100
TZNAME:CET
DTSTART:20261025T010000
END:STANDARD
END:VTIMEZONE
BEGIN:VEVENT
DTSTART;TZID=Europe/Berlin:20251223T100000
DTEND;TZID=Europe/Berlin:20251223T123000
DTSTAMP:20260420T105022
CREATED:20251219T133201Z
LAST-MODIFIED:20251219T133201Z
UID:10000400-1766484000-1766493000@haltern-online.de
SUMMARY:Ferienaktion für Kinder im LWL-Römermuseum Haltern
DESCRIPTION:In der römischen Welt wimmelte es nur so von mächtigen Göttinnen und Göttern – doch wer waren sie eigentlich\, und was bedeuteten sie für das Leben der Menschen? \nIn dieser kreativen Ferienaktion für Kinder zwischen 8 und 12 Jahren lernen die Teilnehmenden bekannte Gottheiten wie Mars\, Merkur\, Venus und Victoria kennen\, entdecken römische Opfergaben und gestalten ihre eigenen Götterfiguren. \nEin spannender Vormittag voller Mythologie\, Geschichte und Bastelspaß\, ideal für neugierige Kinder in der Vorweihnachtszeit. \nFoto: Canva
URL:https://haltern-online.de/event/ferienaktion-fuer-kinder-im-lwl-roemermuseum-haltern/
LOCATION:LWL-Römermuseum\, Weseler Straße 100\, Haltern am See\, Nordrhein-Westfalen\, 45721\, Germany
CATEGORIES:Führung,Kinderfreundlich
ATTACH;FMTTYPE=image/jpeg:https://haltern-online.de/wp-content/uploads/2024/10/Roemermuseum.jpg
ORGANIZER;CN="LWL-R%C3%B6mermuseum":MAILTO:lwl-roemermuseum@lwl.org
END:VEVENT
BEGIN:VEVENT
DTSTART;TZID=Europe/Berlin:20251107T153000
DTEND;TZID=Europe/Berlin:20251107T170000
DTSTAMP:20260420T105022
CREATED:20251028T132734Z
LAST-MODIFIED:20251028T132734Z
UID:10000375-1762529400-1762534800@haltern-online.de
SUMMARY:So geht Druck! – Kreatives Drucken mit LEGO® DOTS
DESCRIPTION:Druckspaß für Familien in der Stadtbücherei Haltern am See \nAm Freitag\, 7. November 2025\, sind von 15:30 bis 17:00 Uhr Familien herzlich eingeladen\, in der Stadtbücherei Haltern am See gemeinsam kreativ zu werden: Beim Workshop „So geht Druck!“ dreht sich alles um fantasievolles Drucken – und zwar mit LEGO® DOTS! \nDie bunten LEGO®-Steinchen werden dabei zweckentfremdet und dienen als Stempel für individuelle Muster und Druckbilder. Ob Karten\, kleine Kunstwerke oder Geschenke – der Fantasie sind keine Grenzen gesetzt. Das Angebot richtet sich an Kinder mit Begleitung und eignet sich ideal für Familien mit jüngeren Kindern. \nFoto: Canva
URL:https://haltern-online.de/event/so-geht-druck-kreatives-drucken-mit-lego-dots-2/
LOCATION:Stadtbücherei Haltern am See\, Lavesumer Str. 1g\, Haltern am See\, Nordrhein-Westfalen\, 45721\, Germany
CATEGORIES:Kinderfreundlich
ATTACH;FMTTYPE=image/jpeg:https://haltern-online.de/wp-content/uploads/2024/10/Buecherei.jpg
ORGANIZER;CN="Stadtb%C3%BCcherei Haltern am See":MAILTO:stadtbuecherei@haltern.de
END:VEVENT
BEGIN:VEVENT
DTSTART;TZID=Europe/Berlin:20251008T160000
DTEND;TZID=Europe/Berlin:20251008T160000
DTSTAMP:20260420T105022
CREATED:20251001T120217Z
LAST-MODIFIED:20251001T120357Z
UID:10000337-1759939200-1759939200@haltern-online.de
SUMMARY:Bilderbuchkino mit Andrea: Henri und Henriette – Wir sind doch keine Angsthasen
DESCRIPTION:Beim Bilderbuchkino mit Andrea steht diesmal das liebevoll erzählte Kinderbuch „Henri und Henriette – Wir sind doch keine Angsthasen“ im Mittelpunkt. \nAuf großer Leinwand verfolgt das junge Publikum die Geschichte rund um Mut\, Freundschaft und das Überwinden von Ängsten – vorgelesen und begleitet von Andrea aus dem Team der Stadtbücherei. \nDie Veranstaltung richtet sich an Kinder im Kindergarten- und Grundschulalter. Eine Anmeldung ist erforderlich und ab dem 1. Oktober 2025 möglich. \nFoto: Canva
URL:https://haltern-online.de/event/bilderbuchkino-mit-andrea-henri-und-henriette-wir-sind-doch-keine-angsthasen/
LOCATION:Stadtbücherei Haltern am See\, Lavesumer Str. 1g\, Haltern am See\, Nordrhein-Westfalen\, 45721\, Germany
CATEGORIES:Kinderfreundlich
ATTACH;FMTTYPE=image/jpeg:https://haltern-online.de/wp-content/uploads/2024/10/Buchhandlung.jpg
ORGANIZER;CN="Stadtb%C3%BCcherei Haltern am See":MAILTO:stadtbuecherei@haltern.de
END:VEVENT
BEGIN:VEVENT
DTSTART;TZID=Europe/Berlin:20251003T140000
DTEND;TZID=Europe/Berlin:20251003T140000
DTSTAMP:20260420T105022
CREATED:20251001T114744Z
LAST-MODIFIED:20251001T114808Z
UID:10000335-1759500000-1759500000@haltern-online.de
SUMMARY:LWL-Römermuseum: Alltagsleben römischer Legionäre
DESCRIPTION:Wie lebten römische Soldaten fernab der Schlachtfelder? Bei dieser Familienführung im LWL-Römermuseum tauchen Kinder und Erwachsene gemeinsam in den Alltag römischer Legionäre ein. \nUniformen\, Ausrüstung und Lebensweise stehen im Mittelpunkt der rund einstündigen Führung\, die spannende Einblicke in das Leben vor 2000 Jahren bietet. \nDie Veranstaltung richtet sich an Familien mit Kindern ab zehn Jahren. Eine vorherige Anmeldung ist erforderlich. \nAnmeldung & Infos:Website: www.lwl-roemermuseum-haltern.deTelefon: 02364 93760 \nFoto: Canva
URL:https://haltern-online.de/event/lwl-roemermuseum-alltagsleben-roemischer-legionaere-3/
LOCATION:LWL-Römermuseum\, Weseler Straße 100\, Haltern am See\, Nordrhein-Westfalen\, 45721\, Germany
CATEGORIES:Kinderfreundlich
ATTACH;FMTTYPE=image/jpeg:https://haltern-online.de/wp-content/uploads/2024/10/Roemermuseum.jpg
ORGANIZER;CN="LWL-R%C3%B6mermuseum":MAILTO:lwl-roemermuseum@lwl.org
END:VEVENT
BEGIN:VEVENT
DTSTART;TZID=Europe/Berlin:20250821T140000
DTEND;TZID=Europe/Berlin:20250821T173000
DTSTAMP:20260420T105022
CREATED:20250715T130313Z
LAST-MODIFIED:20250715T130313Z
UID:10000316-1755784800-1755797400@haltern-online.de
SUMMARY:Grundschule Sythen: Chaos-Spiel
DESCRIPTION:Beim beliebten Chaos-Spiel an der Grundschule Sythen geht es am Aktionstag richtig rund. In zwei Altersgruppen erleben Kinder ein spannendes Geländespiel mit viel Bewegung\, kniffligen Wissensfragen und kreativen Teamaufgaben. \nDas Spiel fordert nicht nur Köpfchen\, sondern auch Zusammenarbeit und sportlichen Einsatz. Ob beim Laufen\, Suchen oder Kombinieren – Spaß und Spannung stehen im Mittelpunkt. \nFür wen:– Kinder von 5 bis 7 Jahren: 14:00 – 15:30 Uhr– Kinder von 8 bis 10 Jahren: 16:00 – 17:30 Uhr \nWann: 21.08.2025Wo: Grundschule Sythen\, Hellweg 20\, 45721 Haltern am SeeKosten: 2 Euro pro KindAnmeldung: erforderlich bis 10.08.2025 an ferienspiele-sythen@web.de
URL:https://haltern-online.de/event/grundschule-sythen-chaos-spiel/
LOCATION:Kath. Grundschulverbund Sythen-Lavesum\, Mosskamp 27\, Haltern am See\, Nordrhein-Westfalen\, 45721\, Germany
CATEGORIES:Kinderfreundlich
ATTACH;FMTTYPE=image/jpeg:https://haltern-online.de/wp-content/uploads/2025/07/Grundschule-Kopfbild.jpg
ORGANIZER;CN="Kath. Grundschulverbund Sythen-Lavesum":MAILTO:sekretariat@syla-haltern.de
END:VEVENT
BEGIN:VEVENT
DTSTART;TZID=Europe/Berlin:20250818T153000
DTEND;TZID=Europe/Berlin:20250818T173000
DTSTAMP:20260420T105022
CREATED:20250715T124738Z
LAST-MODIFIED:20250715T124738Z
UID:10000315-1755531000-1755538200@haltern-online.de
SUMMARY:Besichtigung der Feuerwache Sythen
DESCRIPTION:Wie sieht ein Feuerwehrauto von innen aus? Welche Ausrüstung tragen Feuerwehrleute im Einsatz? Am Montag\, 18. August 2025\, können Kinder im Alter von 5 bis 7 Jahren bei einer spannenden Besichtigung der Feuerwache Sythen von 15:30 bis 17:30 Uhr genau das herausfinden. \nDie jungen Teilnehmenden erleben vor Ort\, wie eine Feuerwache funktioniert. Fahrzeuge\, Schläuche\, Uniformen – hier darf geschaut und gefragt werden. Die Führung bietet einen kindgerechten Einblick in die Arbeit der Feuerwehr und zeigt\, was im Ernstfall passiert. \nFür wen: Kinder von 5 bis 7 JahrenWann: Montag\, 18.08.2025\, 15:30 bis 17:30 UhrWo: Feuerwache Sythen\, Borkener Str. 147\, 45721 Haltern am SeeKosten: 2 Euro pro KindAnmeldung: erforderlich bis zum 10.08.2025 per E-Mail an fsp-sythen@gmx.de
URL:https://haltern-online.de/event/besichtigung-der-feuerwache-sythen/
LOCATION:Feuerwache Sythen\, Von-Galen-Straße 16\, Haltern am See\, Nordrhein-Westfalen\, 45721\, Germany
CATEGORIES:Kinderfreundlich
ATTACH;FMTTYPE=image/jpeg:https://haltern-online.de/wp-content/uploads/2025/07/Feuerwehr-Kopfbild.jpg
END:VEVENT
BEGIN:VEVENT
DTSTART;TZID=Europe/Berlin:20250813T100000
DTEND;TZID=Europe/Berlin:20250813T123000
DTSTAMP:20260420T105022
CREATED:20250715T121940Z
LAST-MODIFIED:20250715T121940Z
UID:10000314-1755079200-1755088200@haltern-online.de
SUMMARY:Auf die Grabung\, fertig\, los! – LWL-Römermuseum
DESCRIPTION:Archäologie live erleben – das können Kinder im Alter von 8 bis 12 Jahren bei der Sommerferienaktion „Auf die Grabung\, fertig\, los!“ des LWL-Römermuseums Haltern. \nVon Mittwoch\, 13. August\, bis Freitag\, 15. August 2025\, jeweils von 10 bis 12:30 Uhr\, nehmen die Teilnehmenden an einer echten Ausgrabung teil – ausgestattet mit Kelle\, Pinsel und fachkundiger Anleitung. \nAuf dem Gelände des Römermuseums warten mehrere Kubikmeter Erde darauf\, untersucht zu werden. So lernen die Kinder spielerisch\, wie Archäologen vorgehen\, um Spuren der Vergangenheit sichtbar zu machen. Die Aktion eignet sich besonders für neugierige Entdeckerinnen und Entdecker zwischen 8 und 12 Jahren. \nBitte an wettergerechte Kleidung\, Sonnenschutz und feste Schuhe denken. \nFür wen: Kinder von 8 bis 12 JahrenWann: Mittwoch\, 13.08. bis Freitag\, 15.08.2025\, jeweils 10:00 bis 12:30 UhrWo: Treffpunkt wird bei Anmeldung bekannt gegeben (LWL-Römermuseum Haltern)Kosten: 7 Euro Materialkosten pro Kind und TagAnmeldung: erforderlich unter www.lwl-roemermuseum-haltern.de
URL:https://haltern-online.de/event/auf-die-grabung-fertig-los-lwl-roemermuseum/
LOCATION:LWL-Römermuseum\, Weseler Straße 100\, Haltern am See\, Nordrhein-Westfalen\, 45721\, Germany
CATEGORIES:Kinderfreundlich
ATTACH;FMTTYPE=image/jpeg:https://haltern-online.de/wp-content/uploads/2024/10/Roemermuseum.jpg
ORGANIZER;CN="LWL-R%C3%B6mermuseum":MAILTO:lwl-roemermuseum@lwl.org
END:VEVENT
BEGIN:VEVENT
DTSTART;TZID=Europe/Berlin:20250810T110000
DTEND;TZID=Europe/Berlin:20250810T110000
DTSTAMP:20260420T105022
CREATED:20250715T115509Z
LAST-MODIFIED:20250715T115541Z
UID:10000313-1754823600-1754823600@haltern-online.de
SUMMARY:Auf dem Holzweg? – Überraschungsführung im LWL-Römermuseum
DESCRIPTION:Was hat Holz mit der römischen Geschichte zu tun? Bei der Überraschungsführung „Auf dem Holzweg?“ am Sonntag\, 10. August 2025\, um 11 Uhr\, dreht sich auf der Römerbaustelle Aliso alles um diesen vielseitigen Werkstoff – und darum\, wie er einst im römischen Lageralltag eingesetzt wurde. \nFamilien mit Kindern ab 8 Jahren erwartet eine besondere Führung\, bei der nicht alles vorhersehbar ist. Der Weg durch die Baustelle ergibt sich spontan – je nachdem\, welche Themen die Teilnehmenden mitbringen und welchen Pfad der Zufall vorgibt. Dabei geht es mal ins Detail\, mal in die Breite: vom römischen Werkzeug bis zur Holzkonstruktion ganzer Gebäude. \nFür wen: Familien mit Kindern ab 8 JahrenWann: Sonntag\, 10.08.2025\, 11:00 UhrWo: Römerbaustelle Aliso am LWL-Römermuseum Haltern\, Weseler Str. 100\, 45721 Haltern am SeeKosten: 2 Euro pro Person zzgl. Museumseintritt(Kinder und Jugendliche bis 17 Jahre haben freien Eintritt)Anmeldung: erforderlich unter www.lwl-roemermuseum-haltern.de \nTitelbild: Canva
URL:https://haltern-online.de/event/auf-dem-holzweg-ueberraschungsfuehrung-im-lwl-roemermuseum/
LOCATION:LWL-Römermuseum\, Weseler Straße 100\, Haltern am See\, Nordrhein-Westfalen\, 45721\, Germany
CATEGORIES:Kinderfreundlich
ATTACH;FMTTYPE=image/jpeg:https://haltern-online.de/wp-content/uploads/2024/10/Roemermuseum.jpg
ORGANIZER;CN="LWL-R%C3%B6mermuseum":MAILTO:lwl-roemermuseum@lwl.org
END:VEVENT
BEGIN:VEVENT
DTSTART;TZID=Europe/Berlin:20250803T110000
DTEND;TZID=Europe/Berlin:20250803T110000
DTSTAMP:20260420T105022
CREATED:20250715T113404Z
LAST-MODIFIED:20250715T114059Z
UID:10000311-1754218800-1754218800@haltern-online.de
SUMMARY:Mit Asterix durchs Römerlager – Familienführung im LWL-Römermuseum
DESCRIPTION:Was haben Asterix und Obelix mit der realen Römerzeit zu tun? Bei der Familienführung „Mit Asterix durchs Römerlager Haltern“ am Sonntag\, 3. August 2025\, um 11 Uhr entdecken Kinder ab 9 Jahren und ihre Familien\, wie nah sich Comic und Geschichte manchmal kommen. \nDie öffentliche Führung im LWL-Römermuseum vergleicht die witzige Comicwelt mit der historischen Wirklichkeit im römischen Haltern. Viele der Gegenstände\, die in den Asterix-Heften auftauchen\, lassen sich als echte archäologische Funde im Museum wiederfinden. Spielerisch und anschaulich lernen die Teilnehmenden\, was an Asterix erfunden ist – und was tatsächlich historisch belegt. \nFür wen: Familien mit Kindern ab 9 JahrenWann: Sonntag\, 03.08.2025\, 11:00 UhrWo: LWL-Römermuseum Haltern\, Weseler Str. 100\, 45721 Haltern am SeeKosten: 2 Euro pro Person zzgl. Museumseintritt(Kinder und Jugendliche bis 17 Jahre haben freien Eintritt)Anmeldung: erforderlich unter www.lwl-roemermuseum-haltern.de \nTitelbild: Canva
URL:https://haltern-online.de/event/mit-asterix-durchs-roemerlager-familienfuehrung-im-lwl-roemermuseum/
LOCATION:LWL-Römermuseum\, Weseler Straße 100\, Haltern am See\, Nordrhein-Westfalen\, 45721\, Germany
CATEGORIES:Kinderfreundlich
ATTACH;FMTTYPE=image/jpeg:https://haltern-online.de/wp-content/uploads/2024/10/Roemermuseum.jpg
ORGANIZER;CN="LWL-R%C3%B6mermuseum":MAILTO:lwl-roemermuseum@lwl.org
END:VEVENT
BEGIN:VEVENT
DTSTART;TZID=Europe/Berlin:20250801T100000
DTEND;TZID=Europe/Berlin:20250801T123000
DTSTAMP:20260420T105022
CREATED:20250715T105417Z
LAST-MODIFIED:20250715T110224Z
UID:10000310-1754042400-1754051400@haltern-online.de
SUMMARY:Auf die Grabung\, fertig\, los! – Sommerferienaktion beim LWL-Römermuseum
DESCRIPTION:Archäologie zum Mitmachen: Bei der Sommerferienaktion „Auf die Grabung\, fertig\, los!“ können Kinder im Alter von 8 bis 12 Jahren selbst zu kleinen Archäologinnen und Archäologen werden. \nAm Freitag\, 1. August 2025\, lädt das LWL-Römermuseum Haltern von 10 bis 12:30 Uhr zu einer echten Ausgrabung ein. Mehrere Kubikmeter Erde warten darauf\, systematisch durchsucht zu werden – ganz wie bei den Profis. \nDie Teilnehmenden erleben hautnah\, wie Geschichte sichtbar wird und wie spannend die Arbeit mit Kelle und Pinsel sein kann. Fachkundige Anleitung und echtes Grabungsmaterial machen den Vormittag zu einem besonderen Ferienerlebnis. \nBitte an feste Schuhe\, wetterfeste Kleidung und Sonnenschutz denken. \nFür wen: Kinder von 8 bis 12 JahrenWann: Freitag\, 01.08.2025\, 10:00 bis 12:30 UhrWo: Treffpunkt wird nach Anmeldung bekannt gegebenKosten: 7 Euro Materialkosten pro KindAnmeldung: erforderlich unter www.lwl-roemermuseum-haltern.de \nTitelbild: Canva
URL:https://haltern-online.de/event/auf-die-grabung-fertig-los-sommerferienaktion-beim-lwl-roemermuseum/
LOCATION:LWL-Römermuseum\, Weseler Straße 100\, Haltern am See\, Nordrhein-Westfalen\, 45721\, Germany
CATEGORIES:Kinderfreundlich
ATTACH;FMTTYPE=image/jpeg:https://haltern-online.de/wp-content/uploads/2024/10/Roemermuseum.jpg
ORGANIZER;CN="LWL-R%C3%B6mermuseum":MAILTO:lwl-roemermuseum@lwl.org
END:VEVENT
END:VCALENDAR