BEGIN:VCALENDAR
VERSION:2.0
PRODID:-//Haltern-Online.de - ECPv6.15.20//NONSGML v1.0//EN
CALSCALE:GREGORIAN
METHOD:PUBLISH
X-ORIGINAL-URL:https://haltern-online.de
X-WR-CALDESC:Veranstaltungen für Haltern-Online.de
REFRESH-INTERVAL;VALUE=DURATION:PT1H
X-Robots-Tag:noindex
X-PUBLISHED-TTL:PT1H
BEGIN:VTIMEZONE
TZID:Europe/Berlin
BEGIN:DAYLIGHT
TZOFFSETFROM:+0100
TZOFFSETTO:+0200
TZNAME:CEST
DTSTART:20240331T010000
END:DAYLIGHT
BEGIN:STANDARD
TZOFFSETFROM:+0200
TZOFFSETTO:+0100
TZNAME:CET
DTSTART:20241027T010000
END:STANDARD
BEGIN:DAYLIGHT
TZOFFSETFROM:+0100
TZOFFSETTO:+0200
TZNAME:CEST
DTSTART:20250330T010000
END:DAYLIGHT
BEGIN:STANDARD
TZOFFSETFROM:+0200
TZOFFSETTO:+0100
TZNAME:CET
DTSTART:20251026T010000
END:STANDARD
BEGIN:DAYLIGHT
TZOFFSETFROM:+0100
TZOFFSETTO:+0200
TZNAME:CEST
DTSTART:20260329T010000
END:DAYLIGHT
BEGIN:STANDARD
TZOFFSETFROM:+0200
TZOFFSETTO:+0100
TZNAME:CET
DTSTART:20261025T010000
END:STANDARD
END:VTIMEZONE
BEGIN:VEVENT
DTSTART;TZID=Europe/Berlin:20251002T153000
DTEND;TZID=Europe/Berlin:20251002T170000
DTSTAMP:20260422T180725
CREATED:20251001T105809Z
LAST-MODIFIED:20251001T105809Z
UID:10000334-1759419000-1759424400@haltern-online.de
SUMMARY:Malwerkstatt für Kinder ab 6 Jahren
DESCRIPTION:In der Malwerkstatt im Künstlerhof Lavesum entdecken Kinder ab sechs Jahren die Welt der Farben. \nUnter fachkundiger Anleitung von Bettina Nowak können sie spielerisch malen\, gestalten und ihrer Fantasie freien Lauf lassen. Die kleine Gruppengröße schafft eine entspannte Atmosphäre\, in der individuelle Kreativität gefördert wird. \nDie Teilnahme eignet sich sowohl für Anfänger als auch für Kinder mit ersten Vorkenntnissen. Alle Materialien werden gestellt. Eine vorherige Anmeldung ist erforderlich. \nKontakt & Anmeldung:Bettina NowakTelefon: 0178 9810610E-Mail: info@malemitliebe.de \nFoto: Canva
URL:https://haltern-online.de/event/malwerkstatt-fuer-kinder-ab-6-jahren/
LOCATION:Künstlerhof Lavesum\, Am Friedhof 25\, Haltern am See\, 45721
CATEGORIES:Kinderfreundlich
ATTACH;FMTTYPE=image/jpeg:https://haltern-online.de/wp-content/uploads/2024/11/Kunst.jpg
END:VEVENT
BEGIN:VEVENT
DTSTART;TZID=Europe/Berlin:20251004T110000
DTEND;TZID=Europe/Berlin:20251004T120000
DTSTAMP:20260422T180725
CREATED:20251001T115626Z
LAST-MODIFIED:20251001T115626Z
UID:10000336-1759575600-1759579200@haltern-online.de
SUMMARY:Mein Papa liest vor…
DESCRIPTION:Die Stadtbücherei Haltern lädt Kinder zu einer besonderen Vorlesestunde ein: Bei „Mein Papa liest vor…“ stehen Väter im Mittelpunkt\, die ihren Kindern und anderen kleinen Zuhörerinnen und Zuhörern spannende Geschichten vorlesen. \nDie Aktion richtet sich an Kinder im Vor- und Grundschulalter und möchte nicht nur die Freude am Zuhören fördern\, sondern auch Papas aktiv ins Vorlesegeschehen einbinden. Eine Anmeldung ist erforderlich und ab dem 1. Oktober 2025 möglich. \nFoto: Canva
URL:https://haltern-online.de/event/mein-papa-liest-vor/
LOCATION:Stadtbücherei Haltern am See\, Lavesumer Str. 1g\, Haltern am See\, Nordrhein-Westfalen\, 45721\, Germany
CATEGORIES:Kinderfreundlich
ATTACH;FMTTYPE=image/jpeg:https://haltern-online.de/wp-content/uploads/2024/10/Buchhandlung.jpg
ORGANIZER;CN="Stadtb%C3%BCcherei Haltern am See":MAILTO:stadtbuecherei@haltern.de
END:VEVENT
BEGIN:VEVENT
DTSTART;TZID=Europe/Berlin:20251012T140000
DTEND;TZID=Europe/Berlin:20251012T140000
DTSTAMP:20260422T180725
CREATED:20251001T123956Z
LAST-MODIFIED:20251001T124147Z
UID:10000338-1760277600-1760277600@haltern-online.de
SUMMARY:Auf die Grabung\, fertig\, los!
DESCRIPTION:Wie arbeiten Archäologinnen und Archäologen? Was passiert bei einer Ausgrabung? Diese spannende Familienführung gibt Kindern ab acht Jahren und ihren Eltern Einblicke in die Welt der archäologischen Forschung. \nIm LWL-Römermuseum erleben die Teilnehmenden\, wie Grabungstechnik funktioniert\, welche Werkzeuge verwendet werden und wie Funde dokumentiert werden. \nEine Anmeldung zur Führung ist erforderlich. \nFoto: Canva
URL:https://haltern-online.de/event/auf-die-grabung-fertig-los/
LOCATION:LWL-Römermuseum\, Weseler Straße 100\, Haltern am See\, Nordrhein-Westfalen\, 45721\, Germany
CATEGORIES:Kinderfreundlich
ATTACH;FMTTYPE=image/jpeg:https://haltern-online.de/wp-content/uploads/2024/10/Roemermuseum.jpg
ORGANIZER;CN="LWL-R%C3%B6mermuseum":MAILTO:lwl-roemermuseum@lwl.org
END:VEVENT
END:VCALENDAR