BEGIN:VCALENDAR
VERSION:2.0
PRODID:-//Haltern-Online.de - ECPv6.15.20//NONSGML v1.0//EN
CALSCALE:GREGORIAN
METHOD:PUBLISH
X-WR-CALNAME:Haltern-Online.de
X-ORIGINAL-URL:https://haltern-online.de
X-WR-CALDESC:Veranstaltungen für Haltern-Online.de
REFRESH-INTERVAL;VALUE=DURATION:PT1H
X-Robots-Tag:noindex
X-PUBLISHED-TTL:PT1H
BEGIN:VTIMEZONE
TZID:Europe/Berlin
BEGIN:DAYLIGHT
TZOFFSETFROM:+0100
TZOFFSETTO:+0200
TZNAME:CEST
DTSTART:20240331T010000
END:DAYLIGHT
BEGIN:STANDARD
TZOFFSETFROM:+0200
TZOFFSETTO:+0100
TZNAME:CET
DTSTART:20241027T010000
END:STANDARD
BEGIN:DAYLIGHT
TZOFFSETFROM:+0100
TZOFFSETTO:+0200
TZNAME:CEST
DTSTART:20250330T010000
END:DAYLIGHT
BEGIN:STANDARD
TZOFFSETFROM:+0200
TZOFFSETTO:+0100
TZNAME:CET
DTSTART:20251026T010000
END:STANDARD
BEGIN:DAYLIGHT
TZOFFSETFROM:+0100
TZOFFSETTO:+0200
TZNAME:CEST
DTSTART:20260329T010000
END:DAYLIGHT
BEGIN:STANDARD
TZOFFSETFROM:+0200
TZOFFSETTO:+0100
TZNAME:CET
DTSTART:20261025T010000
END:STANDARD
END:VTIMEZONE
BEGIN:VEVENT
DTSTART;TZID=Europe/Berlin:20250705T110000
DTEND;TZID=Europe/Berlin:20250705T150000
DTSTAMP:20260422T222818
CREATED:20250621T155457Z
LAST-MODIFIED:20250621T155503Z
UID:10000281-1751713200-1751727600@haltern-online.de
SUMMARY:Segel-Club Haltern am See: Schnuppersegeln am Tag der offenen Tür
DESCRIPTION:HALTERN IST SEE- UND SEGELSTADT\nKurz vor den großen Sommerferien feiert der Segel-Club Haltern am See sein 75-jähriges Vereinsjubiläum und lädt am Samstag\, dem 5. Juli 2025\, die ganze Familie zum „Tag der offenen Tür“ ein. \nVon 11 bis 15 Uhr präsentiert sich der Traditionsverein auf dem Gelände an der Stadtmühle. Kinder und Jugendlich erhalten die Möglichkeit zum Schnupperpaddeln und Probesegeln! \nTermin: 5. Juli\, 11 bis 15 Uhr\, Ort: Segel-Club Haltern am See\, Zu den Mühlen 54 \nWeitere Informationen: https://sc-haltern.de/
URL:https://haltern-online.de/event/segel-club-haltern-am-see-schnuppersegeln-am-tag-der-offenen-tuer/
LOCATION:Segel-Club Haltern am See\, zu den Mühlen 54\, Haltern am See\, Nordrhein-Westfalen\, 45721\, Germany
CATEGORIES:Kinderfreundlich
ATTACH;FMTTYPE=image/jpeg:https://haltern-online.de/wp-content/uploads/2025/06/online-ferienspass.jpg
ORGANIZER;CN="Segel-Club Haltern am See":MAILTO:info@sc-haltern.de
END:VEVENT
BEGIN:VEVENT
DTSTART;TZID=Europe/Berlin:20250710T000000
DTEND;TZID=Europe/Berlin:20250827T000000
DTSTAMP:20260422T222818
CREATED:20250621T154641Z
LAST-MODIFIED:20250621T154651Z
UID:10000278-1752105600-1756252800@haltern-online.de
SUMMARY:Stadtbücherei Haltern am See: Schmökern im Sommerleseclub 2025
DESCRIPTION:Der Sommerleseclub ist eines der größten Leseförderprojekte und ein Ferienangebot\, an dem Menschen jeden Alters als Lese-Team\, mit Freunden oder Familie\, oder auch solo teilnehmen können. \nEntdeckt in den Sommerferien gemeinsam die Stadtbücherei in Haltern am See als spannenden und inspirierenden Ort – dort steht Euch als Team eine große Auswahl an Büchern und Hörbüchern zur Verfügung\, leiht sie aus\, sammelt Stempel für gelesene Bücher und bewertet diese in einem Logbuch\, löst gemeinsam kreative Aufgaben\, zum Abschluss gibt es eine Urkunde und Abschlussparty für alle Leseratten und Schmökerfans. \nStart der Ausleihe: ab dem 10. Juli\nAbgabe der Logbücher bis zum 27. August\nwww.sommerleseclub.de
URL:https://haltern-online.de/event/stadtbuecherei-haltern-am-see-schmoekern-im-sommerleseclub-2025/
LOCATION:Stadtbücherei Haltern am See\, Lavesumer Str. 1g\, Haltern am See\, Nordrhein-Westfalen\, 45721\, Germany
CATEGORIES:Kinderfreundlich
ATTACH;FMTTYPE=image/jpeg:https://haltern-online.de/wp-content/uploads/2025/06/online-ferienspass.jpg
ORGANIZER;CN="Stadtb%C3%BCcherei Haltern am See":MAILTO:stadtbuecherei@haltern.de
END:VEVENT
BEGIN:VEVENT
DTSTART;TZID=Europe/Berlin:20250716T160000
DTEND;TZID=Europe/Berlin:20250716T180000
DTSTAMP:20260422T222818
CREATED:20250623T072904Z
LAST-MODIFIED:20250623T072909Z
UID:10000287-1752681600-1752688800@haltern-online.de
SUMMARY:Trigon: Flummis selbst herstellen
DESCRIPTION:Das Jugendzentrum Trigon bietet das ganze Jahr über vielfältige kulturelle und soziale Angebote und für die Sommerferien hat sich das Team ein Gute-Laune-Programm für die Kids einfallen lassen. \nDie Aktionen finden im Trigon statt. Eine Anmeldung ist nötig\, per Telefon unter 02364-92440 oder Mail: Trigon-haltern@t-online.de \nFlummis selbst herstellen? Aber sicher doch! Die Kids lernen unter Anleitung\, bunte und hüpfende Flummis herzustellen. Anschließend gibt einen eine „Spring-Check“: Welcher Flummi hüpft am höchsten und am weitesten? \nFür wen? Kids ab 8 Jahre!\nWann? 16. Juli 2025 von 16.00-18.00 Uhr\nWo? Trigon\, Weseler Straße 131\nKosten? 5\,00 €
URL:https://haltern-online.de/event/trigon-flummis-selbst-herstellen/
LOCATION:Trigon Haltern\, Weseler Straße 131\, Haltern\, 45721
CATEGORIES:Kinderfreundlich
ATTACH;FMTTYPE=image/jpeg:https://haltern-online.de/wp-content/uploads/2025/06/online-ferienspass.jpg
ORGANIZER;CN="Trigon":MAILTO:trigon-haltern@t-online.de
END:VEVENT
BEGIN:VEVENT
DTSTART;TZID=Europe/Berlin:20250717T160000
DTEND;TZID=Europe/Berlin:20250717T180000
DTSTAMP:20260422T222818
CREATED:20250624T113338Z
LAST-MODIFIED:20250624T113338Z
UID:10000303-1752768000-1752775200@haltern-online.de
SUMMARY:Spiel\, Sport & Spaß am Trigon Bauwagen!
DESCRIPTION:Das Jugendzentrum Trigon bietet das ganze Jahr über vielfältige kulturelle und soziale Angebote und für die Sommerferien hat sich das Team ein Gute-Laune-Programm für die Kids einfallen lassen. \nOhne Anmeldung\, einfach vorbeischauen! Am Trigon-Bauwagen warten Paula und Jarmira auf kreative\, neugierige und spielbegeisterte Kids ab 6 Jahren – das Duo hat jede Menge Spiel-\, Sport- und Bastelmaterial an Board. \nDer Trigon-Bauwagen ist an diesen Tagen in der Zeit von 16.00 Uhr bis 18.00 Uhr an folgenden Orten – eine Anmeldung ist nicht nötig. \nTermine: \n\n17. Juli 2025: Grundschule Flaesheim\n07. August 2025: Grundschule Lippramsdorf\n14. August 2025: Dorfplatz Hullern\n21. August 2025: Silverbergschule
URL:https://haltern-online.de/event/spiel-sport-spass-am-trigon-bauwagen/
LOCATION:Grundschule Flaesheim\, Zum Dachsberg 8\, Haltern am See\, 45721\, Germany
CATEGORIES:Kinderfreundlich
ATTACH;FMTTYPE=image/jpeg:https://haltern-online.de/wp-content/uploads/2025/06/online-ferienspass.jpg
ORGANIZER;CN="Trigon":MAILTO:trigon-haltern@t-online.de
END:VEVENT
BEGIN:VEVENT
DTSTART;TZID=Europe/Berlin:20250720T110000
DTEND;TZID=Europe/Berlin:20250720T170000
DTSTAMP:20260422T222818
CREATED:20250621T154903Z
LAST-MODIFIED:20250621T154903Z
UID:10000279-1753009200-1753030800@haltern-online.de
SUMMARY:LWL-Römermuseum: Wellness mit den Römern
DESCRIPTION:Die Römer waren regelrechte Wellness-Experten. Sie produzierten Cremes\, Badesalze und Massageöle und ließen sich damit in ihren Thermen verwöhnen. \nKinder und Erwachsene können von 12 bis 14 Uhr und von 15 bis 17 Uhr ihre eigenen Wellness-Produkte herstellen. Zusätzlich werden um 11 Uhr die Führung „Würfel aus Knochen\, Spielsteine aus Glas“ für Familien mit Kindern ab sechs Jahren und um 14 Uhr die Führung „Medizin und Hygiene im Römerlager“ für Erwachsene und Jugendliche ab 15 Jahren angeboten – hier wird um Anmeldung per Telefon oder E-Mail gebeten. Ganztägig ist im Museumskino die Edutainment-Reihe „Rom in Westfalen“ zu sehen. \nInfo und Eintrittspreise: www.lwl-roemermuseum-haltern.de
URL:https://haltern-online.de/event/lwl-roemermuseum-wellness-mit-den-roemern/
LOCATION:LWL-Römermuseum\, Weseler Straße 100\, Haltern am See\, Nordrhein-Westfalen\, 45721\, Germany
CATEGORIES:Kinderfreundlich
ATTACH;FMTTYPE=image/jpeg:https://haltern-online.de/wp-content/uploads/2025/06/online-ferienspass.jpg
ORGANIZER;CN="LWL-R%C3%B6mermuseum":MAILTO:lwl-roemermuseum@lwl.org
END:VEVENT
END:VCALENDAR