BEGIN:VCALENDAR
VERSION:2.0
PRODID:-//Haltern-Online.de - ECPv6.15.20//NONSGML v1.0//EN
CALSCALE:GREGORIAN
METHOD:PUBLISH
X-WR-CALNAME:Haltern-Online.de
X-ORIGINAL-URL:https://haltern-online.de
X-WR-CALDESC:Veranstaltungen für Haltern-Online.de
REFRESH-INTERVAL;VALUE=DURATION:PT1H
X-Robots-Tag:noindex
X-PUBLISHED-TTL:PT1H
BEGIN:VTIMEZONE
TZID:Europe/Berlin
BEGIN:DAYLIGHT
TZOFFSETFROM:+0100
TZOFFSETTO:+0200
TZNAME:CEST
DTSTART:20240331T010000
END:DAYLIGHT
BEGIN:STANDARD
TZOFFSETFROM:+0200
TZOFFSETTO:+0100
TZNAME:CET
DTSTART:20241027T010000
END:STANDARD
BEGIN:DAYLIGHT
TZOFFSETFROM:+0100
TZOFFSETTO:+0200
TZNAME:CEST
DTSTART:20250330T010000
END:DAYLIGHT
BEGIN:STANDARD
TZOFFSETFROM:+0200
TZOFFSETTO:+0100
TZNAME:CET
DTSTART:20251026T010000
END:STANDARD
BEGIN:DAYLIGHT
TZOFFSETFROM:+0100
TZOFFSETTO:+0200
TZNAME:CEST
DTSTART:20260329T010000
END:DAYLIGHT
BEGIN:STANDARD
TZOFFSETFROM:+0200
TZOFFSETTO:+0100
TZNAME:CET
DTSTART:20261025T010000
END:STANDARD
BEGIN:DAYLIGHT
TZOFFSETFROM:+0100
TZOFFSETTO:+0200
TZNAME:CEST
DTSTART:20270328T010000
END:DAYLIGHT
BEGIN:STANDARD
TZOFFSETFROM:+0200
TZOFFSETTO:+0100
TZNAME:CET
DTSTART:20271031T010000
END:STANDARD
END:VTIMEZONE
BEGIN:VEVENT
DTSTART;TZID=Europe/Berlin:20260216T131100
DTEND;TZID=Europe/Berlin:20260216T235900
DTSTAMP:20260420T110223
CREATED:20260120T111520Z
LAST-MODIFIED:20260126T093428Z
UID:10000412-1771247460-1771286340@haltern-online.de
SUMMARY:„Kinder-Karnevals-Umzug“ mit den Seestadt-Jecken
DESCRIPTION:Um 13:11 Uhr startet der „Kinder-Karnevals-Umzug“ mit den Seestadt-Jecken durch die Innenstadt in Haltern. Rund 20 Kleingruppen\, zwei Spielmannszüge sowie das Prinzenpaar ziehen über die Rekumer Straße zum Marktplatz.  \nVon dort führt die Strecke über den Disselhof zurück zum Marktplatz\, wo der Umzug gegen 15 Uhr endet. Entlang der Strecke und auf dem Marktplatz sind alle Besucherinnen und Besucher herzlich eingeladen mitzufeiern. Für reichlich Wurfmaterial ist gesorgt. Ab etwa 15 Uhr schließt sich auf dem Marktplatz vor der Sixtus-Kirche ein familienfreundliches Bühnenprogramm an. Nach der Begrüßung durch die Vereinsvorsitzenden und einem Grußwort des Bürgermeisters folgen unter anderem Auftritte der Tanzgarden „Blaue KITT-Funken Olfen“. \nBereits ab 13:11 Uhr sorgt Karnevalsmusik mit DJ für Stimmung. Ein Höhepunkt ist der Live-Auftritt des Halterner Duos CoconutBanane\, das den neuen Vereinssong „Helau Again“ präsentiert. \nGetränke- und Essensstände sind ab Umzugsbeginn geöffnet. Gegen 17 Uhr endet das Programm mit der Tombola-Auslosung. Ab 17:11 Uhr lädt das DJ-Trio „MARNEDÖ“ zur After-Zoch-Party im Kolpingtreff ein. \nWeitere Informationen:  \nSeestadt-Jecken e.V. – Kinderkarneval in Haltern am See \nBildquelle: Heimatmedien
URL:https://haltern-online.de/event/kinder-karnevals-umzug-mit-den-seestadt-jecken/
LOCATION:Haltern am See
CATEGORIES:Hobby,Kinderfreundlich,Party,Stadtfeste
ATTACH;FMTTYPE=image/jpeg:https://haltern-online.de/wp-content/uploads/2026/01/Kinder-Karneval-Haltern-1200-1.jpg
END:VEVENT
BEGIN:VEVENT
DTSTART;TZID=Europe/Berlin:20250303T161100
DTEND;TZID=Europe/Berlin:20250303T231500
DTSTAMP:20260420T110223
CREATED:20250216T153532Z
LAST-MODIFIED:20250216T153532Z
UID:10000221-1741018260-1741043700@haltern-online.de
SUMMARY:"Haltern Helau"\, Rosenmontag im Kolpingtreff
DESCRIPTION:Die MARNEDÖ Rosenmontag-Karnevalsparty 2025 – Das Original zieht um!\nLiebe Karnevalsfreunde\, große Neuigkeiten für alle Jecken und Partylöwen! Die legendäre HenSeDö / MARNEDÖ Karnevalsparty zieht um und startet in eine neue Ära: \nNEUE Location: Kolpingtreff Haltern am See \nAb 16:11 Uhr – Direkt nach dem Kinderkarneval und Platzkonzert des Hullerner Spielmannszugs. DJ Dölfi\, DJ Schenko und DJ Felti haben wieder alles vorbereitet für einen unvergesslichen Rosenmontag! \nTickets: 10\,00 Euro im Modehaus van Buer \nHaltern Helau und Alaaf! Kommt und feiert mit uns die LEGENDÄRE HenSeDö / MARNEDÖ Karnevalsparty noch größer im Kolpingtreff!
URL:https://haltern-online.de/event/haltern-helau-rosenmontag-im-kolpingtreff/
LOCATION:Kolping-Treff\, Disselhof 26\, Haltern am See\, 45721\, Germany
CATEGORIES:Essen&Trinken,Party
ATTACH;FMTTYPE=image/jpeg:https://haltern-online.de/wp-content/uploads/2025/01/Kinderkarneval-e1737014652609.jpg
END:VEVENT
BEGIN:VEVENT
DTSTART;TZID=Europe/Berlin:20250303T111500
DTEND;TZID=Europe/Berlin:20250303T170000
DTSTAMP:20260420T110223
CREATED:20250216T152827Z
LAST-MODIFIED:20250216T152827Z
UID:10000220-1741000500-1741021200@haltern-online.de
SUMMARY:"Haltern Helau 4 Kids"\, Rosenmontag im Kolpingtreff
DESCRIPTION:Alle kleinen Jecken sind eingeladen zu einer fetzigen  Karnevalssause\nDJ Dölfi\, DJ Felti und DJ Arne (MARNEDÖ) werden euch musikalisch unterhalten. \nEin Clown\, junge Tänzerinnen und Tänzer des Tanzsportclubs und der Spielmannszug aus Hullern treten auf\, um den Kindern fröhliche Stunden bei Konfetti und Kamelle zu bieten. \nFür begleitende Eltern steht im Biergarten des Kolpingtreffs ein Zelt zur Verfügung. \nEintritt: 2\,00 Euro (inkl. 1 Getränk und 1 Snack)\, Karten gibt es in den beteiligten Kindergärten St. Marien und St. Andreas. \n 
URL:https://haltern-online.de/event/haltern-helau-4-kids-rosenmontag-im-kolpingtreff/
LOCATION:Kolping-Treff\, Disselhof 26\, Haltern am See\, 45721\, Germany
CATEGORIES:Essen&Trinken,Kinderfreundlich,Konzert,Party
ATTACH;FMTTYPE=image/jpeg:https://haltern-online.de/wp-content/uploads/2025/01/Kinderkarneval-e1737014652609.jpg
ORGANIZER;CN="Stadtwerke Haltern am See GmbH":MAILTO:info@stadtwerke-haltern.de
END:VEVENT
END:VCALENDAR